BEGIN:VCALENDAR
VERSION:2.0
PRODID:-//Tapster - ECPv6.6.3//NONSGML v1.0//EN
CALSCALE:GREGORIAN
METHOD:PUBLISH
X-ORIGINAL-URL:https://tapstertastingroom.com
X-WR-CALDESC:Events for Tapster
REFRESH-INTERVAL;VALUE=DURATION:PT1H
X-Robots-Tag:noindex
X-PUBLISHED-TTL:PT1H
BEGIN:VTIMEZONE
TZID:UTC
BEGIN:STANDARD
TZOFFSETFROM:+0000
TZOFFSETTO:+0000
TZNAME:UTC
DTSTART:20270101T000000
END:STANDARD
END:VTIMEZONE
BEGIN:VEVENT
DTSTART;VALUE=DATE:20271201
DTEND;VALUE=DATE:20271202
DTSTAMP:20260419T232828
CREATED:20221121T172335Z
LAST-MODIFIED:20230928T172220Z
UID:10004456-1827619200-1827705599@tapstertastingroom.com
SUMMARY:Wine Down Wednesdays
DESCRIPTION:Wednesday ALL DAY\nWine Down Wednesday\n$1.00 oz on all Wine
URL:https://tapstertastingroom.com/event/wine-down-wednesday/2027-12-01/
LOCATION:Seattle: South Lake Union\, Seattle\, WA
CATEGORIES:Tapster Seattle
ATTACH;FMTTYPE=image/jpeg:https://tapstertastingroom.com/wp-content/uploads/2023/09/WineWednesday.jpg
END:VEVENT
BEGIN:VEVENT
DTSTART;VALUE=DATE:20271208
DTEND;VALUE=DATE:20271209
DTSTAMP:20260419T232828
CREATED:20221121T172335Z
LAST-MODIFIED:20230928T172220Z
UID:10004457-1828224000-1828310399@tapstertastingroom.com
SUMMARY:Wine Down Wednesdays
DESCRIPTION:Wednesday ALL DAY\nWine Down Wednesday\n$1.00 oz on all Wine
URL:https://tapstertastingroom.com/event/wine-down-wednesday/2027-12-08/
LOCATION:Seattle: South Lake Union\, Seattle\, WA
CATEGORIES:Tapster Seattle
ATTACH;FMTTYPE=image/jpeg:https://tapstertastingroom.com/wp-content/uploads/2023/09/WineWednesday.jpg
END:VEVENT
BEGIN:VEVENT
DTSTART;VALUE=DATE:20271215
DTEND;VALUE=DATE:20271216
DTSTAMP:20260419T232828
CREATED:20221121T172335Z
LAST-MODIFIED:20230928T172220Z
UID:10004458-1828828800-1828915199@tapstertastingroom.com
SUMMARY:Wine Down Wednesdays
DESCRIPTION:Wednesday ALL DAY\nWine Down Wednesday\n$1.00 oz on all Wine
URL:https://tapstertastingroom.com/event/wine-down-wednesday/2027-12-15/
LOCATION:Seattle: South Lake Union\, Seattle\, WA
CATEGORIES:Tapster Seattle
ATTACH;FMTTYPE=image/jpeg:https://tapstertastingroom.com/wp-content/uploads/2023/09/WineWednesday.jpg
END:VEVENT
BEGIN:VEVENT
DTSTART;VALUE=DATE:20271222
DTEND;VALUE=DATE:20271223
DTSTAMP:20260419T232828
CREATED:20221121T172335Z
LAST-MODIFIED:20230928T172220Z
UID:10004459-1829433600-1829519999@tapstertastingroom.com
SUMMARY:Wine Down Wednesdays
DESCRIPTION:Wednesday ALL DAY\nWine Down Wednesday\n$1.00 oz on all Wine
URL:https://tapstertastingroom.com/event/wine-down-wednesday/2027-12-22/
LOCATION:Seattle: South Lake Union\, Seattle\, WA
CATEGORIES:Tapster Seattle
ATTACH;FMTTYPE=image/jpeg:https://tapstertastingroom.com/wp-content/uploads/2023/09/WineWednesday.jpg
END:VEVENT
BEGIN:VEVENT
DTSTART;VALUE=DATE:20271229
DTEND;VALUE=DATE:20271230
DTSTAMP:20260419T232828
CREATED:20221121T172335Z
LAST-MODIFIED:20230928T172220Z
UID:10004460-1830038400-1830124799@tapstertastingroom.com
SUMMARY:Wine Down Wednesdays
DESCRIPTION:Wednesday ALL DAY\nWine Down Wednesday\n$1.00 oz on all Wine
URL:https://tapstertastingroom.com/event/wine-down-wednesday/2027-12-29/
LOCATION:Seattle: South Lake Union\, Seattle\, WA
CATEGORIES:Tapster Seattle
ATTACH;FMTTYPE=image/jpeg:https://tapstertastingroom.com/wp-content/uploads/2023/09/WineWednesday.jpg
END:VEVENT
BEGIN:VEVENT
DTSTART;VALUE=DATE:20280105
DTEND;VALUE=DATE:20280106
DTSTAMP:20260419T232828
CREATED:20221121T172335Z
LAST-MODIFIED:20230928T172220Z
UID:10004461-1830643200-1830729599@tapstertastingroom.com
SUMMARY:Wine Down Wednesdays
DESCRIPTION:Wednesday ALL DAY\nWine Down Wednesday\n$1.00 oz on all Wine
URL:https://tapstertastingroom.com/event/wine-down-wednesday/2028-01-05/
LOCATION:Seattle: South Lake Union\, Seattle\, WA
CATEGORIES:Tapster Seattle
ATTACH;FMTTYPE=image/jpeg:https://tapstertastingroom.com/wp-content/uploads/2023/09/WineWednesday.jpg
END:VEVENT
BEGIN:VEVENT
DTSTART;VALUE=DATE:20280112
DTEND;VALUE=DATE:20280113
DTSTAMP:20260419T232828
CREATED:20221121T172335Z
LAST-MODIFIED:20230928T172220Z
UID:10004462-1831248000-1831334399@tapstertastingroom.com
SUMMARY:Wine Down Wednesdays
DESCRIPTION:Wednesday ALL DAY\nWine Down Wednesday\n$1.00 oz on all Wine
URL:https://tapstertastingroom.com/event/wine-down-wednesday/2028-01-12/
LOCATION:Seattle: South Lake Union\, Seattle\, WA
CATEGORIES:Tapster Seattle
ATTACH;FMTTYPE=image/jpeg:https://tapstertastingroom.com/wp-content/uploads/2023/09/WineWednesday.jpg
END:VEVENT
BEGIN:VEVENT
DTSTART;VALUE=DATE:20280119
DTEND;VALUE=DATE:20280120
DTSTAMP:20260419T232828
CREATED:20221121T172335Z
LAST-MODIFIED:20230928T172220Z
UID:10004463-1831852800-1831939199@tapstertastingroom.com
SUMMARY:Wine Down Wednesdays
DESCRIPTION:Wednesday ALL DAY\nWine Down Wednesday\n$1.00 oz on all Wine
URL:https://tapstertastingroom.com/event/wine-down-wednesday/2028-01-19/
LOCATION:Seattle: South Lake Union\, Seattle\, WA
CATEGORIES:Tapster Seattle
ATTACH;FMTTYPE=image/jpeg:https://tapstertastingroom.com/wp-content/uploads/2023/09/WineWednesday.jpg
END:VEVENT
BEGIN:VEVENT
DTSTART;VALUE=DATE:20280126
DTEND;VALUE=DATE:20280127
DTSTAMP:20260419T232828
CREATED:20221121T172335Z
LAST-MODIFIED:20230928T172220Z
UID:10004464-1832457600-1832543999@tapstertastingroom.com
SUMMARY:Wine Down Wednesdays
DESCRIPTION:Wednesday ALL DAY\nWine Down Wednesday\n$1.00 oz on all Wine
URL:https://tapstertastingroom.com/event/wine-down-wednesday/2028-01-26/
LOCATION:Seattle: South Lake Union\, Seattle\, WA
CATEGORIES:Tapster Seattle
ATTACH;FMTTYPE=image/jpeg:https://tapstertastingroom.com/wp-content/uploads/2023/09/WineWednesday.jpg
END:VEVENT
BEGIN:VEVENT
DTSTART;VALUE=DATE:20280202
DTEND;VALUE=DATE:20280203
DTSTAMP:20260419T232828
CREATED:20221121T172335Z
LAST-MODIFIED:20230928T172220Z
UID:10004465-1833062400-1833148799@tapstertastingroom.com
SUMMARY:Wine Down Wednesdays
DESCRIPTION:Wednesday ALL DAY\nWine Down Wednesday\n$1.00 oz on all Wine
URL:https://tapstertastingroom.com/event/wine-down-wednesday/2028-02-02/
LOCATION:Seattle: South Lake Union\, Seattle\, WA
CATEGORIES:Tapster Seattle
ATTACH;FMTTYPE=image/jpeg:https://tapstertastingroom.com/wp-content/uploads/2023/09/WineWednesday.jpg
END:VEVENT
BEGIN:VEVENT
DTSTART;VALUE=DATE:20280209
DTEND;VALUE=DATE:20280210
DTSTAMP:20260419T232828
CREATED:20221121T172335Z
LAST-MODIFIED:20230928T172220Z
UID:10004466-1833667200-1833753599@tapstertastingroom.com
SUMMARY:Wine Down Wednesdays
DESCRIPTION:Wednesday ALL DAY\nWine Down Wednesday\n$1.00 oz on all Wine
URL:https://tapstertastingroom.com/event/wine-down-wednesday/2028-02-09/
LOCATION:Seattle: South Lake Union\, Seattle\, WA
CATEGORIES:Tapster Seattle
ATTACH;FMTTYPE=image/jpeg:https://tapstertastingroom.com/wp-content/uploads/2023/09/WineWednesday.jpg
END:VEVENT
BEGIN:VEVENT
DTSTART;VALUE=DATE:20280216
DTEND;VALUE=DATE:20280217
DTSTAMP:20260419T232828
CREATED:20221121T172335Z
LAST-MODIFIED:20230928T172220Z
UID:10004467-1834272000-1834358399@tapstertastingroom.com
SUMMARY:Wine Down Wednesdays
DESCRIPTION:Wednesday ALL DAY\nWine Down Wednesday\n$1.00 oz on all Wine
URL:https://tapstertastingroom.com/event/wine-down-wednesday/2028-02-16/
LOCATION:Seattle: South Lake Union\, Seattle\, WA
CATEGORIES:Tapster Seattle
ATTACH;FMTTYPE=image/jpeg:https://tapstertastingroom.com/wp-content/uploads/2023/09/WineWednesday.jpg
END:VEVENT
BEGIN:VEVENT
DTSTART;VALUE=DATE:20280223
DTEND;VALUE=DATE:20280224
DTSTAMP:20260419T232829
CREATED:20221121T172335Z
LAST-MODIFIED:20230928T172220Z
UID:10004468-1834876800-1834963199@tapstertastingroom.com
SUMMARY:Wine Down Wednesdays
DESCRIPTION:Wednesday ALL DAY\nWine Down Wednesday\n$1.00 oz on all Wine
URL:https://tapstertastingroom.com/event/wine-down-wednesday/2028-02-23/
LOCATION:Seattle: South Lake Union\, Seattle\, WA
CATEGORIES:Tapster Seattle
ATTACH;FMTTYPE=image/jpeg:https://tapstertastingroom.com/wp-content/uploads/2023/09/WineWednesday.jpg
END:VEVENT
BEGIN:VEVENT
DTSTART;VALUE=DATE:20280301
DTEND;VALUE=DATE:20280302
DTSTAMP:20260419T232829
CREATED:20221121T172335Z
LAST-MODIFIED:20230928T172220Z
UID:10004469-1835481600-1835567999@tapstertastingroom.com
SUMMARY:Wine Down Wednesdays
DESCRIPTION:Wednesday ALL DAY\nWine Down Wednesday\n$1.00 oz on all Wine
URL:https://tapstertastingroom.com/event/wine-down-wednesday/2028-03-01/
LOCATION:Seattle: South Lake Union\, Seattle\, WA
CATEGORIES:Tapster Seattle
ATTACH;FMTTYPE=image/jpeg:https://tapstertastingroom.com/wp-content/uploads/2023/09/WineWednesday.jpg
END:VEVENT
BEGIN:VEVENT
DTSTART;VALUE=DATE:20280308
DTEND;VALUE=DATE:20280309
DTSTAMP:20260419T232829
CREATED:20221121T172335Z
LAST-MODIFIED:20230928T172220Z
UID:10004470-1836086400-1836172799@tapstertastingroom.com
SUMMARY:Wine Down Wednesdays
DESCRIPTION:Wednesday ALL DAY\nWine Down Wednesday\n$1.00 oz on all Wine
URL:https://tapstertastingroom.com/event/wine-down-wednesday/2028-03-08/
LOCATION:Seattle: South Lake Union\, Seattle\, WA
CATEGORIES:Tapster Seattle
ATTACH;FMTTYPE=image/jpeg:https://tapstertastingroom.com/wp-content/uploads/2023/09/WineWednesday.jpg
END:VEVENT
BEGIN:VEVENT
DTSTART;VALUE=DATE:20280315
DTEND;VALUE=DATE:20280316
DTSTAMP:20260419T232829
CREATED:20221121T172335Z
LAST-MODIFIED:20230928T172220Z
UID:10004471-1836691200-1836777599@tapstertastingroom.com
SUMMARY:Wine Down Wednesdays
DESCRIPTION:Wednesday ALL DAY\nWine Down Wednesday\n$1.00 oz on all Wine
URL:https://tapstertastingroom.com/event/wine-down-wednesday/2028-03-15/
LOCATION:Seattle: South Lake Union\, Seattle\, WA
CATEGORIES:Tapster Seattle
ATTACH;FMTTYPE=image/jpeg:https://tapstertastingroom.com/wp-content/uploads/2023/09/WineWednesday.jpg
END:VEVENT
BEGIN:VEVENT
DTSTART;VALUE=DATE:20280322
DTEND;VALUE=DATE:20280323
DTSTAMP:20260419T232829
CREATED:20221121T172335Z
LAST-MODIFIED:20230928T172220Z
UID:10004472-1837296000-1837382399@tapstertastingroom.com
SUMMARY:Wine Down Wednesdays
DESCRIPTION:Wednesday ALL DAY\nWine Down Wednesday\n$1.00 oz on all Wine
URL:https://tapstertastingroom.com/event/wine-down-wednesday/2028-03-22/
LOCATION:Seattle: South Lake Union\, Seattle\, WA
CATEGORIES:Tapster Seattle
ATTACH;FMTTYPE=image/jpeg:https://tapstertastingroom.com/wp-content/uploads/2023/09/WineWednesday.jpg
END:VEVENT
BEGIN:VEVENT
DTSTART;VALUE=DATE:20280329
DTEND;VALUE=DATE:20280330
DTSTAMP:20260419T232829
CREATED:20221121T172335Z
LAST-MODIFIED:20230928T172220Z
UID:10004473-1837900800-1837987199@tapstertastingroom.com
SUMMARY:Wine Down Wednesdays
DESCRIPTION:Wednesday ALL DAY\nWine Down Wednesday\n$1.00 oz on all Wine
URL:https://tapstertastingroom.com/event/wine-down-wednesday/2028-03-29/
LOCATION:Seattle: South Lake Union\, Seattle\, WA
CATEGORIES:Tapster Seattle
ATTACH;FMTTYPE=image/jpeg:https://tapstertastingroom.com/wp-content/uploads/2023/09/WineWednesday.jpg
END:VEVENT
BEGIN:VEVENT
DTSTART;VALUE=DATE:20280405
DTEND;VALUE=DATE:20280406
DTSTAMP:20260419T232829
CREATED:20221121T172335Z
LAST-MODIFIED:20230928T172220Z
UID:10004474-1838505600-1838591999@tapstertastingroom.com
SUMMARY:Wine Down Wednesdays
DESCRIPTION:Wednesday ALL DAY\nWine Down Wednesday\n$1.00 oz on all Wine
URL:https://tapstertastingroom.com/event/wine-down-wednesday/2028-04-05/
LOCATION:Seattle: South Lake Union\, Seattle\, WA
CATEGORIES:Tapster Seattle
ATTACH;FMTTYPE=image/jpeg:https://tapstertastingroom.com/wp-content/uploads/2023/09/WineWednesday.jpg
END:VEVENT
BEGIN:VEVENT
DTSTART;VALUE=DATE:20280412
DTEND;VALUE=DATE:20280413
DTSTAMP:20260419T232829
CREATED:20221121T172335Z
LAST-MODIFIED:20230928T172220Z
UID:10004475-1839110400-1839196799@tapstertastingroom.com
SUMMARY:Wine Down Wednesdays
DESCRIPTION:Wednesday ALL DAY\nWine Down Wednesday\n$1.00 oz on all Wine
URL:https://tapstertastingroom.com/event/wine-down-wednesday/2028-04-12/
LOCATION:Seattle: South Lake Union\, Seattle\, WA
CATEGORIES:Tapster Seattle
ATTACH;FMTTYPE=image/jpeg:https://tapstertastingroom.com/wp-content/uploads/2023/09/WineWednesday.jpg
END:VEVENT
BEGIN:VEVENT
DTSTART;VALUE=DATE:20280419
DTEND;VALUE=DATE:20280420
DTSTAMP:20260419T232829
CREATED:20221121T172335Z
LAST-MODIFIED:20230928T172220Z
UID:10004476-1839715200-1839801599@tapstertastingroom.com
SUMMARY:Wine Down Wednesdays
DESCRIPTION:Wednesday ALL DAY\nWine Down Wednesday\n$1.00 oz on all Wine
URL:https://tapstertastingroom.com/event/wine-down-wednesday/2028-04-19/
LOCATION:Seattle: South Lake Union\, Seattle\, WA
CATEGORIES:Tapster Seattle
ATTACH;FMTTYPE=image/jpeg:https://tapstertastingroom.com/wp-content/uploads/2023/09/WineWednesday.jpg
END:VEVENT
BEGIN:VEVENT
DTSTART;VALUE=DATE:20280426
DTEND;VALUE=DATE:20280427
DTSTAMP:20260419T232829
CREATED:20221121T172335Z
LAST-MODIFIED:20230928T172220Z
UID:10004477-1840320000-1840406399@tapstertastingroom.com
SUMMARY:Wine Down Wednesdays
DESCRIPTION:Wednesday ALL DAY\nWine Down Wednesday\n$1.00 oz on all Wine
URL:https://tapstertastingroom.com/event/wine-down-wednesday/2028-04-26/
LOCATION:Seattle: South Lake Union\, Seattle\, WA
CATEGORIES:Tapster Seattle
ATTACH;FMTTYPE=image/jpeg:https://tapstertastingroom.com/wp-content/uploads/2023/09/WineWednesday.jpg
END:VEVENT
BEGIN:VEVENT
DTSTART;VALUE=DATE:20280503
DTEND;VALUE=DATE:20280504
DTSTAMP:20260419T232829
CREATED:20221121T172335Z
LAST-MODIFIED:20230928T172220Z
UID:10004478-1840924800-1841011199@tapstertastingroom.com
SUMMARY:Wine Down Wednesdays
DESCRIPTION:Wednesday ALL DAY\nWine Down Wednesday\n$1.00 oz on all Wine
URL:https://tapstertastingroom.com/event/wine-down-wednesday/2028-05-03/
LOCATION:Seattle: South Lake Union\, Seattle\, WA
CATEGORIES:Tapster Seattle
ATTACH;FMTTYPE=image/jpeg:https://tapstertastingroom.com/wp-content/uploads/2023/09/WineWednesday.jpg
END:VEVENT
BEGIN:VEVENT
DTSTART;VALUE=DATE:20280510
DTEND;VALUE=DATE:20280511
DTSTAMP:20260419T232829
CREATED:20221121T172335Z
LAST-MODIFIED:20230928T172220Z
UID:10004479-1841529600-1841615999@tapstertastingroom.com
SUMMARY:Wine Down Wednesdays
DESCRIPTION:Wednesday ALL DAY\nWine Down Wednesday\n$1.00 oz on all Wine
URL:https://tapstertastingroom.com/event/wine-down-wednesday/2028-05-10/
LOCATION:Seattle: South Lake Union\, Seattle\, WA
CATEGORIES:Tapster Seattle
ATTACH;FMTTYPE=image/jpeg:https://tapstertastingroom.com/wp-content/uploads/2023/09/WineWednesday.jpg
END:VEVENT
BEGIN:VEVENT
DTSTART;VALUE=DATE:20280517
DTEND;VALUE=DATE:20280518
DTSTAMP:20260419T232829
CREATED:20221121T172335Z
LAST-MODIFIED:20230928T172220Z
UID:10004480-1842134400-1842220799@tapstertastingroom.com
SUMMARY:Wine Down Wednesdays
DESCRIPTION:Wednesday ALL DAY\nWine Down Wednesday\n$1.00 oz on all Wine
URL:https://tapstertastingroom.com/event/wine-down-wednesday/2028-05-17/
LOCATION:Seattle: South Lake Union\, Seattle\, WA
CATEGORIES:Tapster Seattle
ATTACH;FMTTYPE=image/jpeg:https://tapstertastingroom.com/wp-content/uploads/2023/09/WineWednesday.jpg
END:VEVENT
BEGIN:VEVENT
DTSTART;VALUE=DATE:20280524
DTEND;VALUE=DATE:20280525
DTSTAMP:20260419T232829
CREATED:20221121T172335Z
LAST-MODIFIED:20230928T172220Z
UID:10004481-1842739200-1842825599@tapstertastingroom.com
SUMMARY:Wine Down Wednesdays
DESCRIPTION:Wednesday ALL DAY\nWine Down Wednesday\n$1.00 oz on all Wine
URL:https://tapstertastingroom.com/event/wine-down-wednesday/2028-05-24/
LOCATION:Seattle: South Lake Union\, Seattle\, WA
CATEGORIES:Tapster Seattle
ATTACH;FMTTYPE=image/jpeg:https://tapstertastingroom.com/wp-content/uploads/2023/09/WineWednesday.jpg
END:VEVENT
BEGIN:VEVENT
DTSTART;VALUE=DATE:20280531
DTEND;VALUE=DATE:20280601
DTSTAMP:20260419T232829
CREATED:20221121T172335Z
LAST-MODIFIED:20230928T172220Z
UID:10004482-1843344000-1843430399@tapstertastingroom.com
SUMMARY:Wine Down Wednesdays
DESCRIPTION:Wednesday ALL DAY\nWine Down Wednesday\n$1.00 oz on all Wine
URL:https://tapstertastingroom.com/event/wine-down-wednesday/2028-05-31/
LOCATION:Seattle: South Lake Union\, Seattle\, WA
CATEGORIES:Tapster Seattle
ATTACH;FMTTYPE=image/jpeg:https://tapstertastingroom.com/wp-content/uploads/2023/09/WineWednesday.jpg
END:VEVENT
BEGIN:VEVENT
DTSTART;VALUE=DATE:20280607
DTEND;VALUE=DATE:20280608
DTSTAMP:20260419T232829
CREATED:20221121T172335Z
LAST-MODIFIED:20230928T172220Z
UID:10004483-1843948800-1844035199@tapstertastingroom.com
SUMMARY:Wine Down Wednesdays
DESCRIPTION:Wednesday ALL DAY\nWine Down Wednesday\n$1.00 oz on all Wine
URL:https://tapstertastingroom.com/event/wine-down-wednesday/2028-06-07/
LOCATION:Seattle: South Lake Union\, Seattle\, WA
CATEGORIES:Tapster Seattle
ATTACH;FMTTYPE=image/jpeg:https://tapstertastingroom.com/wp-content/uploads/2023/09/WineWednesday.jpg
END:VEVENT
BEGIN:VEVENT
DTSTART;VALUE=DATE:20280614
DTEND;VALUE=DATE:20280615
DTSTAMP:20260419T232829
CREATED:20221121T172335Z
LAST-MODIFIED:20230928T172220Z
UID:10004484-1844553600-1844639999@tapstertastingroom.com
SUMMARY:Wine Down Wednesdays
DESCRIPTION:Wednesday ALL DAY\nWine Down Wednesday\n$1.00 oz on all Wine
URL:https://tapstertastingroom.com/event/wine-down-wednesday/2028-06-14/
LOCATION:Seattle: South Lake Union\, Seattle\, WA
CATEGORIES:Tapster Seattle
ATTACH;FMTTYPE=image/jpeg:https://tapstertastingroom.com/wp-content/uploads/2023/09/WineWednesday.jpg
END:VEVENT
BEGIN:VEVENT
DTSTART;VALUE=DATE:20280621
DTEND;VALUE=DATE:20280622
DTSTAMP:20260419T232829
CREATED:20221121T172335Z
LAST-MODIFIED:20230928T172220Z
UID:10004485-1845158400-1845244799@tapstertastingroom.com
SUMMARY:Wine Down Wednesdays
DESCRIPTION:Wednesday ALL DAY\nWine Down Wednesday\n$1.00 oz on all Wine
URL:https://tapstertastingroom.com/event/wine-down-wednesday/2028-06-21/
LOCATION:Seattle: South Lake Union\, Seattle\, WA
CATEGORIES:Tapster Seattle
ATTACH;FMTTYPE=image/jpeg:https://tapstertastingroom.com/wp-content/uploads/2023/09/WineWednesday.jpg
END:VEVENT
END:VCALENDAR