BEGIN:VCALENDAR
VERSION:2.0
PRODID:-//Tapster - ECPv6.6.3//NONSGML v1.0//EN
CALSCALE:GREGORIAN
METHOD:PUBLISH
X-ORIGINAL-URL:https://tapstertastingroom.com
X-WR-CALDESC:Events for Tapster
REFRESH-INTERVAL;VALUE=DURATION:PT1H
X-Robots-Tag:noindex
X-PUBLISHED-TTL:PT1H
BEGIN:VTIMEZONE
TZID:UTC
BEGIN:STANDARD
TZOFFSETFROM:+0000
TZOFFSETTO:+0000
TZNAME:UTC
DTSTART:20270101T000000
END:STANDARD
END:VTIMEZONE
BEGIN:VEVENT
DTSTART;TZID=UTC:20270107T170000
DTEND;TZID=UTC:20270108T000000
DTSTAMP:20260424T214133
CREATED:20240613T134134Z
LAST-MODIFIED:20240613T134611Z
UID:10010685-1799341200-1799366400@tapstertastingroom.com
SUMMARY:Tapster Lincoln Park Happy Hour - Thursdays
DESCRIPTION:Tapster Lincoln Park Happy Hour \nfree popcorn\n$2.00 domestics \n25% off wine \nevery thursday\, 5pm-12am \nfriyay! 3pm-6:30pm \n \n  \n 
URL:https://tapstertastingroom.com/event/tapster-lincoln-park-happy-hour-thursdays/2027-01-07/
LOCATION:Chicago: Lincoln Park\, Chicago: Lincoln Park\, WA
CATEGORIES:Tapster Lincoln Park
ATTACH;FMTTYPE=image/webp:https://tapstertastingroom.com/wp-content/uploads/2024/06/Happy-Hour-2.webp
END:VEVENT
BEGIN:VEVENT
DTSTART;TZID=UTC:20270108T150000
DTEND;TZID=UTC:20270108T183000
DTSTAMP:20260424T214133
CREATED:20240613T134504Z
LAST-MODIFIED:20240613T134635Z
UID:10011207-1799420400-1799433000@tapstertastingroom.com
SUMMARY:Tapster Lincoln Park Happy Hour - Fridays
DESCRIPTION:Tapster Lincoln Park Happy Hour \nfree popcorn\n$2.00 domestics \n25% off wine \nevery thursday\, 5pm-12am \nfriyay! 3pm-6:30pm \n \n  \n 
URL:https://tapstertastingroom.com/event/tapster-lincoln-park-happy-hour-fridays/2027-01-08/
LOCATION:Chicago: Lincoln Park\, Chicago: Lincoln Park\, WA
CATEGORIES:Tapster Lincoln Park
ATTACH;FMTTYPE=image/webp:https://tapstertastingroom.com/wp-content/uploads/2024/06/Happy-Hour-2.webp
END:VEVENT
BEGIN:VEVENT
DTSTART;TZID=UTC:20270114T170000
DTEND;TZID=UTC:20270115T000000
DTSTAMP:20260424T214133
CREATED:20240613T134134Z
LAST-MODIFIED:20240613T134611Z
UID:10010686-1799946000-1799971200@tapstertastingroom.com
SUMMARY:Tapster Lincoln Park Happy Hour - Thursdays
DESCRIPTION:Tapster Lincoln Park Happy Hour \nfree popcorn\n$2.00 domestics \n25% off wine \nevery thursday\, 5pm-12am \nfriyay! 3pm-6:30pm \n \n  \n 
URL:https://tapstertastingroom.com/event/tapster-lincoln-park-happy-hour-thursdays/2027-01-14/
LOCATION:Chicago: Lincoln Park\, Chicago: Lincoln Park\, WA
CATEGORIES:Tapster Lincoln Park
ATTACH;FMTTYPE=image/webp:https://tapstertastingroom.com/wp-content/uploads/2024/06/Happy-Hour-2.webp
END:VEVENT
BEGIN:VEVENT
DTSTART;TZID=UTC:20270115T150000
DTEND;TZID=UTC:20270115T183000
DTSTAMP:20260424T214133
CREATED:20240613T134504Z
LAST-MODIFIED:20240613T134635Z
UID:10011208-1800025200-1800037800@tapstertastingroom.com
SUMMARY:Tapster Lincoln Park Happy Hour - Fridays
DESCRIPTION:Tapster Lincoln Park Happy Hour \nfree popcorn\n$2.00 domestics \n25% off wine \nevery thursday\, 5pm-12am \nfriyay! 3pm-6:30pm \n \n  \n 
URL:https://tapstertastingroom.com/event/tapster-lincoln-park-happy-hour-fridays/2027-01-15/
LOCATION:Chicago: Lincoln Park\, Chicago: Lincoln Park\, WA
CATEGORIES:Tapster Lincoln Park
ATTACH;FMTTYPE=image/webp:https://tapstertastingroom.com/wp-content/uploads/2024/06/Happy-Hour-2.webp
END:VEVENT
BEGIN:VEVENT
DTSTART;TZID=UTC:20270121T170000
DTEND;TZID=UTC:20270122T000000
DTSTAMP:20260424T214133
CREATED:20240613T134134Z
LAST-MODIFIED:20240613T134611Z
UID:10010687-1800550800-1800576000@tapstertastingroom.com
SUMMARY:Tapster Lincoln Park Happy Hour - Thursdays
DESCRIPTION:Tapster Lincoln Park Happy Hour \nfree popcorn\n$2.00 domestics \n25% off wine \nevery thursday\, 5pm-12am \nfriyay! 3pm-6:30pm \n \n  \n 
URL:https://tapstertastingroom.com/event/tapster-lincoln-park-happy-hour-thursdays/2027-01-21/
LOCATION:Chicago: Lincoln Park\, Chicago: Lincoln Park\, WA
CATEGORIES:Tapster Lincoln Park
ATTACH;FMTTYPE=image/webp:https://tapstertastingroom.com/wp-content/uploads/2024/06/Happy-Hour-2.webp
END:VEVENT
BEGIN:VEVENT
DTSTART;TZID=UTC:20270122T150000
DTEND;TZID=UTC:20270122T183000
DTSTAMP:20260424T214133
CREATED:20240613T134504Z
LAST-MODIFIED:20240613T134635Z
UID:10011209-1800630000-1800642600@tapstertastingroom.com
SUMMARY:Tapster Lincoln Park Happy Hour - Fridays
DESCRIPTION:Tapster Lincoln Park Happy Hour \nfree popcorn\n$2.00 domestics \n25% off wine \nevery thursday\, 5pm-12am \nfriyay! 3pm-6:30pm \n \n  \n 
URL:https://tapstertastingroom.com/event/tapster-lincoln-park-happy-hour-fridays/2027-01-22/
LOCATION:Chicago: Lincoln Park\, Chicago: Lincoln Park\, WA
CATEGORIES:Tapster Lincoln Park
ATTACH;FMTTYPE=image/webp:https://tapstertastingroom.com/wp-content/uploads/2024/06/Happy-Hour-2.webp
END:VEVENT
BEGIN:VEVENT
DTSTART;TZID=UTC:20270128T170000
DTEND;TZID=UTC:20270129T000000
DTSTAMP:20260424T214133
CREATED:20240613T134134Z
LAST-MODIFIED:20240613T134611Z
UID:10010688-1801155600-1801180800@tapstertastingroom.com
SUMMARY:Tapster Lincoln Park Happy Hour - Thursdays
DESCRIPTION:Tapster Lincoln Park Happy Hour \nfree popcorn\n$2.00 domestics \n25% off wine \nevery thursday\, 5pm-12am \nfriyay! 3pm-6:30pm \n \n  \n 
URL:https://tapstertastingroom.com/event/tapster-lincoln-park-happy-hour-thursdays/2027-01-28/
LOCATION:Chicago: Lincoln Park\, Chicago: Lincoln Park\, WA
CATEGORIES:Tapster Lincoln Park
ATTACH;FMTTYPE=image/webp:https://tapstertastingroom.com/wp-content/uploads/2024/06/Happy-Hour-2.webp
END:VEVENT
BEGIN:VEVENT
DTSTART;TZID=UTC:20270129T150000
DTEND;TZID=UTC:20270129T183000
DTSTAMP:20260424T214133
CREATED:20240613T134504Z
LAST-MODIFIED:20240613T134635Z
UID:10011210-1801234800-1801247400@tapstertastingroom.com
SUMMARY:Tapster Lincoln Park Happy Hour - Fridays
DESCRIPTION:Tapster Lincoln Park Happy Hour \nfree popcorn\n$2.00 domestics \n25% off wine \nevery thursday\, 5pm-12am \nfriyay! 3pm-6:30pm \n \n  \n 
URL:https://tapstertastingroom.com/event/tapster-lincoln-park-happy-hour-fridays/2027-01-29/
LOCATION:Chicago: Lincoln Park\, Chicago: Lincoln Park\, WA
CATEGORIES:Tapster Lincoln Park
ATTACH;FMTTYPE=image/webp:https://tapstertastingroom.com/wp-content/uploads/2024/06/Happy-Hour-2.webp
END:VEVENT
BEGIN:VEVENT
DTSTART;TZID=UTC:20270204T170000
DTEND;TZID=UTC:20270205T000000
DTSTAMP:20260424T214133
CREATED:20240613T134134Z
LAST-MODIFIED:20240613T134611Z
UID:10010689-1801760400-1801785600@tapstertastingroom.com
SUMMARY:Tapster Lincoln Park Happy Hour - Thursdays
DESCRIPTION:Tapster Lincoln Park Happy Hour \nfree popcorn\n$2.00 domestics \n25% off wine \nevery thursday\, 5pm-12am \nfriyay! 3pm-6:30pm \n \n  \n 
URL:https://tapstertastingroom.com/event/tapster-lincoln-park-happy-hour-thursdays/2027-02-04/
LOCATION:Chicago: Lincoln Park\, Chicago: Lincoln Park\, WA
CATEGORIES:Tapster Lincoln Park
ATTACH;FMTTYPE=image/webp:https://tapstertastingroom.com/wp-content/uploads/2024/06/Happy-Hour-2.webp
END:VEVENT
BEGIN:VEVENT
DTSTART;TZID=UTC:20270205T150000
DTEND;TZID=UTC:20270205T183000
DTSTAMP:20260424T214133
CREATED:20240613T134504Z
LAST-MODIFIED:20240613T134635Z
UID:10011211-1801839600-1801852200@tapstertastingroom.com
SUMMARY:Tapster Lincoln Park Happy Hour - Fridays
DESCRIPTION:Tapster Lincoln Park Happy Hour \nfree popcorn\n$2.00 domestics \n25% off wine \nevery thursday\, 5pm-12am \nfriyay! 3pm-6:30pm \n \n  \n 
URL:https://tapstertastingroom.com/event/tapster-lincoln-park-happy-hour-fridays/2027-02-05/
LOCATION:Chicago: Lincoln Park\, Chicago: Lincoln Park\, WA
CATEGORIES:Tapster Lincoln Park
ATTACH;FMTTYPE=image/webp:https://tapstertastingroom.com/wp-content/uploads/2024/06/Happy-Hour-2.webp
END:VEVENT
BEGIN:VEVENT
DTSTART;TZID=UTC:20270211T170000
DTEND;TZID=UTC:20270212T000000
DTSTAMP:20260424T214133
CREATED:20240613T134134Z
LAST-MODIFIED:20240613T134611Z
UID:10010690-1802365200-1802390400@tapstertastingroom.com
SUMMARY:Tapster Lincoln Park Happy Hour - Thursdays
DESCRIPTION:Tapster Lincoln Park Happy Hour \nfree popcorn\n$2.00 domestics \n25% off wine \nevery thursday\, 5pm-12am \nfriyay! 3pm-6:30pm \n \n  \n 
URL:https://tapstertastingroom.com/event/tapster-lincoln-park-happy-hour-thursdays/2027-02-11/
LOCATION:Chicago: Lincoln Park\, Chicago: Lincoln Park\, WA
CATEGORIES:Tapster Lincoln Park
ATTACH;FMTTYPE=image/webp:https://tapstertastingroom.com/wp-content/uploads/2024/06/Happy-Hour-2.webp
END:VEVENT
BEGIN:VEVENT
DTSTART;TZID=UTC:20270212T150000
DTEND;TZID=UTC:20270212T183000
DTSTAMP:20260424T214133
CREATED:20240613T134504Z
LAST-MODIFIED:20240613T134635Z
UID:10011212-1802444400-1802457000@tapstertastingroom.com
SUMMARY:Tapster Lincoln Park Happy Hour - Fridays
DESCRIPTION:Tapster Lincoln Park Happy Hour \nfree popcorn\n$2.00 domestics \n25% off wine \nevery thursday\, 5pm-12am \nfriyay! 3pm-6:30pm \n \n  \n 
URL:https://tapstertastingroom.com/event/tapster-lincoln-park-happy-hour-fridays/2027-02-12/
LOCATION:Chicago: Lincoln Park\, Chicago: Lincoln Park\, WA
CATEGORIES:Tapster Lincoln Park
ATTACH;FMTTYPE=image/webp:https://tapstertastingroom.com/wp-content/uploads/2024/06/Happy-Hour-2.webp
END:VEVENT
BEGIN:VEVENT
DTSTART;TZID=UTC:20270218T170000
DTEND;TZID=UTC:20270219T000000
DTSTAMP:20260424T214133
CREATED:20240613T134134Z
LAST-MODIFIED:20240613T134611Z
UID:10010691-1802970000-1802995200@tapstertastingroom.com
SUMMARY:Tapster Lincoln Park Happy Hour - Thursdays
DESCRIPTION:Tapster Lincoln Park Happy Hour \nfree popcorn\n$2.00 domestics \n25% off wine \nevery thursday\, 5pm-12am \nfriyay! 3pm-6:30pm \n \n  \n 
URL:https://tapstertastingroom.com/event/tapster-lincoln-park-happy-hour-thursdays/2027-02-18/
LOCATION:Chicago: Lincoln Park\, Chicago: Lincoln Park\, WA
CATEGORIES:Tapster Lincoln Park
ATTACH;FMTTYPE=image/webp:https://tapstertastingroom.com/wp-content/uploads/2024/06/Happy-Hour-2.webp
END:VEVENT
BEGIN:VEVENT
DTSTART;TZID=UTC:20270219T150000
DTEND;TZID=UTC:20270219T183000
DTSTAMP:20260424T214133
CREATED:20240613T134504Z
LAST-MODIFIED:20240613T134635Z
UID:10011213-1803049200-1803061800@tapstertastingroom.com
SUMMARY:Tapster Lincoln Park Happy Hour - Fridays
DESCRIPTION:Tapster Lincoln Park Happy Hour \nfree popcorn\n$2.00 domestics \n25% off wine \nevery thursday\, 5pm-12am \nfriyay! 3pm-6:30pm \n \n  \n 
URL:https://tapstertastingroom.com/event/tapster-lincoln-park-happy-hour-fridays/2027-02-19/
LOCATION:Chicago: Lincoln Park\, Chicago: Lincoln Park\, WA
CATEGORIES:Tapster Lincoln Park
ATTACH;FMTTYPE=image/webp:https://tapstertastingroom.com/wp-content/uploads/2024/06/Happy-Hour-2.webp
END:VEVENT
BEGIN:VEVENT
DTSTART;TZID=UTC:20270225T170000
DTEND;TZID=UTC:20270226T000000
DTSTAMP:20260424T214133
CREATED:20240613T134134Z
LAST-MODIFIED:20240613T134611Z
UID:10010692-1803574800-1803600000@tapstertastingroom.com
SUMMARY:Tapster Lincoln Park Happy Hour - Thursdays
DESCRIPTION:Tapster Lincoln Park Happy Hour \nfree popcorn\n$2.00 domestics \n25% off wine \nevery thursday\, 5pm-12am \nfriyay! 3pm-6:30pm \n \n  \n 
URL:https://tapstertastingroom.com/event/tapster-lincoln-park-happy-hour-thursdays/2027-02-25/
LOCATION:Chicago: Lincoln Park\, Chicago: Lincoln Park\, WA
CATEGORIES:Tapster Lincoln Park
ATTACH;FMTTYPE=image/webp:https://tapstertastingroom.com/wp-content/uploads/2024/06/Happy-Hour-2.webp
END:VEVENT
BEGIN:VEVENT
DTSTART;TZID=UTC:20270226T150000
DTEND;TZID=UTC:20270226T183000
DTSTAMP:20260424T214133
CREATED:20240613T134504Z
LAST-MODIFIED:20240613T134635Z
UID:10011214-1803654000-1803666600@tapstertastingroom.com
SUMMARY:Tapster Lincoln Park Happy Hour - Fridays
DESCRIPTION:Tapster Lincoln Park Happy Hour \nfree popcorn\n$2.00 domestics \n25% off wine \nevery thursday\, 5pm-12am \nfriyay! 3pm-6:30pm \n \n  \n 
URL:https://tapstertastingroom.com/event/tapster-lincoln-park-happy-hour-fridays/2027-02-26/
LOCATION:Chicago: Lincoln Park\, Chicago: Lincoln Park\, WA
CATEGORIES:Tapster Lincoln Park
ATTACH;FMTTYPE=image/webp:https://tapstertastingroom.com/wp-content/uploads/2024/06/Happy-Hour-2.webp
END:VEVENT
BEGIN:VEVENT
DTSTART;TZID=UTC:20270304T170000
DTEND;TZID=UTC:20270305T000000
DTSTAMP:20260424T214133
CREATED:20240613T134134Z
LAST-MODIFIED:20240613T134611Z
UID:10010693-1804179600-1804204800@tapstertastingroom.com
SUMMARY:Tapster Lincoln Park Happy Hour - Thursdays
DESCRIPTION:Tapster Lincoln Park Happy Hour \nfree popcorn\n$2.00 domestics \n25% off wine \nevery thursday\, 5pm-12am \nfriyay! 3pm-6:30pm \n \n  \n 
URL:https://tapstertastingroom.com/event/tapster-lincoln-park-happy-hour-thursdays/2027-03-04/
LOCATION:Chicago: Lincoln Park\, Chicago: Lincoln Park\, WA
CATEGORIES:Tapster Lincoln Park
ATTACH;FMTTYPE=image/webp:https://tapstertastingroom.com/wp-content/uploads/2024/06/Happy-Hour-2.webp
END:VEVENT
BEGIN:VEVENT
DTSTART;TZID=UTC:20270305T150000
DTEND;TZID=UTC:20270305T183000
DTSTAMP:20260424T214133
CREATED:20240613T134504Z
LAST-MODIFIED:20240613T134635Z
UID:10011215-1804258800-1804271400@tapstertastingroom.com
SUMMARY:Tapster Lincoln Park Happy Hour - Fridays
DESCRIPTION:Tapster Lincoln Park Happy Hour \nfree popcorn\n$2.00 domestics \n25% off wine \nevery thursday\, 5pm-12am \nfriyay! 3pm-6:30pm \n \n  \n 
URL:https://tapstertastingroom.com/event/tapster-lincoln-park-happy-hour-fridays/2027-03-05/
LOCATION:Chicago: Lincoln Park\, Chicago: Lincoln Park\, WA
CATEGORIES:Tapster Lincoln Park
ATTACH;FMTTYPE=image/webp:https://tapstertastingroom.com/wp-content/uploads/2024/06/Happy-Hour-2.webp
END:VEVENT
BEGIN:VEVENT
DTSTART;TZID=UTC:20270311T170000
DTEND;TZID=UTC:20270312T000000
DTSTAMP:20260424T214133
CREATED:20240613T134134Z
LAST-MODIFIED:20240613T134611Z
UID:10010694-1804784400-1804809600@tapstertastingroom.com
SUMMARY:Tapster Lincoln Park Happy Hour - Thursdays
DESCRIPTION:Tapster Lincoln Park Happy Hour \nfree popcorn\n$2.00 domestics \n25% off wine \nevery thursday\, 5pm-12am \nfriyay! 3pm-6:30pm \n \n  \n 
URL:https://tapstertastingroom.com/event/tapster-lincoln-park-happy-hour-thursdays/2027-03-11/
LOCATION:Chicago: Lincoln Park\, Chicago: Lincoln Park\, WA
CATEGORIES:Tapster Lincoln Park
ATTACH;FMTTYPE=image/webp:https://tapstertastingroom.com/wp-content/uploads/2024/06/Happy-Hour-2.webp
END:VEVENT
BEGIN:VEVENT
DTSTART;TZID=UTC:20270312T150000
DTEND;TZID=UTC:20270312T183000
DTSTAMP:20260424T214133
CREATED:20240613T134504Z
LAST-MODIFIED:20240613T134635Z
UID:10011216-1804863600-1804876200@tapstertastingroom.com
SUMMARY:Tapster Lincoln Park Happy Hour - Fridays
DESCRIPTION:Tapster Lincoln Park Happy Hour \nfree popcorn\n$2.00 domestics \n25% off wine \nevery thursday\, 5pm-12am \nfriyay! 3pm-6:30pm \n \n  \n 
URL:https://tapstertastingroom.com/event/tapster-lincoln-park-happy-hour-fridays/2027-03-12/
LOCATION:Chicago: Lincoln Park\, Chicago: Lincoln Park\, WA
CATEGORIES:Tapster Lincoln Park
ATTACH;FMTTYPE=image/webp:https://tapstertastingroom.com/wp-content/uploads/2024/06/Happy-Hour-2.webp
END:VEVENT
BEGIN:VEVENT
DTSTART;TZID=UTC:20270318T170000
DTEND;TZID=UTC:20270319T000000
DTSTAMP:20260424T214133
CREATED:20240613T134134Z
LAST-MODIFIED:20240613T134611Z
UID:10010695-1805389200-1805414400@tapstertastingroom.com
SUMMARY:Tapster Lincoln Park Happy Hour - Thursdays
DESCRIPTION:Tapster Lincoln Park Happy Hour \nfree popcorn\n$2.00 domestics \n25% off wine \nevery thursday\, 5pm-12am \nfriyay! 3pm-6:30pm \n \n  \n 
URL:https://tapstertastingroom.com/event/tapster-lincoln-park-happy-hour-thursdays/2027-03-18/
LOCATION:Chicago: Lincoln Park\, Chicago: Lincoln Park\, WA
CATEGORIES:Tapster Lincoln Park
ATTACH;FMTTYPE=image/webp:https://tapstertastingroom.com/wp-content/uploads/2024/06/Happy-Hour-2.webp
END:VEVENT
BEGIN:VEVENT
DTSTART;TZID=UTC:20270319T150000
DTEND;TZID=UTC:20270319T183000
DTSTAMP:20260424T214134
CREATED:20240613T134504Z
LAST-MODIFIED:20240613T134635Z
UID:10011217-1805468400-1805481000@tapstertastingroom.com
SUMMARY:Tapster Lincoln Park Happy Hour - Fridays
DESCRIPTION:Tapster Lincoln Park Happy Hour \nfree popcorn\n$2.00 domestics \n25% off wine \nevery thursday\, 5pm-12am \nfriyay! 3pm-6:30pm \n \n  \n 
URL:https://tapstertastingroom.com/event/tapster-lincoln-park-happy-hour-fridays/2027-03-19/
LOCATION:Chicago: Lincoln Park\, Chicago: Lincoln Park\, WA
CATEGORIES:Tapster Lincoln Park
ATTACH;FMTTYPE=image/webp:https://tapstertastingroom.com/wp-content/uploads/2024/06/Happy-Hour-2.webp
END:VEVENT
BEGIN:VEVENT
DTSTART;TZID=UTC:20270325T170000
DTEND;TZID=UTC:20270326T000000
DTSTAMP:20260424T214134
CREATED:20240613T134134Z
LAST-MODIFIED:20240613T134611Z
UID:10010696-1805994000-1806019200@tapstertastingroom.com
SUMMARY:Tapster Lincoln Park Happy Hour - Thursdays
DESCRIPTION:Tapster Lincoln Park Happy Hour \nfree popcorn\n$2.00 domestics \n25% off wine \nevery thursday\, 5pm-12am \nfriyay! 3pm-6:30pm \n \n  \n 
URL:https://tapstertastingroom.com/event/tapster-lincoln-park-happy-hour-thursdays/2027-03-25/
LOCATION:Chicago: Lincoln Park\, Chicago: Lincoln Park\, WA
CATEGORIES:Tapster Lincoln Park
ATTACH;FMTTYPE=image/webp:https://tapstertastingroom.com/wp-content/uploads/2024/06/Happy-Hour-2.webp
END:VEVENT
BEGIN:VEVENT
DTSTART;TZID=UTC:20270326T150000
DTEND;TZID=UTC:20270326T183000
DTSTAMP:20260424T214134
CREATED:20240613T134504Z
LAST-MODIFIED:20240613T134635Z
UID:10011218-1806073200-1806085800@tapstertastingroom.com
SUMMARY:Tapster Lincoln Park Happy Hour - Fridays
DESCRIPTION:Tapster Lincoln Park Happy Hour \nfree popcorn\n$2.00 domestics \n25% off wine \nevery thursday\, 5pm-12am \nfriyay! 3pm-6:30pm \n \n  \n 
URL:https://tapstertastingroom.com/event/tapster-lincoln-park-happy-hour-fridays/2027-03-26/
LOCATION:Chicago: Lincoln Park\, Chicago: Lincoln Park\, WA
CATEGORIES:Tapster Lincoln Park
ATTACH;FMTTYPE=image/webp:https://tapstertastingroom.com/wp-content/uploads/2024/06/Happy-Hour-2.webp
END:VEVENT
BEGIN:VEVENT
DTSTART;TZID=UTC:20270401T170000
DTEND;TZID=UTC:20270402T000000
DTSTAMP:20260424T214134
CREATED:20240613T134134Z
LAST-MODIFIED:20240613T134611Z
UID:10010697-1806598800-1806624000@tapstertastingroom.com
SUMMARY:Tapster Lincoln Park Happy Hour - Thursdays
DESCRIPTION:Tapster Lincoln Park Happy Hour \nfree popcorn\n$2.00 domestics \n25% off wine \nevery thursday\, 5pm-12am \nfriyay! 3pm-6:30pm \n \n  \n 
URL:https://tapstertastingroom.com/event/tapster-lincoln-park-happy-hour-thursdays/2027-04-01/
LOCATION:Chicago: Lincoln Park\, Chicago: Lincoln Park\, WA
CATEGORIES:Tapster Lincoln Park
ATTACH;FMTTYPE=image/webp:https://tapstertastingroom.com/wp-content/uploads/2024/06/Happy-Hour-2.webp
END:VEVENT
BEGIN:VEVENT
DTSTART;TZID=UTC:20270402T150000
DTEND;TZID=UTC:20270402T183000
DTSTAMP:20260424T214134
CREATED:20240613T134504Z
LAST-MODIFIED:20240613T134635Z
UID:10011219-1806678000-1806690600@tapstertastingroom.com
SUMMARY:Tapster Lincoln Park Happy Hour - Fridays
DESCRIPTION:Tapster Lincoln Park Happy Hour \nfree popcorn\n$2.00 domestics \n25% off wine \nevery thursday\, 5pm-12am \nfriyay! 3pm-6:30pm \n \n  \n 
URL:https://tapstertastingroom.com/event/tapster-lincoln-park-happy-hour-fridays/2027-04-02/
LOCATION:Chicago: Lincoln Park\, Chicago: Lincoln Park\, WA
CATEGORIES:Tapster Lincoln Park
ATTACH;FMTTYPE=image/webp:https://tapstertastingroom.com/wp-content/uploads/2024/06/Happy-Hour-2.webp
END:VEVENT
BEGIN:VEVENT
DTSTART;TZID=UTC:20270408T170000
DTEND;TZID=UTC:20270409T000000
DTSTAMP:20260424T214134
CREATED:20240613T134134Z
LAST-MODIFIED:20240613T134611Z
UID:10010698-1807203600-1807228800@tapstertastingroom.com
SUMMARY:Tapster Lincoln Park Happy Hour - Thursdays
DESCRIPTION:Tapster Lincoln Park Happy Hour \nfree popcorn\n$2.00 domestics \n25% off wine \nevery thursday\, 5pm-12am \nfriyay! 3pm-6:30pm \n \n  \n 
URL:https://tapstertastingroom.com/event/tapster-lincoln-park-happy-hour-thursdays/2027-04-08/
LOCATION:Chicago: Lincoln Park\, Chicago: Lincoln Park\, WA
CATEGORIES:Tapster Lincoln Park
ATTACH;FMTTYPE=image/webp:https://tapstertastingroom.com/wp-content/uploads/2024/06/Happy-Hour-2.webp
END:VEVENT
BEGIN:VEVENT
DTSTART;TZID=UTC:20270409T150000
DTEND;TZID=UTC:20270409T183000
DTSTAMP:20260424T214134
CREATED:20240613T134504Z
LAST-MODIFIED:20240613T134635Z
UID:10011220-1807282800-1807295400@tapstertastingroom.com
SUMMARY:Tapster Lincoln Park Happy Hour - Fridays
DESCRIPTION:Tapster Lincoln Park Happy Hour \nfree popcorn\n$2.00 domestics \n25% off wine \nevery thursday\, 5pm-12am \nfriyay! 3pm-6:30pm \n \n  \n 
URL:https://tapstertastingroom.com/event/tapster-lincoln-park-happy-hour-fridays/2027-04-09/
LOCATION:Chicago: Lincoln Park\, Chicago: Lincoln Park\, WA
CATEGORIES:Tapster Lincoln Park
ATTACH;FMTTYPE=image/webp:https://tapstertastingroom.com/wp-content/uploads/2024/06/Happy-Hour-2.webp
END:VEVENT
BEGIN:VEVENT
DTSTART;TZID=UTC:20270415T170000
DTEND;TZID=UTC:20270416T000000
DTSTAMP:20260424T214134
CREATED:20240613T134134Z
LAST-MODIFIED:20240613T134611Z
UID:10010699-1807808400-1807833600@tapstertastingroom.com
SUMMARY:Tapster Lincoln Park Happy Hour - Thursdays
DESCRIPTION:Tapster Lincoln Park Happy Hour \nfree popcorn\n$2.00 domestics \n25% off wine \nevery thursday\, 5pm-12am \nfriyay! 3pm-6:30pm \n \n  \n 
URL:https://tapstertastingroom.com/event/tapster-lincoln-park-happy-hour-thursdays/2027-04-15/
LOCATION:Chicago: Lincoln Park\, Chicago: Lincoln Park\, WA
CATEGORIES:Tapster Lincoln Park
ATTACH;FMTTYPE=image/webp:https://tapstertastingroom.com/wp-content/uploads/2024/06/Happy-Hour-2.webp
END:VEVENT
BEGIN:VEVENT
DTSTART;TZID=UTC:20270416T150000
DTEND;TZID=UTC:20270416T183000
DTSTAMP:20260424T214134
CREATED:20240613T134504Z
LAST-MODIFIED:20240613T134635Z
UID:10011221-1807887600-1807900200@tapstertastingroom.com
SUMMARY:Tapster Lincoln Park Happy Hour - Fridays
DESCRIPTION:Tapster Lincoln Park Happy Hour \nfree popcorn\n$2.00 domestics \n25% off wine \nevery thursday\, 5pm-12am \nfriyay! 3pm-6:30pm \n \n  \n 
URL:https://tapstertastingroom.com/event/tapster-lincoln-park-happy-hour-fridays/2027-04-16/
LOCATION:Chicago: Lincoln Park\, Chicago: Lincoln Park\, WA
CATEGORIES:Tapster Lincoln Park
ATTACH;FMTTYPE=image/webp:https://tapstertastingroom.com/wp-content/uploads/2024/06/Happy-Hour-2.webp
END:VEVENT
END:VCALENDAR