BEGIN:VCALENDAR
VERSION:2.0
PRODID:-//Tapster - ECPv6.6.3//NONSGML v1.0//EN
CALSCALE:GREGORIAN
METHOD:PUBLISH
X-ORIGINAL-URL:https://tapstertastingroom.com
X-WR-CALDESC:Events for Tapster
REFRESH-INTERVAL;VALUE=DURATION:PT1H
X-Robots-Tag:noindex
X-PUBLISHED-TTL:PT1H
BEGIN:VTIMEZONE
TZID:UTC
BEGIN:STANDARD
TZOFFSETFROM:+0000
TZOFFSETTO:+0000
TZNAME:UTC
DTSTART:20260101T000000
END:STANDARD
END:VTIMEZONE
BEGIN:VEVENT
DTSTART;TZID=UTC:20260828T150000
DTEND;TZID=UTC:20260828T183000
DTSTAMP:20260424T061005
CREATED:20240613T134504Z
LAST-MODIFIED:20240613T134635Z
UID:10011188-1787929200-1787941800@tapstertastingroom.com
SUMMARY:Tapster Lincoln Park Happy Hour - Fridays
DESCRIPTION:Tapster Lincoln Park Happy Hour \nfree popcorn\n$2.00 domestics \n25% off wine \nevery thursday\, 5pm-12am \nfriyay! 3pm-6:30pm \n \n  \n 
URL:https://tapstertastingroom.com/event/tapster-lincoln-park-happy-hour-fridays/2026-08-28/
LOCATION:Chicago: Lincoln Park\, Chicago: Lincoln Park\, WA
CATEGORIES:Tapster Lincoln Park
ATTACH;FMTTYPE=image/webp:https://tapstertastingroom.com/wp-content/uploads/2024/06/Happy-Hour-2.webp
END:VEVENT
BEGIN:VEVENT
DTSTART;TZID=UTC:20260903T170000
DTEND;TZID=UTC:20260904T000000
DTSTAMP:20260424T061005
CREATED:20240613T134134Z
LAST-MODIFIED:20240613T134611Z
UID:10010667-1788454800-1788480000@tapstertastingroom.com
SUMMARY:Tapster Lincoln Park Happy Hour - Thursdays
DESCRIPTION:Tapster Lincoln Park Happy Hour \nfree popcorn\n$2.00 domestics \n25% off wine \nevery thursday\, 5pm-12am \nfriyay! 3pm-6:30pm \n \n  \n 
URL:https://tapstertastingroom.com/event/tapster-lincoln-park-happy-hour-thursdays/2026-09-03/
LOCATION:Chicago: Lincoln Park\, Chicago: Lincoln Park\, WA
CATEGORIES:Tapster Lincoln Park
ATTACH;FMTTYPE=image/webp:https://tapstertastingroom.com/wp-content/uploads/2024/06/Happy-Hour-2.webp
END:VEVENT
BEGIN:VEVENT
DTSTART;TZID=UTC:20260904T150000
DTEND;TZID=UTC:20260904T183000
DTSTAMP:20260424T061005
CREATED:20240613T134504Z
LAST-MODIFIED:20240613T134635Z
UID:10011189-1788534000-1788546600@tapstertastingroom.com
SUMMARY:Tapster Lincoln Park Happy Hour - Fridays
DESCRIPTION:Tapster Lincoln Park Happy Hour \nfree popcorn\n$2.00 domestics \n25% off wine \nevery thursday\, 5pm-12am \nfriyay! 3pm-6:30pm \n \n  \n 
URL:https://tapstertastingroom.com/event/tapster-lincoln-park-happy-hour-fridays/2026-09-04/
LOCATION:Chicago: Lincoln Park\, Chicago: Lincoln Park\, WA
CATEGORIES:Tapster Lincoln Park
ATTACH;FMTTYPE=image/webp:https://tapstertastingroom.com/wp-content/uploads/2024/06/Happy-Hour-2.webp
END:VEVENT
BEGIN:VEVENT
DTSTART;TZID=UTC:20260910T170000
DTEND;TZID=UTC:20260911T000000
DTSTAMP:20260424T061005
CREATED:20240613T134134Z
LAST-MODIFIED:20240613T134611Z
UID:10010668-1789059600-1789084800@tapstertastingroom.com
SUMMARY:Tapster Lincoln Park Happy Hour - Thursdays
DESCRIPTION:Tapster Lincoln Park Happy Hour \nfree popcorn\n$2.00 domestics \n25% off wine \nevery thursday\, 5pm-12am \nfriyay! 3pm-6:30pm \n \n  \n 
URL:https://tapstertastingroom.com/event/tapster-lincoln-park-happy-hour-thursdays/2026-09-10/
LOCATION:Chicago: Lincoln Park\, Chicago: Lincoln Park\, WA
CATEGORIES:Tapster Lincoln Park
ATTACH;FMTTYPE=image/webp:https://tapstertastingroom.com/wp-content/uploads/2024/06/Happy-Hour-2.webp
END:VEVENT
BEGIN:VEVENT
DTSTART;TZID=UTC:20260911T150000
DTEND;TZID=UTC:20260911T183000
DTSTAMP:20260424T061005
CREATED:20240613T134504Z
LAST-MODIFIED:20240613T134635Z
UID:10011190-1789138800-1789151400@tapstertastingroom.com
SUMMARY:Tapster Lincoln Park Happy Hour - Fridays
DESCRIPTION:Tapster Lincoln Park Happy Hour \nfree popcorn\n$2.00 domestics \n25% off wine \nevery thursday\, 5pm-12am \nfriyay! 3pm-6:30pm \n \n  \n 
URL:https://tapstertastingroom.com/event/tapster-lincoln-park-happy-hour-fridays/2026-09-11/
LOCATION:Chicago: Lincoln Park\, Chicago: Lincoln Park\, WA
CATEGORIES:Tapster Lincoln Park
ATTACH;FMTTYPE=image/webp:https://tapstertastingroom.com/wp-content/uploads/2024/06/Happy-Hour-2.webp
END:VEVENT
BEGIN:VEVENT
DTSTART;TZID=UTC:20260917T170000
DTEND;TZID=UTC:20260918T000000
DTSTAMP:20260424T061005
CREATED:20240613T134134Z
LAST-MODIFIED:20240613T134611Z
UID:10010669-1789664400-1789689600@tapstertastingroom.com
SUMMARY:Tapster Lincoln Park Happy Hour - Thursdays
DESCRIPTION:Tapster Lincoln Park Happy Hour \nfree popcorn\n$2.00 domestics \n25% off wine \nevery thursday\, 5pm-12am \nfriyay! 3pm-6:30pm \n \n  \n 
URL:https://tapstertastingroom.com/event/tapster-lincoln-park-happy-hour-thursdays/2026-09-17/
LOCATION:Chicago: Lincoln Park\, Chicago: Lincoln Park\, WA
CATEGORIES:Tapster Lincoln Park
ATTACH;FMTTYPE=image/webp:https://tapstertastingroom.com/wp-content/uploads/2024/06/Happy-Hour-2.webp
END:VEVENT
BEGIN:VEVENT
DTSTART;TZID=UTC:20260918T150000
DTEND;TZID=UTC:20260918T183000
DTSTAMP:20260424T061005
CREATED:20240613T134504Z
LAST-MODIFIED:20240613T134635Z
UID:10011191-1789743600-1789756200@tapstertastingroom.com
SUMMARY:Tapster Lincoln Park Happy Hour - Fridays
DESCRIPTION:Tapster Lincoln Park Happy Hour \nfree popcorn\n$2.00 domestics \n25% off wine \nevery thursday\, 5pm-12am \nfriyay! 3pm-6:30pm \n \n  \n 
URL:https://tapstertastingroom.com/event/tapster-lincoln-park-happy-hour-fridays/2026-09-18/
LOCATION:Chicago: Lincoln Park\, Chicago: Lincoln Park\, WA
CATEGORIES:Tapster Lincoln Park
ATTACH;FMTTYPE=image/webp:https://tapstertastingroom.com/wp-content/uploads/2024/06/Happy-Hour-2.webp
END:VEVENT
BEGIN:VEVENT
DTSTART;TZID=UTC:20260924T170000
DTEND;TZID=UTC:20260925T000000
DTSTAMP:20260424T061005
CREATED:20240613T134134Z
LAST-MODIFIED:20240613T134611Z
UID:10010670-1790269200-1790294400@tapstertastingroom.com
SUMMARY:Tapster Lincoln Park Happy Hour - Thursdays
DESCRIPTION:Tapster Lincoln Park Happy Hour \nfree popcorn\n$2.00 domestics \n25% off wine \nevery thursday\, 5pm-12am \nfriyay! 3pm-6:30pm \n \n  \n 
URL:https://tapstertastingroom.com/event/tapster-lincoln-park-happy-hour-thursdays/2026-09-24/
LOCATION:Chicago: Lincoln Park\, Chicago: Lincoln Park\, WA
CATEGORIES:Tapster Lincoln Park
ATTACH;FMTTYPE=image/webp:https://tapstertastingroom.com/wp-content/uploads/2024/06/Happy-Hour-2.webp
END:VEVENT
BEGIN:VEVENT
DTSTART;TZID=UTC:20260925T150000
DTEND;TZID=UTC:20260925T183000
DTSTAMP:20260424T061005
CREATED:20240613T134504Z
LAST-MODIFIED:20240613T134635Z
UID:10011192-1790348400-1790361000@tapstertastingroom.com
SUMMARY:Tapster Lincoln Park Happy Hour - Fridays
DESCRIPTION:Tapster Lincoln Park Happy Hour \nfree popcorn\n$2.00 domestics \n25% off wine \nevery thursday\, 5pm-12am \nfriyay! 3pm-6:30pm \n \n  \n 
URL:https://tapstertastingroom.com/event/tapster-lincoln-park-happy-hour-fridays/2026-09-25/
LOCATION:Chicago: Lincoln Park\, Chicago: Lincoln Park\, WA
CATEGORIES:Tapster Lincoln Park
ATTACH;FMTTYPE=image/webp:https://tapstertastingroom.com/wp-content/uploads/2024/06/Happy-Hour-2.webp
END:VEVENT
BEGIN:VEVENT
DTSTART;TZID=UTC:20261001T170000
DTEND;TZID=UTC:20261002T000000
DTSTAMP:20260424T061005
CREATED:20240613T134134Z
LAST-MODIFIED:20240613T134611Z
UID:10010671-1790874000-1790899200@tapstertastingroom.com
SUMMARY:Tapster Lincoln Park Happy Hour - Thursdays
DESCRIPTION:Tapster Lincoln Park Happy Hour \nfree popcorn\n$2.00 domestics \n25% off wine \nevery thursday\, 5pm-12am \nfriyay! 3pm-6:30pm \n \n  \n 
URL:https://tapstertastingroom.com/event/tapster-lincoln-park-happy-hour-thursdays/2026-10-01/
LOCATION:Chicago: Lincoln Park\, Chicago: Lincoln Park\, WA
CATEGORIES:Tapster Lincoln Park
ATTACH;FMTTYPE=image/webp:https://tapstertastingroom.com/wp-content/uploads/2024/06/Happy-Hour-2.webp
END:VEVENT
BEGIN:VEVENT
DTSTART;TZID=UTC:20261002T150000
DTEND;TZID=UTC:20261002T183000
DTSTAMP:20260424T061005
CREATED:20240613T134504Z
LAST-MODIFIED:20240613T134635Z
UID:10011193-1790953200-1790965800@tapstertastingroom.com
SUMMARY:Tapster Lincoln Park Happy Hour - Fridays
DESCRIPTION:Tapster Lincoln Park Happy Hour \nfree popcorn\n$2.00 domestics \n25% off wine \nevery thursday\, 5pm-12am \nfriyay! 3pm-6:30pm \n \n  \n 
URL:https://tapstertastingroom.com/event/tapster-lincoln-park-happy-hour-fridays/2026-10-02/
LOCATION:Chicago: Lincoln Park\, Chicago: Lincoln Park\, WA
CATEGORIES:Tapster Lincoln Park
ATTACH;FMTTYPE=image/webp:https://tapstertastingroom.com/wp-content/uploads/2024/06/Happy-Hour-2.webp
END:VEVENT
BEGIN:VEVENT
DTSTART;TZID=UTC:20261008T170000
DTEND;TZID=UTC:20261009T000000
DTSTAMP:20260424T061005
CREATED:20240613T134134Z
LAST-MODIFIED:20240613T134611Z
UID:10010672-1791478800-1791504000@tapstertastingroom.com
SUMMARY:Tapster Lincoln Park Happy Hour - Thursdays
DESCRIPTION:Tapster Lincoln Park Happy Hour \nfree popcorn\n$2.00 domestics \n25% off wine \nevery thursday\, 5pm-12am \nfriyay! 3pm-6:30pm \n \n  \n 
URL:https://tapstertastingroom.com/event/tapster-lincoln-park-happy-hour-thursdays/2026-10-08/
LOCATION:Chicago: Lincoln Park\, Chicago: Lincoln Park\, WA
CATEGORIES:Tapster Lincoln Park
ATTACH;FMTTYPE=image/webp:https://tapstertastingroom.com/wp-content/uploads/2024/06/Happy-Hour-2.webp
END:VEVENT
BEGIN:VEVENT
DTSTART;TZID=UTC:20261009T150000
DTEND;TZID=UTC:20261009T183000
DTSTAMP:20260424T061005
CREATED:20240613T134504Z
LAST-MODIFIED:20240613T134635Z
UID:10011194-1791558000-1791570600@tapstertastingroom.com
SUMMARY:Tapster Lincoln Park Happy Hour - Fridays
DESCRIPTION:Tapster Lincoln Park Happy Hour \nfree popcorn\n$2.00 domestics \n25% off wine \nevery thursday\, 5pm-12am \nfriyay! 3pm-6:30pm \n \n  \n 
URL:https://tapstertastingroom.com/event/tapster-lincoln-park-happy-hour-fridays/2026-10-09/
LOCATION:Chicago: Lincoln Park\, Chicago: Lincoln Park\, WA
CATEGORIES:Tapster Lincoln Park
ATTACH;FMTTYPE=image/webp:https://tapstertastingroom.com/wp-content/uploads/2024/06/Happy-Hour-2.webp
END:VEVENT
BEGIN:VEVENT
DTSTART;TZID=UTC:20261015T170000
DTEND;TZID=UTC:20261016T000000
DTSTAMP:20260424T061005
CREATED:20240613T134134Z
LAST-MODIFIED:20240613T134611Z
UID:10010673-1792083600-1792108800@tapstertastingroom.com
SUMMARY:Tapster Lincoln Park Happy Hour - Thursdays
DESCRIPTION:Tapster Lincoln Park Happy Hour \nfree popcorn\n$2.00 domestics \n25% off wine \nevery thursday\, 5pm-12am \nfriyay! 3pm-6:30pm \n \n  \n 
URL:https://tapstertastingroom.com/event/tapster-lincoln-park-happy-hour-thursdays/2026-10-15/
LOCATION:Chicago: Lincoln Park\, Chicago: Lincoln Park\, WA
CATEGORIES:Tapster Lincoln Park
ATTACH;FMTTYPE=image/webp:https://tapstertastingroom.com/wp-content/uploads/2024/06/Happy-Hour-2.webp
END:VEVENT
BEGIN:VEVENT
DTSTART;TZID=UTC:20261016T150000
DTEND;TZID=UTC:20261016T183000
DTSTAMP:20260424T061005
CREATED:20240613T134504Z
LAST-MODIFIED:20240613T134635Z
UID:10011195-1792162800-1792175400@tapstertastingroom.com
SUMMARY:Tapster Lincoln Park Happy Hour - Fridays
DESCRIPTION:Tapster Lincoln Park Happy Hour \nfree popcorn\n$2.00 domestics \n25% off wine \nevery thursday\, 5pm-12am \nfriyay! 3pm-6:30pm \n \n  \n 
URL:https://tapstertastingroom.com/event/tapster-lincoln-park-happy-hour-fridays/2026-10-16/
LOCATION:Chicago: Lincoln Park\, Chicago: Lincoln Park\, WA
CATEGORIES:Tapster Lincoln Park
ATTACH;FMTTYPE=image/webp:https://tapstertastingroom.com/wp-content/uploads/2024/06/Happy-Hour-2.webp
END:VEVENT
BEGIN:VEVENT
DTSTART;TZID=UTC:20261022T170000
DTEND;TZID=UTC:20261023T000000
DTSTAMP:20260424T061005
CREATED:20240613T134134Z
LAST-MODIFIED:20240613T134611Z
UID:10010674-1792688400-1792713600@tapstertastingroom.com
SUMMARY:Tapster Lincoln Park Happy Hour - Thursdays
DESCRIPTION:Tapster Lincoln Park Happy Hour \nfree popcorn\n$2.00 domestics \n25% off wine \nevery thursday\, 5pm-12am \nfriyay! 3pm-6:30pm \n \n  \n 
URL:https://tapstertastingroom.com/event/tapster-lincoln-park-happy-hour-thursdays/2026-10-22/
LOCATION:Chicago: Lincoln Park\, Chicago: Lincoln Park\, WA
CATEGORIES:Tapster Lincoln Park
ATTACH;FMTTYPE=image/webp:https://tapstertastingroom.com/wp-content/uploads/2024/06/Happy-Hour-2.webp
END:VEVENT
BEGIN:VEVENT
DTSTART;TZID=UTC:20261023T150000
DTEND;TZID=UTC:20261023T183000
DTSTAMP:20260424T061005
CREATED:20240613T134504Z
LAST-MODIFIED:20240613T134635Z
UID:10011196-1792767600-1792780200@tapstertastingroom.com
SUMMARY:Tapster Lincoln Park Happy Hour - Fridays
DESCRIPTION:Tapster Lincoln Park Happy Hour \nfree popcorn\n$2.00 domestics \n25% off wine \nevery thursday\, 5pm-12am \nfriyay! 3pm-6:30pm \n \n  \n 
URL:https://tapstertastingroom.com/event/tapster-lincoln-park-happy-hour-fridays/2026-10-23/
LOCATION:Chicago: Lincoln Park\, Chicago: Lincoln Park\, WA
CATEGORIES:Tapster Lincoln Park
ATTACH;FMTTYPE=image/webp:https://tapstertastingroom.com/wp-content/uploads/2024/06/Happy-Hour-2.webp
END:VEVENT
BEGIN:VEVENT
DTSTART;TZID=UTC:20261029T170000
DTEND;TZID=UTC:20261030T000000
DTSTAMP:20260424T061005
CREATED:20240613T134134Z
LAST-MODIFIED:20240613T134611Z
UID:10010675-1793293200-1793318400@tapstertastingroom.com
SUMMARY:Tapster Lincoln Park Happy Hour - Thursdays
DESCRIPTION:Tapster Lincoln Park Happy Hour \nfree popcorn\n$2.00 domestics \n25% off wine \nevery thursday\, 5pm-12am \nfriyay! 3pm-6:30pm \n \n  \n 
URL:https://tapstertastingroom.com/event/tapster-lincoln-park-happy-hour-thursdays/2026-10-29/
LOCATION:Chicago: Lincoln Park\, Chicago: Lincoln Park\, WA
CATEGORIES:Tapster Lincoln Park
ATTACH;FMTTYPE=image/webp:https://tapstertastingroom.com/wp-content/uploads/2024/06/Happy-Hour-2.webp
END:VEVENT
BEGIN:VEVENT
DTSTART;TZID=UTC:20261030T150000
DTEND;TZID=UTC:20261030T183000
DTSTAMP:20260424T061005
CREATED:20240613T134504Z
LAST-MODIFIED:20240613T134635Z
UID:10011197-1793372400-1793385000@tapstertastingroom.com
SUMMARY:Tapster Lincoln Park Happy Hour - Fridays
DESCRIPTION:Tapster Lincoln Park Happy Hour \nfree popcorn\n$2.00 domestics \n25% off wine \nevery thursday\, 5pm-12am \nfriyay! 3pm-6:30pm \n \n  \n 
URL:https://tapstertastingroom.com/event/tapster-lincoln-park-happy-hour-fridays/2026-10-30/
LOCATION:Chicago: Lincoln Park\, Chicago: Lincoln Park\, WA
CATEGORIES:Tapster Lincoln Park
ATTACH;FMTTYPE=image/webp:https://tapstertastingroom.com/wp-content/uploads/2024/06/Happy-Hour-2.webp
END:VEVENT
BEGIN:VEVENT
DTSTART;TZID=UTC:20261105T170000
DTEND;TZID=UTC:20261106T000000
DTSTAMP:20260424T061006
CREATED:20240613T134134Z
LAST-MODIFIED:20240613T134611Z
UID:10010676-1793898000-1793923200@tapstertastingroom.com
SUMMARY:Tapster Lincoln Park Happy Hour - Thursdays
DESCRIPTION:Tapster Lincoln Park Happy Hour \nfree popcorn\n$2.00 domestics \n25% off wine \nevery thursday\, 5pm-12am \nfriyay! 3pm-6:30pm \n \n  \n 
URL:https://tapstertastingroom.com/event/tapster-lincoln-park-happy-hour-thursdays/2026-11-05/
LOCATION:Chicago: Lincoln Park\, Chicago: Lincoln Park\, WA
CATEGORIES:Tapster Lincoln Park
ATTACH;FMTTYPE=image/webp:https://tapstertastingroom.com/wp-content/uploads/2024/06/Happy-Hour-2.webp
END:VEVENT
BEGIN:VEVENT
DTSTART;TZID=UTC:20261106T150000
DTEND;TZID=UTC:20261106T183000
DTSTAMP:20260424T061006
CREATED:20240613T134504Z
LAST-MODIFIED:20240613T134635Z
UID:10011198-1793977200-1793989800@tapstertastingroom.com
SUMMARY:Tapster Lincoln Park Happy Hour - Fridays
DESCRIPTION:Tapster Lincoln Park Happy Hour \nfree popcorn\n$2.00 domestics \n25% off wine \nevery thursday\, 5pm-12am \nfriyay! 3pm-6:30pm \n \n  \n 
URL:https://tapstertastingroom.com/event/tapster-lincoln-park-happy-hour-fridays/2026-11-06/
LOCATION:Chicago: Lincoln Park\, Chicago: Lincoln Park\, WA
CATEGORIES:Tapster Lincoln Park
ATTACH;FMTTYPE=image/webp:https://tapstertastingroom.com/wp-content/uploads/2024/06/Happy-Hour-2.webp
END:VEVENT
BEGIN:VEVENT
DTSTART;TZID=UTC:20261112T170000
DTEND;TZID=UTC:20261113T000000
DTSTAMP:20260424T061006
CREATED:20240613T134134Z
LAST-MODIFIED:20240613T134611Z
UID:10010677-1794502800-1794528000@tapstertastingroom.com
SUMMARY:Tapster Lincoln Park Happy Hour - Thursdays
DESCRIPTION:Tapster Lincoln Park Happy Hour \nfree popcorn\n$2.00 domestics \n25% off wine \nevery thursday\, 5pm-12am \nfriyay! 3pm-6:30pm \n \n  \n 
URL:https://tapstertastingroom.com/event/tapster-lincoln-park-happy-hour-thursdays/2026-11-12/
LOCATION:Chicago: Lincoln Park\, Chicago: Lincoln Park\, WA
CATEGORIES:Tapster Lincoln Park
ATTACH;FMTTYPE=image/webp:https://tapstertastingroom.com/wp-content/uploads/2024/06/Happy-Hour-2.webp
END:VEVENT
BEGIN:VEVENT
DTSTART;TZID=UTC:20261113T150000
DTEND;TZID=UTC:20261113T183000
DTSTAMP:20260424T061006
CREATED:20240613T134504Z
LAST-MODIFIED:20240613T134635Z
UID:10011199-1794582000-1794594600@tapstertastingroom.com
SUMMARY:Tapster Lincoln Park Happy Hour - Fridays
DESCRIPTION:Tapster Lincoln Park Happy Hour \nfree popcorn\n$2.00 domestics \n25% off wine \nevery thursday\, 5pm-12am \nfriyay! 3pm-6:30pm \n \n  \n 
URL:https://tapstertastingroom.com/event/tapster-lincoln-park-happy-hour-fridays/2026-11-13/
LOCATION:Chicago: Lincoln Park\, Chicago: Lincoln Park\, WA
CATEGORIES:Tapster Lincoln Park
ATTACH;FMTTYPE=image/webp:https://tapstertastingroom.com/wp-content/uploads/2024/06/Happy-Hour-2.webp
END:VEVENT
BEGIN:VEVENT
DTSTART;TZID=UTC:20261119T170000
DTEND;TZID=UTC:20261120T000000
DTSTAMP:20260424T061006
CREATED:20240613T134134Z
LAST-MODIFIED:20240613T134611Z
UID:10010678-1795107600-1795132800@tapstertastingroom.com
SUMMARY:Tapster Lincoln Park Happy Hour - Thursdays
DESCRIPTION:Tapster Lincoln Park Happy Hour \nfree popcorn\n$2.00 domestics \n25% off wine \nevery thursday\, 5pm-12am \nfriyay! 3pm-6:30pm \n \n  \n 
URL:https://tapstertastingroom.com/event/tapster-lincoln-park-happy-hour-thursdays/2026-11-19/
LOCATION:Chicago: Lincoln Park\, Chicago: Lincoln Park\, WA
CATEGORIES:Tapster Lincoln Park
ATTACH;FMTTYPE=image/webp:https://tapstertastingroom.com/wp-content/uploads/2024/06/Happy-Hour-2.webp
END:VEVENT
BEGIN:VEVENT
DTSTART;TZID=UTC:20261120T150000
DTEND;TZID=UTC:20261120T183000
DTSTAMP:20260424T061006
CREATED:20240613T134504Z
LAST-MODIFIED:20240613T134635Z
UID:10011200-1795186800-1795199400@tapstertastingroom.com
SUMMARY:Tapster Lincoln Park Happy Hour - Fridays
DESCRIPTION:Tapster Lincoln Park Happy Hour \nfree popcorn\n$2.00 domestics \n25% off wine \nevery thursday\, 5pm-12am \nfriyay! 3pm-6:30pm \n \n  \n 
URL:https://tapstertastingroom.com/event/tapster-lincoln-park-happy-hour-fridays/2026-11-20/
LOCATION:Chicago: Lincoln Park\, Chicago: Lincoln Park\, WA
CATEGORIES:Tapster Lincoln Park
ATTACH;FMTTYPE=image/webp:https://tapstertastingroom.com/wp-content/uploads/2024/06/Happy-Hour-2.webp
END:VEVENT
BEGIN:VEVENT
DTSTART;TZID=UTC:20261126T170000
DTEND;TZID=UTC:20261127T000000
DTSTAMP:20260424T061006
CREATED:20240613T134134Z
LAST-MODIFIED:20240613T134611Z
UID:10010679-1795712400-1795737600@tapstertastingroom.com
SUMMARY:Tapster Lincoln Park Happy Hour - Thursdays
DESCRIPTION:Tapster Lincoln Park Happy Hour \nfree popcorn\n$2.00 domestics \n25% off wine \nevery thursday\, 5pm-12am \nfriyay! 3pm-6:30pm \n \n  \n 
URL:https://tapstertastingroom.com/event/tapster-lincoln-park-happy-hour-thursdays/2026-11-26/
LOCATION:Chicago: Lincoln Park\, Chicago: Lincoln Park\, WA
CATEGORIES:Tapster Lincoln Park
ATTACH;FMTTYPE=image/webp:https://tapstertastingroom.com/wp-content/uploads/2024/06/Happy-Hour-2.webp
END:VEVENT
BEGIN:VEVENT
DTSTART;TZID=UTC:20261127T150000
DTEND;TZID=UTC:20261127T183000
DTSTAMP:20260424T061006
CREATED:20240613T134504Z
LAST-MODIFIED:20240613T134635Z
UID:10011201-1795791600-1795804200@tapstertastingroom.com
SUMMARY:Tapster Lincoln Park Happy Hour - Fridays
DESCRIPTION:Tapster Lincoln Park Happy Hour \nfree popcorn\n$2.00 domestics \n25% off wine \nevery thursday\, 5pm-12am \nfriyay! 3pm-6:30pm \n \n  \n 
URL:https://tapstertastingroom.com/event/tapster-lincoln-park-happy-hour-fridays/2026-11-27/
LOCATION:Chicago: Lincoln Park\, Chicago: Lincoln Park\, WA
CATEGORIES:Tapster Lincoln Park
ATTACH;FMTTYPE=image/webp:https://tapstertastingroom.com/wp-content/uploads/2024/06/Happy-Hour-2.webp
END:VEVENT
BEGIN:VEVENT
DTSTART;TZID=UTC:20261203T170000
DTEND;TZID=UTC:20261204T000000
DTSTAMP:20260424T061006
CREATED:20240613T134134Z
LAST-MODIFIED:20240613T134611Z
UID:10010680-1796317200-1796342400@tapstertastingroom.com
SUMMARY:Tapster Lincoln Park Happy Hour - Thursdays
DESCRIPTION:Tapster Lincoln Park Happy Hour \nfree popcorn\n$2.00 domestics \n25% off wine \nevery thursday\, 5pm-12am \nfriyay! 3pm-6:30pm \n \n  \n 
URL:https://tapstertastingroom.com/event/tapster-lincoln-park-happy-hour-thursdays/2026-12-03/
LOCATION:Chicago: Lincoln Park\, Chicago: Lincoln Park\, WA
CATEGORIES:Tapster Lincoln Park
ATTACH;FMTTYPE=image/webp:https://tapstertastingroom.com/wp-content/uploads/2024/06/Happy-Hour-2.webp
END:VEVENT
BEGIN:VEVENT
DTSTART;TZID=UTC:20261204T150000
DTEND;TZID=UTC:20261204T183000
DTSTAMP:20260424T061006
CREATED:20240613T134504Z
LAST-MODIFIED:20240613T134635Z
UID:10011202-1796396400-1796409000@tapstertastingroom.com
SUMMARY:Tapster Lincoln Park Happy Hour - Fridays
DESCRIPTION:Tapster Lincoln Park Happy Hour \nfree popcorn\n$2.00 domestics \n25% off wine \nevery thursday\, 5pm-12am \nfriyay! 3pm-6:30pm \n \n  \n 
URL:https://tapstertastingroom.com/event/tapster-lincoln-park-happy-hour-fridays/2026-12-04/
LOCATION:Chicago: Lincoln Park\, Chicago: Lincoln Park\, WA
CATEGORIES:Tapster Lincoln Park
ATTACH;FMTTYPE=image/webp:https://tapstertastingroom.com/wp-content/uploads/2024/06/Happy-Hour-2.webp
END:VEVENT
BEGIN:VEVENT
DTSTART;TZID=UTC:20261210T170000
DTEND;TZID=UTC:20261211T000000
DTSTAMP:20260424T061006
CREATED:20240613T134134Z
LAST-MODIFIED:20240613T134611Z
UID:10010681-1796922000-1796947200@tapstertastingroom.com
SUMMARY:Tapster Lincoln Park Happy Hour - Thursdays
DESCRIPTION:Tapster Lincoln Park Happy Hour \nfree popcorn\n$2.00 domestics \n25% off wine \nevery thursday\, 5pm-12am \nfriyay! 3pm-6:30pm \n \n  \n 
URL:https://tapstertastingroom.com/event/tapster-lincoln-park-happy-hour-thursdays/2026-12-10/
LOCATION:Chicago: Lincoln Park\, Chicago: Lincoln Park\, WA
CATEGORIES:Tapster Lincoln Park
ATTACH;FMTTYPE=image/webp:https://tapstertastingroom.com/wp-content/uploads/2024/06/Happy-Hour-2.webp
END:VEVENT
END:VCALENDAR