BEGIN:VCALENDAR
VERSION:2.0
PRODID:-//Tapster - ECPv6.6.3//NONSGML v1.0//EN
CALSCALE:GREGORIAN
METHOD:PUBLISH
X-ORIGINAL-URL:https://tapstertastingroom.com
X-WR-CALDESC:Events for Tapster
REFRESH-INTERVAL;VALUE=DURATION:PT1H
X-Robots-Tag:noindex
X-PUBLISHED-TTL:PT1H
BEGIN:VTIMEZONE
TZID:UTC
BEGIN:STANDARD
TZOFFSETFROM:+0000
TZOFFSETTO:+0000
TZNAME:UTC
DTSTART:20260101T000000
END:STANDARD
END:VTIMEZONE
BEGIN:VEVENT
DTSTART;TZID=UTC:20260720T190000
DTEND;TZID=UTC:20260720T210000
DTSTAMP:20260423T215442
CREATED:20221121T171953Z
LAST-MODIFIED:20230928T172647Z
UID:10004646-1784574000-1784581200@tapstertastingroom.com
SUMMARY:Monday Night Trivia: Hosted by Sporcle Events
DESCRIPTION:Monday Night Trivia: Hosted by Sporcle Events\nEvery Monday Night\n\nGame 1: 7pm\nGame 2: 8pm\nFree! \nMax of 6 people!
URL:https://tapstertastingroom.com/event/trivia-hosted-by-sporcle-events-game-1/2026-07-20/
LOCATION:Seattle: South Lake Union\, Seattle\, WA
CATEGORIES:Tapster Seattle
ATTACH;FMTTYPE=image/jpeg:https://tapstertastingroom.com/wp-content/uploads/2023/09/TriviaNight.jpg
END:VEVENT
BEGIN:VEVENT
DTSTART;TZID=UTC:20260727T190000
DTEND;TZID=UTC:20260727T210000
DTSTAMP:20260423T215442
CREATED:20221121T171953Z
LAST-MODIFIED:20230928T172647Z
UID:10004647-1785178800-1785186000@tapstertastingroom.com
SUMMARY:Monday Night Trivia: Hosted by Sporcle Events
DESCRIPTION:Monday Night Trivia: Hosted by Sporcle Events\nEvery Monday Night\n\nGame 1: 7pm\nGame 2: 8pm\nFree! \nMax of 6 people!
URL:https://tapstertastingroom.com/event/trivia-hosted-by-sporcle-events-game-1/2026-07-27/
LOCATION:Seattle: South Lake Union\, Seattle\, WA
CATEGORIES:Tapster Seattle
ATTACH;FMTTYPE=image/jpeg:https://tapstertastingroom.com/wp-content/uploads/2023/09/TriviaNight.jpg
END:VEVENT
BEGIN:VEVENT
DTSTART;TZID=UTC:20260803T190000
DTEND;TZID=UTC:20260803T210000
DTSTAMP:20260423T215442
CREATED:20221121T171953Z
LAST-MODIFIED:20230928T172647Z
UID:10004648-1785783600-1785790800@tapstertastingroom.com
SUMMARY:Monday Night Trivia: Hosted by Sporcle Events
DESCRIPTION:Monday Night Trivia: Hosted by Sporcle Events\nEvery Monday Night\n\nGame 1: 7pm\nGame 2: 8pm\nFree! \nMax of 6 people!
URL:https://tapstertastingroom.com/event/trivia-hosted-by-sporcle-events-game-1/2026-08-03/
LOCATION:Seattle: South Lake Union\, Seattle\, WA
CATEGORIES:Tapster Seattle
ATTACH;FMTTYPE=image/jpeg:https://tapstertastingroom.com/wp-content/uploads/2023/09/TriviaNight.jpg
END:VEVENT
BEGIN:VEVENT
DTSTART;TZID=UTC:20260810T190000
DTEND;TZID=UTC:20260810T210000
DTSTAMP:20260423T215442
CREATED:20221121T171953Z
LAST-MODIFIED:20230928T172647Z
UID:10004649-1786388400-1786395600@tapstertastingroom.com
SUMMARY:Monday Night Trivia: Hosted by Sporcle Events
DESCRIPTION:Monday Night Trivia: Hosted by Sporcle Events\nEvery Monday Night\n\nGame 1: 7pm\nGame 2: 8pm\nFree! \nMax of 6 people!
URL:https://tapstertastingroom.com/event/trivia-hosted-by-sporcle-events-game-1/2026-08-10/
LOCATION:Seattle: South Lake Union\, Seattle\, WA
CATEGORIES:Tapster Seattle
ATTACH;FMTTYPE=image/jpeg:https://tapstertastingroom.com/wp-content/uploads/2023/09/TriviaNight.jpg
END:VEVENT
BEGIN:VEVENT
DTSTART;TZID=UTC:20260817T190000
DTEND;TZID=UTC:20260817T210000
DTSTAMP:20260423T215442
CREATED:20221121T171953Z
LAST-MODIFIED:20230928T172647Z
UID:10004650-1786993200-1787000400@tapstertastingroom.com
SUMMARY:Monday Night Trivia: Hosted by Sporcle Events
DESCRIPTION:Monday Night Trivia: Hosted by Sporcle Events\nEvery Monday Night\n\nGame 1: 7pm\nGame 2: 8pm\nFree! \nMax of 6 people!
URL:https://tapstertastingroom.com/event/trivia-hosted-by-sporcle-events-game-1/2026-08-17/
LOCATION:Seattle: South Lake Union\, Seattle\, WA
CATEGORIES:Tapster Seattle
ATTACH;FMTTYPE=image/jpeg:https://tapstertastingroom.com/wp-content/uploads/2023/09/TriviaNight.jpg
END:VEVENT
BEGIN:VEVENT
DTSTART;TZID=UTC:20260824T190000
DTEND;TZID=UTC:20260824T210000
DTSTAMP:20260423T215442
CREATED:20221121T171953Z
LAST-MODIFIED:20230928T172647Z
UID:10004651-1787598000-1787605200@tapstertastingroom.com
SUMMARY:Monday Night Trivia: Hosted by Sporcle Events
DESCRIPTION:Monday Night Trivia: Hosted by Sporcle Events\nEvery Monday Night\n\nGame 1: 7pm\nGame 2: 8pm\nFree! \nMax of 6 people!
URL:https://tapstertastingroom.com/event/trivia-hosted-by-sporcle-events-game-1/2026-08-24/
LOCATION:Seattle: South Lake Union\, Seattle\, WA
CATEGORIES:Tapster Seattle
ATTACH;FMTTYPE=image/jpeg:https://tapstertastingroom.com/wp-content/uploads/2023/09/TriviaNight.jpg
END:VEVENT
BEGIN:VEVENT
DTSTART;TZID=UTC:20260831T190000
DTEND;TZID=UTC:20260831T210000
DTSTAMP:20260423T215442
CREATED:20221121T171953Z
LAST-MODIFIED:20230928T172647Z
UID:10004652-1788202800-1788210000@tapstertastingroom.com
SUMMARY:Monday Night Trivia: Hosted by Sporcle Events
DESCRIPTION:Monday Night Trivia: Hosted by Sporcle Events\nEvery Monday Night\n\nGame 1: 7pm\nGame 2: 8pm\nFree! \nMax of 6 people!
URL:https://tapstertastingroom.com/event/trivia-hosted-by-sporcle-events-game-1/2026-08-31/
LOCATION:Seattle: South Lake Union\, Seattle\, WA
CATEGORIES:Tapster Seattle
ATTACH;FMTTYPE=image/jpeg:https://tapstertastingroom.com/wp-content/uploads/2023/09/TriviaNight.jpg
END:VEVENT
BEGIN:VEVENT
DTSTART;TZID=UTC:20260907T190000
DTEND;TZID=UTC:20260907T210000
DTSTAMP:20260423T215442
CREATED:20221121T171953Z
LAST-MODIFIED:20230928T172647Z
UID:10004653-1788807600-1788814800@tapstertastingroom.com
SUMMARY:Monday Night Trivia: Hosted by Sporcle Events
DESCRIPTION:Monday Night Trivia: Hosted by Sporcle Events\nEvery Monday Night\n\nGame 1: 7pm\nGame 2: 8pm\nFree! \nMax of 6 people!
URL:https://tapstertastingroom.com/event/trivia-hosted-by-sporcle-events-game-1/2026-09-07/
LOCATION:Seattle: South Lake Union\, Seattle\, WA
CATEGORIES:Tapster Seattle
ATTACH;FMTTYPE=image/jpeg:https://tapstertastingroom.com/wp-content/uploads/2023/09/TriviaNight.jpg
END:VEVENT
BEGIN:VEVENT
DTSTART;TZID=UTC:20260914T190000
DTEND;TZID=UTC:20260914T210000
DTSTAMP:20260423T215442
CREATED:20221121T171953Z
LAST-MODIFIED:20230928T172647Z
UID:10004654-1789412400-1789419600@tapstertastingroom.com
SUMMARY:Monday Night Trivia: Hosted by Sporcle Events
DESCRIPTION:Monday Night Trivia: Hosted by Sporcle Events\nEvery Monday Night\n\nGame 1: 7pm\nGame 2: 8pm\nFree! \nMax of 6 people!
URL:https://tapstertastingroom.com/event/trivia-hosted-by-sporcle-events-game-1/2026-09-14/
LOCATION:Seattle: South Lake Union\, Seattle\, WA
CATEGORIES:Tapster Seattle
ATTACH;FMTTYPE=image/jpeg:https://tapstertastingroom.com/wp-content/uploads/2023/09/TriviaNight.jpg
END:VEVENT
BEGIN:VEVENT
DTSTART;TZID=UTC:20260921T190000
DTEND;TZID=UTC:20260921T210000
DTSTAMP:20260423T215442
CREATED:20221121T171953Z
LAST-MODIFIED:20230928T172647Z
UID:10004655-1790017200-1790024400@tapstertastingroom.com
SUMMARY:Monday Night Trivia: Hosted by Sporcle Events
DESCRIPTION:Monday Night Trivia: Hosted by Sporcle Events\nEvery Monday Night\n\nGame 1: 7pm\nGame 2: 8pm\nFree! \nMax of 6 people!
URL:https://tapstertastingroom.com/event/trivia-hosted-by-sporcle-events-game-1/2026-09-21/
LOCATION:Seattle: South Lake Union\, Seattle\, WA
CATEGORIES:Tapster Seattle
ATTACH;FMTTYPE=image/jpeg:https://tapstertastingroom.com/wp-content/uploads/2023/09/TriviaNight.jpg
END:VEVENT
BEGIN:VEVENT
DTSTART;TZID=UTC:20260928T190000
DTEND;TZID=UTC:20260928T210000
DTSTAMP:20260423T215442
CREATED:20221121T171953Z
LAST-MODIFIED:20230928T172647Z
UID:10004656-1790622000-1790629200@tapstertastingroom.com
SUMMARY:Monday Night Trivia: Hosted by Sporcle Events
DESCRIPTION:Monday Night Trivia: Hosted by Sporcle Events\nEvery Monday Night\n\nGame 1: 7pm\nGame 2: 8pm\nFree! \nMax of 6 people!
URL:https://tapstertastingroom.com/event/trivia-hosted-by-sporcle-events-game-1/2026-09-28/
LOCATION:Seattle: South Lake Union\, Seattle\, WA
CATEGORIES:Tapster Seattle
ATTACH;FMTTYPE=image/jpeg:https://tapstertastingroom.com/wp-content/uploads/2023/09/TriviaNight.jpg
END:VEVENT
BEGIN:VEVENT
DTSTART;TZID=UTC:20261005T190000
DTEND;TZID=UTC:20261005T210000
DTSTAMP:20260423T215442
CREATED:20221121T171953Z
LAST-MODIFIED:20230928T172647Z
UID:10004657-1791226800-1791234000@tapstertastingroom.com
SUMMARY:Monday Night Trivia: Hosted by Sporcle Events
DESCRIPTION:Monday Night Trivia: Hosted by Sporcle Events\nEvery Monday Night\n\nGame 1: 7pm\nGame 2: 8pm\nFree! \nMax of 6 people!
URL:https://tapstertastingroom.com/event/trivia-hosted-by-sporcle-events-game-1/2026-10-05/
LOCATION:Seattle: South Lake Union\, Seattle\, WA
CATEGORIES:Tapster Seattle
ATTACH;FMTTYPE=image/jpeg:https://tapstertastingroom.com/wp-content/uploads/2023/09/TriviaNight.jpg
END:VEVENT
BEGIN:VEVENT
DTSTART;TZID=UTC:20261012T190000
DTEND;TZID=UTC:20261012T210000
DTSTAMP:20260423T215442
CREATED:20221121T171953Z
LAST-MODIFIED:20230928T172647Z
UID:10004658-1791831600-1791838800@tapstertastingroom.com
SUMMARY:Monday Night Trivia: Hosted by Sporcle Events
DESCRIPTION:Monday Night Trivia: Hosted by Sporcle Events\nEvery Monday Night\n\nGame 1: 7pm\nGame 2: 8pm\nFree! \nMax of 6 people!
URL:https://tapstertastingroom.com/event/trivia-hosted-by-sporcle-events-game-1/2026-10-12/
LOCATION:Seattle: South Lake Union\, Seattle\, WA
CATEGORIES:Tapster Seattle
ATTACH;FMTTYPE=image/jpeg:https://tapstertastingroom.com/wp-content/uploads/2023/09/TriviaNight.jpg
END:VEVENT
BEGIN:VEVENT
DTSTART;TZID=UTC:20261019T190000
DTEND;TZID=UTC:20261019T210000
DTSTAMP:20260423T215442
CREATED:20221121T171953Z
LAST-MODIFIED:20230928T172647Z
UID:10004659-1792436400-1792443600@tapstertastingroom.com
SUMMARY:Monday Night Trivia: Hosted by Sporcle Events
DESCRIPTION:Monday Night Trivia: Hosted by Sporcle Events\nEvery Monday Night\n\nGame 1: 7pm\nGame 2: 8pm\nFree! \nMax of 6 people!
URL:https://tapstertastingroom.com/event/trivia-hosted-by-sporcle-events-game-1/2026-10-19/
LOCATION:Seattle: South Lake Union\, Seattle\, WA
CATEGORIES:Tapster Seattle
ATTACH;FMTTYPE=image/jpeg:https://tapstertastingroom.com/wp-content/uploads/2023/09/TriviaNight.jpg
END:VEVENT
BEGIN:VEVENT
DTSTART;TZID=UTC:20261026T190000
DTEND;TZID=UTC:20261026T210000
DTSTAMP:20260423T215442
CREATED:20221121T171953Z
LAST-MODIFIED:20230928T172647Z
UID:10004660-1793041200-1793048400@tapstertastingroom.com
SUMMARY:Monday Night Trivia: Hosted by Sporcle Events
DESCRIPTION:Monday Night Trivia: Hosted by Sporcle Events\nEvery Monday Night\n\nGame 1: 7pm\nGame 2: 8pm\nFree! \nMax of 6 people!
URL:https://tapstertastingroom.com/event/trivia-hosted-by-sporcle-events-game-1/2026-10-26/
LOCATION:Seattle: South Lake Union\, Seattle\, WA
CATEGORIES:Tapster Seattle
ATTACH;FMTTYPE=image/jpeg:https://tapstertastingroom.com/wp-content/uploads/2023/09/TriviaNight.jpg
END:VEVENT
BEGIN:VEVENT
DTSTART;TZID=UTC:20261102T190000
DTEND;TZID=UTC:20261102T210000
DTSTAMP:20260423T215442
CREATED:20221121T171953Z
LAST-MODIFIED:20230928T172647Z
UID:10004661-1793646000-1793653200@tapstertastingroom.com
SUMMARY:Monday Night Trivia: Hosted by Sporcle Events
DESCRIPTION:Monday Night Trivia: Hosted by Sporcle Events\nEvery Monday Night\n\nGame 1: 7pm\nGame 2: 8pm\nFree! \nMax of 6 people!
URL:https://tapstertastingroom.com/event/trivia-hosted-by-sporcle-events-game-1/2026-11-02/
LOCATION:Seattle: South Lake Union\, Seattle\, WA
CATEGORIES:Tapster Seattle
ATTACH;FMTTYPE=image/jpeg:https://tapstertastingroom.com/wp-content/uploads/2023/09/TriviaNight.jpg
END:VEVENT
BEGIN:VEVENT
DTSTART;TZID=UTC:20261109T190000
DTEND;TZID=UTC:20261109T210000
DTSTAMP:20260423T215442
CREATED:20221121T171953Z
LAST-MODIFIED:20230928T172647Z
UID:10004662-1794250800-1794258000@tapstertastingroom.com
SUMMARY:Monday Night Trivia: Hosted by Sporcle Events
DESCRIPTION:Monday Night Trivia: Hosted by Sporcle Events\nEvery Monday Night\n\nGame 1: 7pm\nGame 2: 8pm\nFree! \nMax of 6 people!
URL:https://tapstertastingroom.com/event/trivia-hosted-by-sporcle-events-game-1/2026-11-09/
LOCATION:Seattle: South Lake Union\, Seattle\, WA
CATEGORIES:Tapster Seattle
ATTACH;FMTTYPE=image/jpeg:https://tapstertastingroom.com/wp-content/uploads/2023/09/TriviaNight.jpg
END:VEVENT
BEGIN:VEVENT
DTSTART;TZID=UTC:20261116T190000
DTEND;TZID=UTC:20261116T210000
DTSTAMP:20260423T215442
CREATED:20221121T171953Z
LAST-MODIFIED:20230928T172647Z
UID:10004663-1794855600-1794862800@tapstertastingroom.com
SUMMARY:Monday Night Trivia: Hosted by Sporcle Events
DESCRIPTION:Monday Night Trivia: Hosted by Sporcle Events\nEvery Monday Night\n\nGame 1: 7pm\nGame 2: 8pm\nFree! \nMax of 6 people!
URL:https://tapstertastingroom.com/event/trivia-hosted-by-sporcle-events-game-1/2026-11-16/
LOCATION:Seattle: South Lake Union\, Seattle\, WA
CATEGORIES:Tapster Seattle
ATTACH;FMTTYPE=image/jpeg:https://tapstertastingroom.com/wp-content/uploads/2023/09/TriviaNight.jpg
END:VEVENT
BEGIN:VEVENT
DTSTART;TZID=UTC:20261123T190000
DTEND;TZID=UTC:20261123T210000
DTSTAMP:20260423T215442
CREATED:20221121T171953Z
LAST-MODIFIED:20230928T172647Z
UID:10004664-1795460400-1795467600@tapstertastingroom.com
SUMMARY:Monday Night Trivia: Hosted by Sporcle Events
DESCRIPTION:Monday Night Trivia: Hosted by Sporcle Events\nEvery Monday Night\n\nGame 1: 7pm\nGame 2: 8pm\nFree! \nMax of 6 people!
URL:https://tapstertastingroom.com/event/trivia-hosted-by-sporcle-events-game-1/2026-11-23/
LOCATION:Seattle: South Lake Union\, Seattle\, WA
CATEGORIES:Tapster Seattle
ATTACH;FMTTYPE=image/jpeg:https://tapstertastingroom.com/wp-content/uploads/2023/09/TriviaNight.jpg
END:VEVENT
BEGIN:VEVENT
DTSTART;TZID=UTC:20261130T190000
DTEND;TZID=UTC:20261130T210000
DTSTAMP:20260423T215442
CREATED:20221121T171953Z
LAST-MODIFIED:20230928T172647Z
UID:10004665-1796065200-1796072400@tapstertastingroom.com
SUMMARY:Monday Night Trivia: Hosted by Sporcle Events
DESCRIPTION:Monday Night Trivia: Hosted by Sporcle Events\nEvery Monday Night\n\nGame 1: 7pm\nGame 2: 8pm\nFree! \nMax of 6 people!
URL:https://tapstertastingroom.com/event/trivia-hosted-by-sporcle-events-game-1/2026-11-30/
LOCATION:Seattle: South Lake Union\, Seattle\, WA
CATEGORIES:Tapster Seattle
ATTACH;FMTTYPE=image/jpeg:https://tapstertastingroom.com/wp-content/uploads/2023/09/TriviaNight.jpg
END:VEVENT
BEGIN:VEVENT
DTSTART;TZID=UTC:20261207T190000
DTEND;TZID=UTC:20261207T210000
DTSTAMP:20260423T215442
CREATED:20221121T171953Z
LAST-MODIFIED:20230928T172647Z
UID:10004666-1796670000-1796677200@tapstertastingroom.com
SUMMARY:Monday Night Trivia: Hosted by Sporcle Events
DESCRIPTION:Monday Night Trivia: Hosted by Sporcle Events\nEvery Monday Night\n\nGame 1: 7pm\nGame 2: 8pm\nFree! \nMax of 6 people!
URL:https://tapstertastingroom.com/event/trivia-hosted-by-sporcle-events-game-1/2026-12-07/
LOCATION:Seattle: South Lake Union\, Seattle\, WA
CATEGORIES:Tapster Seattle
ATTACH;FMTTYPE=image/jpeg:https://tapstertastingroom.com/wp-content/uploads/2023/09/TriviaNight.jpg
END:VEVENT
BEGIN:VEVENT
DTSTART;TZID=UTC:20261214T190000
DTEND;TZID=UTC:20261214T210000
DTSTAMP:20260423T215442
CREATED:20221121T171953Z
LAST-MODIFIED:20230928T172647Z
UID:10004667-1797274800-1797282000@tapstertastingroom.com
SUMMARY:Monday Night Trivia: Hosted by Sporcle Events
DESCRIPTION:Monday Night Trivia: Hosted by Sporcle Events\nEvery Monday Night\n\nGame 1: 7pm\nGame 2: 8pm\nFree! \nMax of 6 people!
URL:https://tapstertastingroom.com/event/trivia-hosted-by-sporcle-events-game-1/2026-12-14/
LOCATION:Seattle: South Lake Union\, Seattle\, WA
CATEGORIES:Tapster Seattle
ATTACH;FMTTYPE=image/jpeg:https://tapstertastingroom.com/wp-content/uploads/2023/09/TriviaNight.jpg
END:VEVENT
BEGIN:VEVENT
DTSTART;TZID=UTC:20261221T190000
DTEND;TZID=UTC:20261221T210000
DTSTAMP:20260423T215442
CREATED:20221121T171953Z
LAST-MODIFIED:20230928T172647Z
UID:10004668-1797879600-1797886800@tapstertastingroom.com
SUMMARY:Monday Night Trivia: Hosted by Sporcle Events
DESCRIPTION:Monday Night Trivia: Hosted by Sporcle Events\nEvery Monday Night\n\nGame 1: 7pm\nGame 2: 8pm\nFree! \nMax of 6 people!
URL:https://tapstertastingroom.com/event/trivia-hosted-by-sporcle-events-game-1/2026-12-21/
LOCATION:Seattle: South Lake Union\, Seattle\, WA
CATEGORIES:Tapster Seattle
ATTACH;FMTTYPE=image/jpeg:https://tapstertastingroom.com/wp-content/uploads/2023/09/TriviaNight.jpg
END:VEVENT
BEGIN:VEVENT
DTSTART;TZID=UTC:20261228T190000
DTEND;TZID=UTC:20261228T210000
DTSTAMP:20260423T215442
CREATED:20221121T171953Z
LAST-MODIFIED:20230928T172647Z
UID:10004669-1798484400-1798491600@tapstertastingroom.com
SUMMARY:Monday Night Trivia: Hosted by Sporcle Events
DESCRIPTION:Monday Night Trivia: Hosted by Sporcle Events\nEvery Monday Night\n\nGame 1: 7pm\nGame 2: 8pm\nFree! \nMax of 6 people!
URL:https://tapstertastingroom.com/event/trivia-hosted-by-sporcle-events-game-1/2026-12-28/
LOCATION:Seattle: South Lake Union\, Seattle\, WA
CATEGORIES:Tapster Seattle
ATTACH;FMTTYPE=image/jpeg:https://tapstertastingroom.com/wp-content/uploads/2023/09/TriviaNight.jpg
END:VEVENT
BEGIN:VEVENT
DTSTART;TZID=UTC:20270104T190000
DTEND;TZID=UTC:20270104T210000
DTSTAMP:20260423T215442
CREATED:20221121T171953Z
LAST-MODIFIED:20230928T172647Z
UID:10004670-1799089200-1799096400@tapstertastingroom.com
SUMMARY:Monday Night Trivia: Hosted by Sporcle Events
DESCRIPTION:Monday Night Trivia: Hosted by Sporcle Events\nEvery Monday Night\n\nGame 1: 7pm\nGame 2: 8pm\nFree! \nMax of 6 people!
URL:https://tapstertastingroom.com/event/trivia-hosted-by-sporcle-events-game-1/2027-01-04/
LOCATION:Seattle: South Lake Union\, Seattle\, WA
CATEGORIES:Tapster Seattle
ATTACH;FMTTYPE=image/jpeg:https://tapstertastingroom.com/wp-content/uploads/2023/09/TriviaNight.jpg
END:VEVENT
BEGIN:VEVENT
DTSTART;TZID=UTC:20270111T190000
DTEND;TZID=UTC:20270111T210000
DTSTAMP:20260423T215442
CREATED:20221121T171953Z
LAST-MODIFIED:20230928T172647Z
UID:10004671-1799694000-1799701200@tapstertastingroom.com
SUMMARY:Monday Night Trivia: Hosted by Sporcle Events
DESCRIPTION:Monday Night Trivia: Hosted by Sporcle Events\nEvery Monday Night\n\nGame 1: 7pm\nGame 2: 8pm\nFree! \nMax of 6 people!
URL:https://tapstertastingroom.com/event/trivia-hosted-by-sporcle-events-game-1/2027-01-11/
LOCATION:Seattle: South Lake Union\, Seattle\, WA
CATEGORIES:Tapster Seattle
ATTACH;FMTTYPE=image/jpeg:https://tapstertastingroom.com/wp-content/uploads/2023/09/TriviaNight.jpg
END:VEVENT
BEGIN:VEVENT
DTSTART;TZID=UTC:20270118T190000
DTEND;TZID=UTC:20270118T210000
DTSTAMP:20260423T215442
CREATED:20221121T171953Z
LAST-MODIFIED:20230928T172647Z
UID:10004672-1800298800-1800306000@tapstertastingroom.com
SUMMARY:Monday Night Trivia: Hosted by Sporcle Events
DESCRIPTION:Monday Night Trivia: Hosted by Sporcle Events\nEvery Monday Night\n\nGame 1: 7pm\nGame 2: 8pm\nFree! \nMax of 6 people!
URL:https://tapstertastingroom.com/event/trivia-hosted-by-sporcle-events-game-1/2027-01-18/
LOCATION:Seattle: South Lake Union\, Seattle\, WA
CATEGORIES:Tapster Seattle
ATTACH;FMTTYPE=image/jpeg:https://tapstertastingroom.com/wp-content/uploads/2023/09/TriviaNight.jpg
END:VEVENT
BEGIN:VEVENT
DTSTART;TZID=UTC:20270125T190000
DTEND;TZID=UTC:20270125T210000
DTSTAMP:20260423T215442
CREATED:20221121T171953Z
LAST-MODIFIED:20230928T172647Z
UID:10004673-1800903600-1800910800@tapstertastingroom.com
SUMMARY:Monday Night Trivia: Hosted by Sporcle Events
DESCRIPTION:Monday Night Trivia: Hosted by Sporcle Events\nEvery Monday Night\n\nGame 1: 7pm\nGame 2: 8pm\nFree! \nMax of 6 people!
URL:https://tapstertastingroom.com/event/trivia-hosted-by-sporcle-events-game-1/2027-01-25/
LOCATION:Seattle: South Lake Union\, Seattle\, WA
CATEGORIES:Tapster Seattle
ATTACH;FMTTYPE=image/jpeg:https://tapstertastingroom.com/wp-content/uploads/2023/09/TriviaNight.jpg
END:VEVENT
BEGIN:VEVENT
DTSTART;TZID=UTC:20270201T190000
DTEND;TZID=UTC:20270201T210000
DTSTAMP:20260423T215442
CREATED:20221121T171953Z
LAST-MODIFIED:20230928T172647Z
UID:10004674-1801508400-1801515600@tapstertastingroom.com
SUMMARY:Monday Night Trivia: Hosted by Sporcle Events
DESCRIPTION:Monday Night Trivia: Hosted by Sporcle Events\nEvery Monday Night\n\nGame 1: 7pm\nGame 2: 8pm\nFree! \nMax of 6 people!
URL:https://tapstertastingroom.com/event/trivia-hosted-by-sporcle-events-game-1/2027-02-01/
LOCATION:Seattle: South Lake Union\, Seattle\, WA
CATEGORIES:Tapster Seattle
ATTACH;FMTTYPE=image/jpeg:https://tapstertastingroom.com/wp-content/uploads/2023/09/TriviaNight.jpg
END:VEVENT
BEGIN:VEVENT
DTSTART;TZID=UTC:20270208T190000
DTEND;TZID=UTC:20270208T210000
DTSTAMP:20260423T215442
CREATED:20221121T171953Z
LAST-MODIFIED:20230928T172647Z
UID:10004675-1802113200-1802120400@tapstertastingroom.com
SUMMARY:Monday Night Trivia: Hosted by Sporcle Events
DESCRIPTION:Monday Night Trivia: Hosted by Sporcle Events\nEvery Monday Night\n\nGame 1: 7pm\nGame 2: 8pm\nFree! \nMax of 6 people!
URL:https://tapstertastingroom.com/event/trivia-hosted-by-sporcle-events-game-1/2027-02-08/
LOCATION:Seattle: South Lake Union\, Seattle\, WA
CATEGORIES:Tapster Seattle
ATTACH;FMTTYPE=image/jpeg:https://tapstertastingroom.com/wp-content/uploads/2023/09/TriviaNight.jpg
END:VEVENT
END:VCALENDAR