BEGIN:VCALENDAR
VERSION:2.0
PRODID:-//Tapster - ECPv6.6.3//NONSGML v1.0//EN
CALSCALE:GREGORIAN
METHOD:PUBLISH
X-ORIGINAL-URL:https://tapstertastingroom.com
X-WR-CALDESC:Events for Tapster
REFRESH-INTERVAL;VALUE=DURATION:PT1H
X-Robots-Tag:noindex
X-PUBLISHED-TTL:PT1H
BEGIN:VTIMEZONE
TZID:UTC
BEGIN:STANDARD
TZOFFSETFROM:+0000
TZOFFSETTO:+0000
TZNAME:UTC
DTSTART:20270101T000000
END:STANDARD
END:VTIMEZONE
BEGIN:VEVENT
DTSTART;TZID=UTC:20270509T211500
DTEND;TZID=UTC:20270509T211500
DTSTAMP:20260424T031236
CREATED:20221113T212219Z
LAST-MODIFIED:20230124T150312Z
UID:10000856-1809897300-1809897300@tapstertastingroom.com
SUMMARY:Birthday & Corporate Events @ Tapster
DESCRIPTION:Thinking about hosting an event? Need to celebrate something? We are your place! Contact Tapster and have us host your event!
URL:https://tapstertastingroom.com/event/birthday-corporate-events/2027-05-09/
CATEGORIES:Tapster Default
ATTACH;FMTTYPE=image/png:https://tapstertastingroom.com/wp-content/uploads/2023/01/cropped-TapsterLogo2023-White-ALT-letters.png
END:VEVENT
BEGIN:VEVENT
DTSTART;TZID=UTC:20270613T211500
DTEND;TZID=UTC:20270613T211500
DTSTAMP:20260424T031236
CREATED:20221113T212219Z
LAST-MODIFIED:20230124T150312Z
UID:10000857-1812921300-1812921300@tapstertastingroom.com
SUMMARY:Birthday & Corporate Events @ Tapster
DESCRIPTION:Thinking about hosting an event? Need to celebrate something? We are your place! Contact Tapster and have us host your event!
URL:https://tapstertastingroom.com/event/birthday-corporate-events/2027-06-13/
CATEGORIES:Tapster Default
ATTACH;FMTTYPE=image/png:https://tapstertastingroom.com/wp-content/uploads/2023/01/cropped-TapsterLogo2023-White-ALT-letters.png
END:VEVENT
BEGIN:VEVENT
DTSTART;TZID=UTC:20270711T211500
DTEND;TZID=UTC:20270711T211500
DTSTAMP:20260424T031236
CREATED:20221113T212219Z
LAST-MODIFIED:20230124T150312Z
UID:10000858-1815340500-1815340500@tapstertastingroom.com
SUMMARY:Birthday & Corporate Events @ Tapster
DESCRIPTION:Thinking about hosting an event? Need to celebrate something? We are your place! Contact Tapster and have us host your event!
URL:https://tapstertastingroom.com/event/birthday-corporate-events/2027-07-11/
CATEGORIES:Tapster Default
ATTACH;FMTTYPE=image/png:https://tapstertastingroom.com/wp-content/uploads/2023/01/cropped-TapsterLogo2023-White-ALT-letters.png
END:VEVENT
BEGIN:VEVENT
DTSTART;TZID=UTC:20270808T211500
DTEND;TZID=UTC:20270808T211500
DTSTAMP:20260424T031236
CREATED:20221113T212219Z
LAST-MODIFIED:20230124T150312Z
UID:10000859-1817759700-1817759700@tapstertastingroom.com
SUMMARY:Birthday & Corporate Events @ Tapster
DESCRIPTION:Thinking about hosting an event? Need to celebrate something? We are your place! Contact Tapster and have us host your event!
URL:https://tapstertastingroom.com/event/birthday-corporate-events/2027-08-08/
CATEGORIES:Tapster Default
ATTACH;FMTTYPE=image/png:https://tapstertastingroom.com/wp-content/uploads/2023/01/cropped-TapsterLogo2023-White-ALT-letters.png
END:VEVENT
BEGIN:VEVENT
DTSTART;TZID=UTC:20270912T211500
DTEND;TZID=UTC:20270912T211500
DTSTAMP:20260424T031236
CREATED:20221113T212219Z
LAST-MODIFIED:20230124T150312Z
UID:10000860-1820783700-1820783700@tapstertastingroom.com
SUMMARY:Birthday & Corporate Events @ Tapster
DESCRIPTION:Thinking about hosting an event? Need to celebrate something? We are your place! Contact Tapster and have us host your event!
URL:https://tapstertastingroom.com/event/birthday-corporate-events/2027-09-12/
CATEGORIES:Tapster Default
ATTACH;FMTTYPE=image/png:https://tapstertastingroom.com/wp-content/uploads/2023/01/cropped-TapsterLogo2023-White-ALT-letters.png
END:VEVENT
BEGIN:VEVENT
DTSTART;TZID=UTC:20271010T211500
DTEND;TZID=UTC:20271010T211500
DTSTAMP:20260424T031236
CREATED:20221113T212219Z
LAST-MODIFIED:20230124T150312Z
UID:10000861-1823202900-1823202900@tapstertastingroom.com
SUMMARY:Birthday & Corporate Events @ Tapster
DESCRIPTION:Thinking about hosting an event? Need to celebrate something? We are your place! Contact Tapster and have us host your event!
URL:https://tapstertastingroom.com/event/birthday-corporate-events/2027-10-10/
CATEGORIES:Tapster Default
ATTACH;FMTTYPE=image/png:https://tapstertastingroom.com/wp-content/uploads/2023/01/cropped-TapsterLogo2023-White-ALT-letters.png
END:VEVENT
BEGIN:VEVENT
DTSTART;TZID=UTC:20271114T211500
DTEND;TZID=UTC:20271114T211500
DTSTAMP:20260424T031236
CREATED:20221113T212219Z
LAST-MODIFIED:20230124T150312Z
UID:10000862-1826226900-1826226900@tapstertastingroom.com
SUMMARY:Birthday & Corporate Events @ Tapster
DESCRIPTION:Thinking about hosting an event? Need to celebrate something? We are your place! Contact Tapster and have us host your event!
URL:https://tapstertastingroom.com/event/birthday-corporate-events/2027-11-14/
CATEGORIES:Tapster Default
ATTACH;FMTTYPE=image/png:https://tapstertastingroom.com/wp-content/uploads/2023/01/cropped-TapsterLogo2023-White-ALT-letters.png
END:VEVENT
BEGIN:VEVENT
DTSTART;TZID=UTC:20271212T211500
DTEND;TZID=UTC:20271212T211500
DTSTAMP:20260424T031236
CREATED:20221113T212219Z
LAST-MODIFIED:20230124T150312Z
UID:10000863-1828646100-1828646100@tapstertastingroom.com
SUMMARY:Birthday & Corporate Events @ Tapster
DESCRIPTION:Thinking about hosting an event? Need to celebrate something? We are your place! Contact Tapster and have us host your event!
URL:https://tapstertastingroom.com/event/birthday-corporate-events/2027-12-12/
CATEGORIES:Tapster Default
ATTACH;FMTTYPE=image/png:https://tapstertastingroom.com/wp-content/uploads/2023/01/cropped-TapsterLogo2023-White-ALT-letters.png
END:VEVENT
BEGIN:VEVENT
DTSTART;TZID=UTC:20280109T211500
DTEND;TZID=UTC:20280109T211500
DTSTAMP:20260424T031236
CREATED:20221113T212219Z
LAST-MODIFIED:20230124T150312Z
UID:10000864-1831065300-1831065300@tapstertastingroom.com
SUMMARY:Birthday & Corporate Events @ Tapster
DESCRIPTION:Thinking about hosting an event? Need to celebrate something? We are your place! Contact Tapster and have us host your event!
URL:https://tapstertastingroom.com/event/birthday-corporate-events/2028-01-09/
CATEGORIES:Tapster Default
ATTACH;FMTTYPE=image/png:https://tapstertastingroom.com/wp-content/uploads/2023/01/cropped-TapsterLogo2023-White-ALT-letters.png
END:VEVENT
END:VCALENDAR