BEGIN:VCALENDAR
VERSION:2.0
PRODID:-//Tapster - ECPv6.6.3//NONSGML v1.0//EN
CALSCALE:GREGORIAN
METHOD:PUBLISH
X-WR-CALNAME:Tapster
X-ORIGINAL-URL:https://tapstertastingroom.com
X-WR-CALDESC:Events for Tapster
REFRESH-INTERVAL;VALUE=DURATION:PT1H
X-Robots-Tag:noindex
X-PUBLISHED-TTL:PT1H
BEGIN:VTIMEZONE
TZID:UTC
BEGIN:STANDARD
TZOFFSETFROM:+0000
TZOFFSETTO:+0000
TZNAME:UTC
DTSTART:20260101T000000
END:STANDARD
END:VTIMEZONE
BEGIN:VEVENT
DTSTART;TZID=UTC:20260429T070000
DTEND;TZID=UTC:20260429T210000
DTSTAMP:20260423T100351
CREATED:20240606T160145Z
LAST-MODIFIED:20240606T164201Z
UID:10009595-1777446000-1777496400@tapstertastingroom.com
SUMMARY:Tapster Bellevue Stir Up The Paint
DESCRIPTION:Stir Up The Paint\nTapster Bellevue\nWEDNESDAYS 7 – 9 pm\n21+ Event Only\nBook a Private Event with us
URL:https://tapstertastingroom.com/event/tapster-bellevue-stir-up-the-paint/2026-04-29/
LOCATION:Seattle: Bellevue\, 195 106TH AVE NE BELLEVUE\, WA 98004\, Bellevue\, WA\, 98004\, United States
CATEGORIES:Tapster Bellevue
ATTACH;FMTTYPE=image/jpeg:https://tapstertastingroom.com/wp-content/uploads/2024/06/Tapster-Painting-SipandPaint.jpg
END:VEVENT
BEGIN:VEVENT
DTSTART;TZID=UTC:20260506T070000
DTEND;TZID=UTC:20260506T210000
DTSTAMP:20260423T100351
CREATED:20240606T160145Z
LAST-MODIFIED:20240606T164201Z
UID:10009596-1778050800-1778101200@tapstertastingroom.com
SUMMARY:Tapster Bellevue Stir Up The Paint
DESCRIPTION:Stir Up The Paint\nTapster Bellevue\nWEDNESDAYS 7 – 9 pm\n21+ Event Only\nBook a Private Event with us
URL:https://tapstertastingroom.com/event/tapster-bellevue-stir-up-the-paint/2026-05-06/
LOCATION:Seattle: Bellevue\, 195 106TH AVE NE BELLEVUE\, WA 98004\, Bellevue\, WA\, 98004\, United States
CATEGORIES:Tapster Bellevue
ATTACH;FMTTYPE=image/jpeg:https://tapstertastingroom.com/wp-content/uploads/2024/06/Tapster-Painting-SipandPaint.jpg
END:VEVENT
BEGIN:VEVENT
DTSTART;TZID=UTC:20260513T070000
DTEND;TZID=UTC:20260513T210000
DTSTAMP:20260423T100351
CREATED:20240606T160145Z
LAST-MODIFIED:20240606T164201Z
UID:10009597-1778655600-1778706000@tapstertastingroom.com
SUMMARY:Tapster Bellevue Stir Up The Paint
DESCRIPTION:Stir Up The Paint\nTapster Bellevue\nWEDNESDAYS 7 – 9 pm\n21+ Event Only\nBook a Private Event with us
URL:https://tapstertastingroom.com/event/tapster-bellevue-stir-up-the-paint/2026-05-13/
LOCATION:Seattle: Bellevue\, 195 106TH AVE NE BELLEVUE\, WA 98004\, Bellevue\, WA\, 98004\, United States
CATEGORIES:Tapster Bellevue
ATTACH;FMTTYPE=image/jpeg:https://tapstertastingroom.com/wp-content/uploads/2024/06/Tapster-Painting-SipandPaint.jpg
END:VEVENT
BEGIN:VEVENT
DTSTART;TZID=UTC:20260520T070000
DTEND;TZID=UTC:20260520T210000
DTSTAMP:20260423T100351
CREATED:20240606T160145Z
LAST-MODIFIED:20240606T164201Z
UID:10009598-1779260400-1779310800@tapstertastingroom.com
SUMMARY:Tapster Bellevue Stir Up The Paint
DESCRIPTION:Stir Up The Paint\nTapster Bellevue\nWEDNESDAYS 7 – 9 pm\n21+ Event Only\nBook a Private Event with us
URL:https://tapstertastingroom.com/event/tapster-bellevue-stir-up-the-paint/2026-05-20/
LOCATION:Seattle: Bellevue\, 195 106TH AVE NE BELLEVUE\, WA 98004\, Bellevue\, WA\, 98004\, United States
CATEGORIES:Tapster Bellevue
ATTACH;FMTTYPE=image/jpeg:https://tapstertastingroom.com/wp-content/uploads/2024/06/Tapster-Painting-SipandPaint.jpg
END:VEVENT
BEGIN:VEVENT
DTSTART;TZID=UTC:20260527T070000
DTEND;TZID=UTC:20260527T210000
DTSTAMP:20260423T100351
CREATED:20240606T160145Z
LAST-MODIFIED:20240606T164201Z
UID:10009599-1779865200-1779915600@tapstertastingroom.com
SUMMARY:Tapster Bellevue Stir Up The Paint
DESCRIPTION:Stir Up The Paint\nTapster Bellevue\nWEDNESDAYS 7 – 9 pm\n21+ Event Only\nBook a Private Event with us
URL:https://tapstertastingroom.com/event/tapster-bellevue-stir-up-the-paint/2026-05-27/
LOCATION:Seattle: Bellevue\, 195 106TH AVE NE BELLEVUE\, WA 98004\, Bellevue\, WA\, 98004\, United States
CATEGORIES:Tapster Bellevue
ATTACH;FMTTYPE=image/jpeg:https://tapstertastingroom.com/wp-content/uploads/2024/06/Tapster-Painting-SipandPaint.jpg
END:VEVENT
BEGIN:VEVENT
DTSTART;TZID=UTC:20260603T070000
DTEND;TZID=UTC:20260603T210000
DTSTAMP:20260423T100351
CREATED:20240606T160145Z
LAST-MODIFIED:20240606T164201Z
UID:10009600-1780470000-1780520400@tapstertastingroom.com
SUMMARY:Tapster Bellevue Stir Up The Paint
DESCRIPTION:Stir Up The Paint\nTapster Bellevue\nWEDNESDAYS 7 – 9 pm\n21+ Event Only\nBook a Private Event with us
URL:https://tapstertastingroom.com/event/tapster-bellevue-stir-up-the-paint/2026-06-03/
LOCATION:Seattle: Bellevue\, 195 106TH AVE NE BELLEVUE\, WA 98004\, Bellevue\, WA\, 98004\, United States
CATEGORIES:Tapster Bellevue
ATTACH;FMTTYPE=image/jpeg:https://tapstertastingroom.com/wp-content/uploads/2024/06/Tapster-Painting-SipandPaint.jpg
END:VEVENT
BEGIN:VEVENT
DTSTART;TZID=UTC:20260610T070000
DTEND;TZID=UTC:20260610T210000
DTSTAMP:20260423T100351
CREATED:20240606T160145Z
LAST-MODIFIED:20240606T164201Z
UID:10009601-1781074800-1781125200@tapstertastingroom.com
SUMMARY:Tapster Bellevue Stir Up The Paint
DESCRIPTION:Stir Up The Paint\nTapster Bellevue\nWEDNESDAYS 7 – 9 pm\n21+ Event Only\nBook a Private Event with us
URL:https://tapstertastingroom.com/event/tapster-bellevue-stir-up-the-paint/2026-06-10/
LOCATION:Seattle: Bellevue\, 195 106TH AVE NE BELLEVUE\, WA 98004\, Bellevue\, WA\, 98004\, United States
CATEGORIES:Tapster Bellevue
ATTACH;FMTTYPE=image/jpeg:https://tapstertastingroom.com/wp-content/uploads/2024/06/Tapster-Painting-SipandPaint.jpg
END:VEVENT
BEGIN:VEVENT
DTSTART;TZID=UTC:20260617T070000
DTEND;TZID=UTC:20260617T210000
DTSTAMP:20260423T100351
CREATED:20240606T160145Z
LAST-MODIFIED:20240606T164201Z
UID:10009602-1781679600-1781730000@tapstertastingroom.com
SUMMARY:Tapster Bellevue Stir Up The Paint
DESCRIPTION:Stir Up The Paint\nTapster Bellevue\nWEDNESDAYS 7 – 9 pm\n21+ Event Only\nBook a Private Event with us
URL:https://tapstertastingroom.com/event/tapster-bellevue-stir-up-the-paint/2026-06-17/
LOCATION:Seattle: Bellevue\, 195 106TH AVE NE BELLEVUE\, WA 98004\, Bellevue\, WA\, 98004\, United States
CATEGORIES:Tapster Bellevue
ATTACH;FMTTYPE=image/jpeg:https://tapstertastingroom.com/wp-content/uploads/2024/06/Tapster-Painting-SipandPaint.jpg
END:VEVENT
BEGIN:VEVENT
DTSTART;TZID=UTC:20260624T070000
DTEND;TZID=UTC:20260624T210000
DTSTAMP:20260423T100351
CREATED:20240606T160145Z
LAST-MODIFIED:20240606T164201Z
UID:10009603-1782284400-1782334800@tapstertastingroom.com
SUMMARY:Tapster Bellevue Stir Up The Paint
DESCRIPTION:Stir Up The Paint\nTapster Bellevue\nWEDNESDAYS 7 – 9 pm\n21+ Event Only\nBook a Private Event with us
URL:https://tapstertastingroom.com/event/tapster-bellevue-stir-up-the-paint/2026-06-24/
LOCATION:Seattle: Bellevue\, 195 106TH AVE NE BELLEVUE\, WA 98004\, Bellevue\, WA\, 98004\, United States
CATEGORIES:Tapster Bellevue
ATTACH;FMTTYPE=image/jpeg:https://tapstertastingroom.com/wp-content/uploads/2024/06/Tapster-Painting-SipandPaint.jpg
END:VEVENT
BEGIN:VEVENT
DTSTART;TZID=UTC:20260701T070000
DTEND;TZID=UTC:20260701T210000
DTSTAMP:20260423T100351
CREATED:20240606T160145Z
LAST-MODIFIED:20240606T164201Z
UID:10009604-1782889200-1782939600@tapstertastingroom.com
SUMMARY:Tapster Bellevue Stir Up The Paint
DESCRIPTION:Stir Up The Paint\nTapster Bellevue\nWEDNESDAYS 7 – 9 pm\n21+ Event Only\nBook a Private Event with us
URL:https://tapstertastingroom.com/event/tapster-bellevue-stir-up-the-paint/2026-07-01/
LOCATION:Seattle: Bellevue\, 195 106TH AVE NE BELLEVUE\, WA 98004\, Bellevue\, WA\, 98004\, United States
CATEGORIES:Tapster Bellevue
ATTACH;FMTTYPE=image/jpeg:https://tapstertastingroom.com/wp-content/uploads/2024/06/Tapster-Painting-SipandPaint.jpg
END:VEVENT
BEGIN:VEVENT
DTSTART;TZID=UTC:20260708T070000
DTEND;TZID=UTC:20260708T210000
DTSTAMP:20260423T100351
CREATED:20240606T160145Z
LAST-MODIFIED:20240606T164201Z
UID:10009605-1783494000-1783544400@tapstertastingroom.com
SUMMARY:Tapster Bellevue Stir Up The Paint
DESCRIPTION:Stir Up The Paint\nTapster Bellevue\nWEDNESDAYS 7 – 9 pm\n21+ Event Only\nBook a Private Event with us
URL:https://tapstertastingroom.com/event/tapster-bellevue-stir-up-the-paint/2026-07-08/
LOCATION:Seattle: Bellevue\, 195 106TH AVE NE BELLEVUE\, WA 98004\, Bellevue\, WA\, 98004\, United States
CATEGORIES:Tapster Bellevue
ATTACH;FMTTYPE=image/jpeg:https://tapstertastingroom.com/wp-content/uploads/2024/06/Tapster-Painting-SipandPaint.jpg
END:VEVENT
BEGIN:VEVENT
DTSTART;TZID=UTC:20260715T070000
DTEND;TZID=UTC:20260715T210000
DTSTAMP:20260423T100351
CREATED:20240606T160145Z
LAST-MODIFIED:20240606T164201Z
UID:10009606-1784098800-1784149200@tapstertastingroom.com
SUMMARY:Tapster Bellevue Stir Up The Paint
DESCRIPTION:Stir Up The Paint\nTapster Bellevue\nWEDNESDAYS 7 – 9 pm\n21+ Event Only\nBook a Private Event with us
URL:https://tapstertastingroom.com/event/tapster-bellevue-stir-up-the-paint/2026-07-15/
LOCATION:Seattle: Bellevue\, 195 106TH AVE NE BELLEVUE\, WA 98004\, Bellevue\, WA\, 98004\, United States
CATEGORIES:Tapster Bellevue
ATTACH;FMTTYPE=image/jpeg:https://tapstertastingroom.com/wp-content/uploads/2024/06/Tapster-Painting-SipandPaint.jpg
END:VEVENT
BEGIN:VEVENT
DTSTART;TZID=UTC:20260722T070000
DTEND;TZID=UTC:20260722T210000
DTSTAMP:20260423T100351
CREATED:20240606T160145Z
LAST-MODIFIED:20240606T164201Z
UID:10009607-1784703600-1784754000@tapstertastingroom.com
SUMMARY:Tapster Bellevue Stir Up The Paint
DESCRIPTION:Stir Up The Paint\nTapster Bellevue\nWEDNESDAYS 7 – 9 pm\n21+ Event Only\nBook a Private Event with us
URL:https://tapstertastingroom.com/event/tapster-bellevue-stir-up-the-paint/2026-07-22/
LOCATION:Seattle: Bellevue\, 195 106TH AVE NE BELLEVUE\, WA 98004\, Bellevue\, WA\, 98004\, United States
CATEGORIES:Tapster Bellevue
ATTACH;FMTTYPE=image/jpeg:https://tapstertastingroom.com/wp-content/uploads/2024/06/Tapster-Painting-SipandPaint.jpg
END:VEVENT
BEGIN:VEVENT
DTSTART;TZID=UTC:20260729T070000
DTEND;TZID=UTC:20260729T210000
DTSTAMP:20260423T100351
CREATED:20240606T160145Z
LAST-MODIFIED:20240606T164201Z
UID:10009608-1785308400-1785358800@tapstertastingroom.com
SUMMARY:Tapster Bellevue Stir Up The Paint
DESCRIPTION:Stir Up The Paint\nTapster Bellevue\nWEDNESDAYS 7 – 9 pm\n21+ Event Only\nBook a Private Event with us
URL:https://tapstertastingroom.com/event/tapster-bellevue-stir-up-the-paint/2026-07-29/
LOCATION:Seattle: Bellevue\, 195 106TH AVE NE BELLEVUE\, WA 98004\, Bellevue\, WA\, 98004\, United States
CATEGORIES:Tapster Bellevue
ATTACH;FMTTYPE=image/jpeg:https://tapstertastingroom.com/wp-content/uploads/2024/06/Tapster-Painting-SipandPaint.jpg
END:VEVENT
BEGIN:VEVENT
DTSTART;TZID=UTC:20260805T070000
DTEND;TZID=UTC:20260805T210000
DTSTAMP:20260423T100351
CREATED:20240606T160145Z
LAST-MODIFIED:20240606T164201Z
UID:10009609-1785913200-1785963600@tapstertastingroom.com
SUMMARY:Tapster Bellevue Stir Up The Paint
DESCRIPTION:Stir Up The Paint\nTapster Bellevue\nWEDNESDAYS 7 – 9 pm\n21+ Event Only\nBook a Private Event with us
URL:https://tapstertastingroom.com/event/tapster-bellevue-stir-up-the-paint/2026-08-05/
LOCATION:Seattle: Bellevue\, 195 106TH AVE NE BELLEVUE\, WA 98004\, Bellevue\, WA\, 98004\, United States
CATEGORIES:Tapster Bellevue
ATTACH;FMTTYPE=image/jpeg:https://tapstertastingroom.com/wp-content/uploads/2024/06/Tapster-Painting-SipandPaint.jpg
END:VEVENT
BEGIN:VEVENT
DTSTART;TZID=UTC:20260812T070000
DTEND;TZID=UTC:20260812T210000
DTSTAMP:20260423T100352
CREATED:20240606T160145Z
LAST-MODIFIED:20240606T164201Z
UID:10009610-1786518000-1786568400@tapstertastingroom.com
SUMMARY:Tapster Bellevue Stir Up The Paint
DESCRIPTION:Stir Up The Paint\nTapster Bellevue\nWEDNESDAYS 7 – 9 pm\n21+ Event Only\nBook a Private Event with us
URL:https://tapstertastingroom.com/event/tapster-bellevue-stir-up-the-paint/2026-08-12/
LOCATION:Seattle: Bellevue\, 195 106TH AVE NE BELLEVUE\, WA 98004\, Bellevue\, WA\, 98004\, United States
CATEGORIES:Tapster Bellevue
ATTACH;FMTTYPE=image/jpeg:https://tapstertastingroom.com/wp-content/uploads/2024/06/Tapster-Painting-SipandPaint.jpg
END:VEVENT
BEGIN:VEVENT
DTSTART;TZID=UTC:20260819T070000
DTEND;TZID=UTC:20260819T210000
DTSTAMP:20260423T100352
CREATED:20240606T160145Z
LAST-MODIFIED:20240606T164201Z
UID:10009611-1787122800-1787173200@tapstertastingroom.com
SUMMARY:Tapster Bellevue Stir Up The Paint
DESCRIPTION:Stir Up The Paint\nTapster Bellevue\nWEDNESDAYS 7 – 9 pm\n21+ Event Only\nBook a Private Event with us
URL:https://tapstertastingroom.com/event/tapster-bellevue-stir-up-the-paint/2026-08-19/
LOCATION:Seattle: Bellevue\, 195 106TH AVE NE BELLEVUE\, WA 98004\, Bellevue\, WA\, 98004\, United States
CATEGORIES:Tapster Bellevue
ATTACH;FMTTYPE=image/jpeg:https://tapstertastingroom.com/wp-content/uploads/2024/06/Tapster-Painting-SipandPaint.jpg
END:VEVENT
BEGIN:VEVENT
DTSTART;TZID=UTC:20260826T070000
DTEND;TZID=UTC:20260826T210000
DTSTAMP:20260423T100352
CREATED:20240606T160145Z
LAST-MODIFIED:20240606T164201Z
UID:10009612-1787727600-1787778000@tapstertastingroom.com
SUMMARY:Tapster Bellevue Stir Up The Paint
DESCRIPTION:Stir Up The Paint\nTapster Bellevue\nWEDNESDAYS 7 – 9 pm\n21+ Event Only\nBook a Private Event with us
URL:https://tapstertastingroom.com/event/tapster-bellevue-stir-up-the-paint/2026-08-26/
LOCATION:Seattle: Bellevue\, 195 106TH AVE NE BELLEVUE\, WA 98004\, Bellevue\, WA\, 98004\, United States
CATEGORIES:Tapster Bellevue
ATTACH;FMTTYPE=image/jpeg:https://tapstertastingroom.com/wp-content/uploads/2024/06/Tapster-Painting-SipandPaint.jpg
END:VEVENT
BEGIN:VEVENT
DTSTART;TZID=UTC:20260902T070000
DTEND;TZID=UTC:20260902T210000
DTSTAMP:20260423T100352
CREATED:20240606T160145Z
LAST-MODIFIED:20240606T164201Z
UID:10009613-1788332400-1788382800@tapstertastingroom.com
SUMMARY:Tapster Bellevue Stir Up The Paint
DESCRIPTION:Stir Up The Paint\nTapster Bellevue\nWEDNESDAYS 7 – 9 pm\n21+ Event Only\nBook a Private Event with us
URL:https://tapstertastingroom.com/event/tapster-bellevue-stir-up-the-paint/2026-09-02/
LOCATION:Seattle: Bellevue\, 195 106TH AVE NE BELLEVUE\, WA 98004\, Bellevue\, WA\, 98004\, United States
CATEGORIES:Tapster Bellevue
ATTACH;FMTTYPE=image/jpeg:https://tapstertastingroom.com/wp-content/uploads/2024/06/Tapster-Painting-SipandPaint.jpg
END:VEVENT
BEGIN:VEVENT
DTSTART;TZID=UTC:20260909T070000
DTEND;TZID=UTC:20260909T210000
DTSTAMP:20260423T100352
CREATED:20240606T160145Z
LAST-MODIFIED:20240606T164201Z
UID:10009614-1788937200-1788987600@tapstertastingroom.com
SUMMARY:Tapster Bellevue Stir Up The Paint
DESCRIPTION:Stir Up The Paint\nTapster Bellevue\nWEDNESDAYS 7 – 9 pm\n21+ Event Only\nBook a Private Event with us
URL:https://tapstertastingroom.com/event/tapster-bellevue-stir-up-the-paint/2026-09-09/
LOCATION:Seattle: Bellevue\, 195 106TH AVE NE BELLEVUE\, WA 98004\, Bellevue\, WA\, 98004\, United States
CATEGORIES:Tapster Bellevue
ATTACH;FMTTYPE=image/jpeg:https://tapstertastingroom.com/wp-content/uploads/2024/06/Tapster-Painting-SipandPaint.jpg
END:VEVENT
BEGIN:VEVENT
DTSTART;TZID=UTC:20260916T070000
DTEND;TZID=UTC:20260916T210000
DTSTAMP:20260423T100352
CREATED:20240606T160145Z
LAST-MODIFIED:20240606T164201Z
UID:10009615-1789542000-1789592400@tapstertastingroom.com
SUMMARY:Tapster Bellevue Stir Up The Paint
DESCRIPTION:Stir Up The Paint\nTapster Bellevue\nWEDNESDAYS 7 – 9 pm\n21+ Event Only\nBook a Private Event with us
URL:https://tapstertastingroom.com/event/tapster-bellevue-stir-up-the-paint/2026-09-16/
LOCATION:Seattle: Bellevue\, 195 106TH AVE NE BELLEVUE\, WA 98004\, Bellevue\, WA\, 98004\, United States
CATEGORIES:Tapster Bellevue
ATTACH;FMTTYPE=image/jpeg:https://tapstertastingroom.com/wp-content/uploads/2024/06/Tapster-Painting-SipandPaint.jpg
END:VEVENT
BEGIN:VEVENT
DTSTART;TZID=UTC:20260923T070000
DTEND;TZID=UTC:20260923T210000
DTSTAMP:20260423T100352
CREATED:20240606T160145Z
LAST-MODIFIED:20240606T164201Z
UID:10009616-1790146800-1790197200@tapstertastingroom.com
SUMMARY:Tapster Bellevue Stir Up The Paint
DESCRIPTION:Stir Up The Paint\nTapster Bellevue\nWEDNESDAYS 7 – 9 pm\n21+ Event Only\nBook a Private Event with us
URL:https://tapstertastingroom.com/event/tapster-bellevue-stir-up-the-paint/2026-09-23/
LOCATION:Seattle: Bellevue\, 195 106TH AVE NE BELLEVUE\, WA 98004\, Bellevue\, WA\, 98004\, United States
CATEGORIES:Tapster Bellevue
ATTACH;FMTTYPE=image/jpeg:https://tapstertastingroom.com/wp-content/uploads/2024/06/Tapster-Painting-SipandPaint.jpg
END:VEVENT
BEGIN:VEVENT
DTSTART;TZID=UTC:20260930T070000
DTEND;TZID=UTC:20260930T210000
DTSTAMP:20260423T100352
CREATED:20240606T160145Z
LAST-MODIFIED:20240606T164201Z
UID:10009617-1790751600-1790802000@tapstertastingroom.com
SUMMARY:Tapster Bellevue Stir Up The Paint
DESCRIPTION:Stir Up The Paint\nTapster Bellevue\nWEDNESDAYS 7 – 9 pm\n21+ Event Only\nBook a Private Event with us
URL:https://tapstertastingroom.com/event/tapster-bellevue-stir-up-the-paint/2026-09-30/
LOCATION:Seattle: Bellevue\, 195 106TH AVE NE BELLEVUE\, WA 98004\, Bellevue\, WA\, 98004\, United States
CATEGORIES:Tapster Bellevue
ATTACH;FMTTYPE=image/jpeg:https://tapstertastingroom.com/wp-content/uploads/2024/06/Tapster-Painting-SipandPaint.jpg
END:VEVENT
BEGIN:VEVENT
DTSTART;TZID=UTC:20261007T070000
DTEND;TZID=UTC:20261007T210000
DTSTAMP:20260423T100352
CREATED:20240606T160145Z
LAST-MODIFIED:20240606T164201Z
UID:10009618-1791356400-1791406800@tapstertastingroom.com
SUMMARY:Tapster Bellevue Stir Up The Paint
DESCRIPTION:Stir Up The Paint\nTapster Bellevue\nWEDNESDAYS 7 – 9 pm\n21+ Event Only\nBook a Private Event with us
URL:https://tapstertastingroom.com/event/tapster-bellevue-stir-up-the-paint/2026-10-07/
LOCATION:Seattle: Bellevue\, 195 106TH AVE NE BELLEVUE\, WA 98004\, Bellevue\, WA\, 98004\, United States
CATEGORIES:Tapster Bellevue
ATTACH;FMTTYPE=image/jpeg:https://tapstertastingroom.com/wp-content/uploads/2024/06/Tapster-Painting-SipandPaint.jpg
END:VEVENT
BEGIN:VEVENT
DTSTART;TZID=UTC:20261014T070000
DTEND;TZID=UTC:20261014T210000
DTSTAMP:20260423T100352
CREATED:20240606T160145Z
LAST-MODIFIED:20240606T164201Z
UID:10009619-1791961200-1792011600@tapstertastingroom.com
SUMMARY:Tapster Bellevue Stir Up The Paint
DESCRIPTION:Stir Up The Paint\nTapster Bellevue\nWEDNESDAYS 7 – 9 pm\n21+ Event Only\nBook a Private Event with us
URL:https://tapstertastingroom.com/event/tapster-bellevue-stir-up-the-paint/2026-10-14/
LOCATION:Seattle: Bellevue\, 195 106TH AVE NE BELLEVUE\, WA 98004\, Bellevue\, WA\, 98004\, United States
CATEGORIES:Tapster Bellevue
ATTACH;FMTTYPE=image/jpeg:https://tapstertastingroom.com/wp-content/uploads/2024/06/Tapster-Painting-SipandPaint.jpg
END:VEVENT
BEGIN:VEVENT
DTSTART;TZID=UTC:20261021T070000
DTEND;TZID=UTC:20261021T210000
DTSTAMP:20260423T100352
CREATED:20240606T160145Z
LAST-MODIFIED:20240606T164201Z
UID:10009620-1792566000-1792616400@tapstertastingroom.com
SUMMARY:Tapster Bellevue Stir Up The Paint
DESCRIPTION:Stir Up The Paint\nTapster Bellevue\nWEDNESDAYS 7 – 9 pm\n21+ Event Only\nBook a Private Event with us
URL:https://tapstertastingroom.com/event/tapster-bellevue-stir-up-the-paint/2026-10-21/
LOCATION:Seattle: Bellevue\, 195 106TH AVE NE BELLEVUE\, WA 98004\, Bellevue\, WA\, 98004\, United States
CATEGORIES:Tapster Bellevue
ATTACH;FMTTYPE=image/jpeg:https://tapstertastingroom.com/wp-content/uploads/2024/06/Tapster-Painting-SipandPaint.jpg
END:VEVENT
BEGIN:VEVENT
DTSTART;TZID=UTC:20261028T070000
DTEND;TZID=UTC:20261028T210000
DTSTAMP:20260423T100352
CREATED:20240606T160145Z
LAST-MODIFIED:20240606T164201Z
UID:10009621-1793170800-1793221200@tapstertastingroom.com
SUMMARY:Tapster Bellevue Stir Up The Paint
DESCRIPTION:Stir Up The Paint\nTapster Bellevue\nWEDNESDAYS 7 – 9 pm\n21+ Event Only\nBook a Private Event with us
URL:https://tapstertastingroom.com/event/tapster-bellevue-stir-up-the-paint/2026-10-28/
LOCATION:Seattle: Bellevue\, 195 106TH AVE NE BELLEVUE\, WA 98004\, Bellevue\, WA\, 98004\, United States
CATEGORIES:Tapster Bellevue
ATTACH;FMTTYPE=image/jpeg:https://tapstertastingroom.com/wp-content/uploads/2024/06/Tapster-Painting-SipandPaint.jpg
END:VEVENT
BEGIN:VEVENT
DTSTART;TZID=UTC:20261104T070000
DTEND;TZID=UTC:20261104T210000
DTSTAMP:20260423T100352
CREATED:20240606T160145Z
LAST-MODIFIED:20240606T164201Z
UID:10009622-1793775600-1793826000@tapstertastingroom.com
SUMMARY:Tapster Bellevue Stir Up The Paint
DESCRIPTION:Stir Up The Paint\nTapster Bellevue\nWEDNESDAYS 7 – 9 pm\n21+ Event Only\nBook a Private Event with us
URL:https://tapstertastingroom.com/event/tapster-bellevue-stir-up-the-paint/2026-11-04/
LOCATION:Seattle: Bellevue\, 195 106TH AVE NE BELLEVUE\, WA 98004\, Bellevue\, WA\, 98004\, United States
CATEGORIES:Tapster Bellevue
ATTACH;FMTTYPE=image/jpeg:https://tapstertastingroom.com/wp-content/uploads/2024/06/Tapster-Painting-SipandPaint.jpg
END:VEVENT
BEGIN:VEVENT
DTSTART;TZID=UTC:20261111T070000
DTEND;TZID=UTC:20261111T210000
DTSTAMP:20260423T100352
CREATED:20240606T160145Z
LAST-MODIFIED:20240606T164201Z
UID:10009623-1794380400-1794430800@tapstertastingroom.com
SUMMARY:Tapster Bellevue Stir Up The Paint
DESCRIPTION:Stir Up The Paint\nTapster Bellevue\nWEDNESDAYS 7 – 9 pm\n21+ Event Only\nBook a Private Event with us
URL:https://tapstertastingroom.com/event/tapster-bellevue-stir-up-the-paint/2026-11-11/
LOCATION:Seattle: Bellevue\, 195 106TH AVE NE BELLEVUE\, WA 98004\, Bellevue\, WA\, 98004\, United States
CATEGORIES:Tapster Bellevue
ATTACH;FMTTYPE=image/jpeg:https://tapstertastingroom.com/wp-content/uploads/2024/06/Tapster-Painting-SipandPaint.jpg
END:VEVENT
BEGIN:VEVENT
DTSTART;TZID=UTC:20261118T070000
DTEND;TZID=UTC:20261118T210000
DTSTAMP:20260423T100352
CREATED:20240606T160145Z
LAST-MODIFIED:20240606T164201Z
UID:10009624-1794985200-1795035600@tapstertastingroom.com
SUMMARY:Tapster Bellevue Stir Up The Paint
DESCRIPTION:Stir Up The Paint\nTapster Bellevue\nWEDNESDAYS 7 – 9 pm\n21+ Event Only\nBook a Private Event with us
URL:https://tapstertastingroom.com/event/tapster-bellevue-stir-up-the-paint/2026-11-18/
LOCATION:Seattle: Bellevue\, 195 106TH AVE NE BELLEVUE\, WA 98004\, Bellevue\, WA\, 98004\, United States
CATEGORIES:Tapster Bellevue
ATTACH;FMTTYPE=image/jpeg:https://tapstertastingroom.com/wp-content/uploads/2024/06/Tapster-Painting-SipandPaint.jpg
END:VEVENT
END:VCALENDAR