BEGIN:VCALENDAR
VERSION:2.0
PRODID:-//Tapster - ECPv6.6.3//NONSGML v1.0//EN
CALSCALE:GREGORIAN
METHOD:PUBLISH
X-WR-CALNAME:Tapster
X-ORIGINAL-URL:https://tapstertastingroom.com
X-WR-CALDESC:Events for Tapster
REFRESH-INTERVAL;VALUE=DURATION:PT1H
X-Robots-Tag:noindex
X-PUBLISHED-TTL:PT1H
BEGIN:VTIMEZONE
TZID:UTC
BEGIN:STANDARD
TZOFFSETFROM:+0000
TZOFFSETTO:+0000
TZNAME:UTC
DTSTART:20270101T000000
END:STANDARD
END:VTIMEZONE
BEGIN:VEVENT
DTSTART;TZID=UTC:20270701T190000
DTEND;TZID=UTC:20270701T210000
DTSTAMP:20260422T082511
CREATED:20231005T213919Z
LAST-MODIFIED:20231005T222254Z
UID:10006636-1814468400-1814475600@tapstertastingroom.com
SUMMARY:Live Jazz Music - 1st Thursday
DESCRIPTION:Live Jazz\n1st Thursday of the month \nCan you dig it?
URL:https://tapstertastingroom.com/event/live-jazz-music-1st-thursday/2027-07-01/
LOCATION:Philly\, Philadelphia\, WA
CATEGORIES:Tapster Philly
ATTACH;FMTTYPE=image/jpeg:https://tapstertastingroom.com/wp-content/uploads/2023/10/Tapster-LiveJazz.jpg
END:VEVENT
BEGIN:VEVENT
DTSTART;VALUE=DATE:20270704
DTEND;VALUE=DATE:20270705
DTSTAMP:20260422T082511
CREATED:20231005T221244Z
LAST-MODIFIED:20231005T224256Z
UID:10006847-1814659200-1814745599@tapstertastingroom.com
SUMMARY:Rolling Rock Only $2.88 a Pint
DESCRIPTION:ROLLING ROCK SPECIAL\nONLY $2.88 a PINT\nON TAP Every Day!
URL:https://tapstertastingroom.com/event/rolling-rock-only-2-88-a-pint/2027-07-04/
LOCATION:Philly\, Philadelphia\, WA
CATEGORIES:Tapster Philly
ATTACH;FMTTYPE=image/jpeg:https://tapstertastingroom.com/wp-content/uploads/2023/10/Tapster-RollingRock.jpg
END:VEVENT
BEGIN:VEVENT
DTSTART;VALUE=DATE:20270704
DTEND;VALUE=DATE:20270705
DTSTAMP:20260422T082511
CREATED:20241002T162523Z
LAST-MODIFIED:20241002T162523Z
UID:10011761-1814659200-1814745599@tapstertastingroom.com
SUMMARY:Industry Night - Sundays
DESCRIPTION:Industry night – 30% for all restaurant / bar staff \nCOME HANG OUT WITH US
URL:https://tapstertastingroom.com/event/industry-night-sundays-2/2027-07-04/
LOCATION:Philly\, Philadelphia\, WA
CATEGORIES:Tapster Philly
ATTACH;FMTTYPE=image/jpeg:https://tapstertastingroom.com/wp-content/uploads/2023/10/Tapster-IndustryNight-Sundays.jpg
END:VEVENT
BEGIN:VEVENT
DTSTART;VALUE=DATE:20270706
DTEND;VALUE=DATE:20270707
DTSTAMP:20260422T082511
CREATED:20231005T231330Z
LAST-MODIFIED:20231005T231330Z
UID:10007631-1814832000-1814918399@tapstertastingroom.com
SUMMARY:Beer Night - TUESDAYS
DESCRIPTION:$2 Beer Night\n(all macro beers $2) \nTUESDAYS
URL:https://tapstertastingroom.com/event/beer-night-tuesdays/2027-07-06/
LOCATION:Philly\, Philadelphia\, WA
CATEGORIES:Tapster Philly
ATTACH;FMTTYPE=image/jpeg:https://tapstertastingroom.com/wp-content/uploads/2023/10/Tapster-BeerNight.jpg
END:VEVENT
BEGIN:VEVENT
DTSTART;TZID=UTC:20270706T190000
DTEND;TZID=UTC:20270706T210000
DTSTAMP:20260422T082511
CREATED:20231005T211716Z
LAST-MODIFIED:20231005T211716Z
UID:10005742-1814900400-1814907600@tapstertastingroom.com
SUMMARY:King Trivia Tuesdays
DESCRIPTION:Trivia 7pm (free). \n$2 Beer Night\n(all macro beers $2)
URL:https://tapstertastingroom.com/event/king-trivia-tuesdays/2027-07-06/
LOCATION:Philly\, Philadelphia\, WA
CATEGORIES:Tapster Philly
ATTACH;FMTTYPE=image/jpeg:https://tapstertastingroom.com/wp-content/uploads/2023/10/Tapster-Starting-Post-3.jpg
END:VEVENT
BEGIN:VEVENT
DTSTART;VALUE=DATE:20270707
DTEND;VALUE=DATE:20270708
DTSTAMP:20260422T082511
CREATED:20231005T213202Z
LAST-MODIFIED:20231005T213202Z
UID:10006525-1814918400-1815004799@tapstertastingroom.com
SUMMARY:Wine Wednesdays
DESCRIPTION:Wine Wednesdays\n$5 on all glasses of wine!
URL:https://tapstertastingroom.com/event/wine-wednesdays/2027-07-07/
LOCATION:Philly\, Philadelphia\, WA
CATEGORIES:Tapster Philly
ATTACH;FMTTYPE=image/jpeg:https://tapstertastingroom.com/wp-content/uploads/2022/11/271629586_675601456771153_8572555226883334159_n.jpg
END:VEVENT
BEGIN:VEVENT
DTSTART;VALUE=DATE:20270711
DTEND;VALUE=DATE:20270712
DTSTAMP:20260422T082511
CREATED:20231005T221244Z
LAST-MODIFIED:20231005T224256Z
UID:10006848-1815264000-1815350399@tapstertastingroom.com
SUMMARY:Rolling Rock Only $2.88 a Pint
DESCRIPTION:ROLLING ROCK SPECIAL\nONLY $2.88 a PINT\nON TAP Every Day!
URL:https://tapstertastingroom.com/event/rolling-rock-only-2-88-a-pint/2027-07-11/
LOCATION:Philly\, Philadelphia\, WA
CATEGORIES:Tapster Philly
ATTACH;FMTTYPE=image/jpeg:https://tapstertastingroom.com/wp-content/uploads/2023/10/Tapster-RollingRock.jpg
END:VEVENT
BEGIN:VEVENT
DTSTART;VALUE=DATE:20270711
DTEND;VALUE=DATE:20270712
DTSTAMP:20260422T082511
CREATED:20240913T224348Z
LAST-MODIFIED:20240913T224348Z
UID:10007272-1815264000-1815350399@tapstertastingroom.com
SUMMARY:Beer of The Month
DESCRIPTION:Beer of the Month:\n$4 pints on specialty beers all month long\nALWAYS SOMETHING NEW TO TRY
URL:https://tapstertastingroom.com/event/beer-of-the-month-2/2027-07-11/
LOCATION:Philly\, Philadelphia\, WA
CATEGORIES:Tapster Philly
ATTACH;FMTTYPE=image/jpeg:https://tapstertastingroom.com/wp-content/uploads/2023/10/Tapster-BeersofMonth.jpg
END:VEVENT
BEGIN:VEVENT
DTSTART;VALUE=DATE:20270711
DTEND;VALUE=DATE:20270712
DTSTAMP:20260422T082511
CREATED:20241002T162523Z
LAST-MODIFIED:20241002T162523Z
UID:10011762-1815264000-1815350399@tapstertastingroom.com
SUMMARY:Industry Night - Sundays
DESCRIPTION:Industry night – 30% for all restaurant / bar staff \nCOME HANG OUT WITH US
URL:https://tapstertastingroom.com/event/industry-night-sundays-2/2027-07-11/
LOCATION:Philly\, Philadelphia\, WA
CATEGORIES:Tapster Philly
ATTACH;FMTTYPE=image/jpeg:https://tapstertastingroom.com/wp-content/uploads/2023/10/Tapster-IndustryNight-Sundays.jpg
END:VEVENT
BEGIN:VEVENT
DTSTART;VALUE=DATE:20270713
DTEND;VALUE=DATE:20270714
DTSTAMP:20260422T082511
CREATED:20231005T231330Z
LAST-MODIFIED:20231005T231330Z
UID:10007632-1815436800-1815523199@tapstertastingroom.com
SUMMARY:Beer Night - TUESDAYS
DESCRIPTION:$2 Beer Night\n(all macro beers $2) \nTUESDAYS
URL:https://tapstertastingroom.com/event/beer-night-tuesdays/2027-07-13/
LOCATION:Philly\, Philadelphia\, WA
CATEGORIES:Tapster Philly
ATTACH;FMTTYPE=image/jpeg:https://tapstertastingroom.com/wp-content/uploads/2023/10/Tapster-BeerNight.jpg
END:VEVENT
BEGIN:VEVENT
DTSTART;TZID=UTC:20270713T190000
DTEND;TZID=UTC:20270713T210000
DTSTAMP:20260422T082511
CREATED:20231005T211716Z
LAST-MODIFIED:20231005T211716Z
UID:10005743-1815505200-1815512400@tapstertastingroom.com
SUMMARY:King Trivia Tuesdays
DESCRIPTION:Trivia 7pm (free). \n$2 Beer Night\n(all macro beers $2)
URL:https://tapstertastingroom.com/event/king-trivia-tuesdays/2027-07-13/
LOCATION:Philly\, Philadelphia\, WA
CATEGORIES:Tapster Philly
ATTACH;FMTTYPE=image/jpeg:https://tapstertastingroom.com/wp-content/uploads/2023/10/Tapster-Starting-Post-3.jpg
END:VEVENT
BEGIN:VEVENT
DTSTART;VALUE=DATE:20270714
DTEND;VALUE=DATE:20270715
DTSTAMP:20260422T082511
CREATED:20231005T213202Z
LAST-MODIFIED:20231005T213202Z
UID:10006526-1815523200-1815609599@tapstertastingroom.com
SUMMARY:Wine Wednesdays
DESCRIPTION:Wine Wednesdays\n$5 on all glasses of wine!
URL:https://tapstertastingroom.com/event/wine-wednesdays/2027-07-14/
LOCATION:Philly\, Philadelphia\, WA
CATEGORIES:Tapster Philly
ATTACH;FMTTYPE=image/jpeg:https://tapstertastingroom.com/wp-content/uploads/2022/11/271629586_675601456771153_8572555226883334159_n.jpg
END:VEVENT
BEGIN:VEVENT
DTSTART;VALUE=DATE:20270718
DTEND;VALUE=DATE:20270719
DTSTAMP:20260422T082511
CREATED:20231005T221244Z
LAST-MODIFIED:20231005T224256Z
UID:10006849-1815868800-1815955199@tapstertastingroom.com
SUMMARY:Rolling Rock Only $2.88 a Pint
DESCRIPTION:ROLLING ROCK SPECIAL\nONLY $2.88 a PINT\nON TAP Every Day!
URL:https://tapstertastingroom.com/event/rolling-rock-only-2-88-a-pint/2027-07-18/
LOCATION:Philly\, Philadelphia\, WA
CATEGORIES:Tapster Philly
ATTACH;FMTTYPE=image/jpeg:https://tapstertastingroom.com/wp-content/uploads/2023/10/Tapster-RollingRock.jpg
END:VEVENT
BEGIN:VEVENT
DTSTART;VALUE=DATE:20270718
DTEND;VALUE=DATE:20270719
DTSTAMP:20260422T082511
CREATED:20241002T162523Z
LAST-MODIFIED:20241002T162523Z
UID:10011763-1815868800-1815955199@tapstertastingroom.com
SUMMARY:Industry Night - Sundays
DESCRIPTION:Industry night – 30% for all restaurant / bar staff \nCOME HANG OUT WITH US
URL:https://tapstertastingroom.com/event/industry-night-sundays-2/2027-07-18/
LOCATION:Philly\, Philadelphia\, WA
CATEGORIES:Tapster Philly
ATTACH;FMTTYPE=image/jpeg:https://tapstertastingroom.com/wp-content/uploads/2023/10/Tapster-IndustryNight-Sundays.jpg
END:VEVENT
BEGIN:VEVENT
DTSTART;VALUE=DATE:20270720
DTEND;VALUE=DATE:20270721
DTSTAMP:20260422T082511
CREATED:20231005T231330Z
LAST-MODIFIED:20231005T231330Z
UID:10007633-1816041600-1816127999@tapstertastingroom.com
SUMMARY:Beer Night - TUESDAYS
DESCRIPTION:$2 Beer Night\n(all macro beers $2) \nTUESDAYS
URL:https://tapstertastingroom.com/event/beer-night-tuesdays/2027-07-20/
LOCATION:Philly\, Philadelphia\, WA
CATEGORIES:Tapster Philly
ATTACH;FMTTYPE=image/jpeg:https://tapstertastingroom.com/wp-content/uploads/2023/10/Tapster-BeerNight.jpg
END:VEVENT
BEGIN:VEVENT
DTSTART;TZID=UTC:20270720T190000
DTEND;TZID=UTC:20270720T210000
DTSTAMP:20260422T082511
CREATED:20231005T211716Z
LAST-MODIFIED:20231005T211716Z
UID:10005744-1816110000-1816117200@tapstertastingroom.com
SUMMARY:King Trivia Tuesdays
DESCRIPTION:Trivia 7pm (free). \n$2 Beer Night\n(all macro beers $2)
URL:https://tapstertastingroom.com/event/king-trivia-tuesdays/2027-07-20/
LOCATION:Philly\, Philadelphia\, WA
CATEGORIES:Tapster Philly
ATTACH;FMTTYPE=image/jpeg:https://tapstertastingroom.com/wp-content/uploads/2023/10/Tapster-Starting-Post-3.jpg
END:VEVENT
BEGIN:VEVENT
DTSTART;VALUE=DATE:20270721
DTEND;VALUE=DATE:20270722
DTSTAMP:20260422T082511
CREATED:20231005T213202Z
LAST-MODIFIED:20231005T213202Z
UID:10006527-1816128000-1816214399@tapstertastingroom.com
SUMMARY:Wine Wednesdays
DESCRIPTION:Wine Wednesdays\n$5 on all glasses of wine!
URL:https://tapstertastingroom.com/event/wine-wednesdays/2027-07-21/
LOCATION:Philly\, Philadelphia\, WA
CATEGORIES:Tapster Philly
ATTACH;FMTTYPE=image/jpeg:https://tapstertastingroom.com/wp-content/uploads/2022/11/271629586_675601456771153_8572555226883334159_n.jpg
END:VEVENT
BEGIN:VEVENT
DTSTART;VALUE=DATE:20270725
DTEND;VALUE=DATE:20270726
DTSTAMP:20260422T082511
CREATED:20231005T221244Z
LAST-MODIFIED:20231005T224256Z
UID:10006850-1816473600-1816559999@tapstertastingroom.com
SUMMARY:Rolling Rock Only $2.88 a Pint
DESCRIPTION:ROLLING ROCK SPECIAL\nONLY $2.88 a PINT\nON TAP Every Day!
URL:https://tapstertastingroom.com/event/rolling-rock-only-2-88-a-pint/2027-07-25/
LOCATION:Philly\, Philadelphia\, WA
CATEGORIES:Tapster Philly
ATTACH;FMTTYPE=image/jpeg:https://tapstertastingroom.com/wp-content/uploads/2023/10/Tapster-RollingRock.jpg
END:VEVENT
BEGIN:VEVENT
DTSTART;VALUE=DATE:20270725
DTEND;VALUE=DATE:20270726
DTSTAMP:20260422T082511
CREATED:20240913T224348Z
LAST-MODIFIED:20240913T224348Z
UID:10007273-1816473600-1816559999@tapstertastingroom.com
SUMMARY:Beer of The Month
DESCRIPTION:Beer of the Month:\n$4 pints on specialty beers all month long\nALWAYS SOMETHING NEW TO TRY
URL:https://tapstertastingroom.com/event/beer-of-the-month-2/2027-07-25/
LOCATION:Philly\, Philadelphia\, WA
CATEGORIES:Tapster Philly
ATTACH;FMTTYPE=image/jpeg:https://tapstertastingroom.com/wp-content/uploads/2023/10/Tapster-BeersofMonth.jpg
END:VEVENT
BEGIN:VEVENT
DTSTART;VALUE=DATE:20270725
DTEND;VALUE=DATE:20270726
DTSTAMP:20260422T082511
CREATED:20241002T162523Z
LAST-MODIFIED:20241002T162523Z
UID:10011764-1816473600-1816559999@tapstertastingroom.com
SUMMARY:Industry Night - Sundays
DESCRIPTION:Industry night – 30% for all restaurant / bar staff \nCOME HANG OUT WITH US
URL:https://tapstertastingroom.com/event/industry-night-sundays-2/2027-07-25/
LOCATION:Philly\, Philadelphia\, WA
CATEGORIES:Tapster Philly
ATTACH;FMTTYPE=image/jpeg:https://tapstertastingroom.com/wp-content/uploads/2023/10/Tapster-IndustryNight-Sundays.jpg
END:VEVENT
BEGIN:VEVENT
DTSTART;VALUE=DATE:20270727
DTEND;VALUE=DATE:20270728
DTSTAMP:20260422T082511
CREATED:20231005T231330Z
LAST-MODIFIED:20231005T231330Z
UID:10007634-1816646400-1816732799@tapstertastingroom.com
SUMMARY:Beer Night - TUESDAYS
DESCRIPTION:$2 Beer Night\n(all macro beers $2) \nTUESDAYS
URL:https://tapstertastingroom.com/event/beer-night-tuesdays/2027-07-27/
LOCATION:Philly\, Philadelphia\, WA
CATEGORIES:Tapster Philly
ATTACH;FMTTYPE=image/jpeg:https://tapstertastingroom.com/wp-content/uploads/2023/10/Tapster-BeerNight.jpg
END:VEVENT
BEGIN:VEVENT
DTSTART;TZID=UTC:20270727T190000
DTEND;TZID=UTC:20270727T210000
DTSTAMP:20260422T082511
CREATED:20231005T211716Z
LAST-MODIFIED:20231005T211716Z
UID:10005745-1816714800-1816722000@tapstertastingroom.com
SUMMARY:King Trivia Tuesdays
DESCRIPTION:Trivia 7pm (free). \n$2 Beer Night\n(all macro beers $2)
URL:https://tapstertastingroom.com/event/king-trivia-tuesdays/2027-07-27/
LOCATION:Philly\, Philadelphia\, WA
CATEGORIES:Tapster Philly
ATTACH;FMTTYPE=image/jpeg:https://tapstertastingroom.com/wp-content/uploads/2023/10/Tapster-Starting-Post-3.jpg
END:VEVENT
BEGIN:VEVENT
DTSTART;VALUE=DATE:20270728
DTEND;VALUE=DATE:20270729
DTSTAMP:20260422T082511
CREATED:20231005T213202Z
LAST-MODIFIED:20231005T213202Z
UID:10006528-1816732800-1816819199@tapstertastingroom.com
SUMMARY:Wine Wednesdays
DESCRIPTION:Wine Wednesdays\n$5 on all glasses of wine!
URL:https://tapstertastingroom.com/event/wine-wednesdays/2027-07-28/
LOCATION:Philly\, Philadelphia\, WA
CATEGORIES:Tapster Philly
ATTACH;FMTTYPE=image/jpeg:https://tapstertastingroom.com/wp-content/uploads/2022/11/271629586_675601456771153_8572555226883334159_n.jpg
END:VEVENT
END:VCALENDAR