BEGIN:VCALENDAR
VERSION:2.0
PRODID:-//Tapster - ECPv6.6.3//NONSGML v1.0//EN
CALSCALE:GREGORIAN
METHOD:PUBLISH
X-WR-CALNAME:Tapster
X-ORIGINAL-URL:https://tapstertastingroom.com
X-WR-CALDESC:Events for Tapster
REFRESH-INTERVAL;VALUE=DURATION:PT1H
X-Robots-Tag:noindex
X-PUBLISHED-TTL:PT1H
BEGIN:VTIMEZONE
TZID:UTC
BEGIN:STANDARD
TZOFFSETFROM:+0000
TZOFFSETTO:+0000
TZNAME:UTC
DTSTART:20270101T000000
END:STANDARD
END:VTIMEZONE
BEGIN:VEVENT
DTSTART;VALUE=DATE:20270502
DTEND;VALUE=DATE:20270503
DTSTAMP:20260422T023743
CREATED:20231005T221244Z
LAST-MODIFIED:20231005T224256Z
UID:10006838-1809216000-1809302399@tapstertastingroom.com
SUMMARY:Rolling Rock Only $2.88 a Pint
DESCRIPTION:ROLLING ROCK SPECIAL\nONLY $2.88 a PINT\nON TAP Every Day!
URL:https://tapstertastingroom.com/event/rolling-rock-only-2-88-a-pint/2027-05-02/
LOCATION:Philly\, Philadelphia\, WA
CATEGORIES:Tapster Philly
ATTACH;FMTTYPE=image/jpeg:https://tapstertastingroom.com/wp-content/uploads/2023/10/Tapster-RollingRock.jpg
END:VEVENT
BEGIN:VEVENT
DTSTART;VALUE=DATE:20270502
DTEND;VALUE=DATE:20270503
DTSTAMP:20260422T023743
CREATED:20240913T224348Z
LAST-MODIFIED:20240913T224348Z
UID:10007267-1809216000-1809302399@tapstertastingroom.com
SUMMARY:Beer of The Month
DESCRIPTION:Beer of the Month:\n$4 pints on specialty beers all month long\nALWAYS SOMETHING NEW TO TRY
URL:https://tapstertastingroom.com/event/beer-of-the-month-2/2027-05-02/
LOCATION:Philly\, Philadelphia\, WA
CATEGORIES:Tapster Philly
ATTACH;FMTTYPE=image/jpeg:https://tapstertastingroom.com/wp-content/uploads/2023/10/Tapster-BeersofMonth.jpg
END:VEVENT
BEGIN:VEVENT
DTSTART;VALUE=DATE:20270502
DTEND;VALUE=DATE:20270503
DTSTAMP:20260422T023743
CREATED:20241002T162523Z
LAST-MODIFIED:20241002T162523Z
UID:10011752-1809216000-1809302399@tapstertastingroom.com
SUMMARY:Industry Night - Sundays
DESCRIPTION:Industry night – 30% for all restaurant / bar staff \nCOME HANG OUT WITH US
URL:https://tapstertastingroom.com/event/industry-night-sundays-2/2027-05-02/
LOCATION:Philly\, Philadelphia\, WA
CATEGORIES:Tapster Philly
ATTACH;FMTTYPE=image/jpeg:https://tapstertastingroom.com/wp-content/uploads/2023/10/Tapster-IndustryNight-Sundays.jpg
END:VEVENT
BEGIN:VEVENT
DTSTART;VALUE=DATE:20270504
DTEND;VALUE=DATE:20270505
DTSTAMP:20260422T023743
CREATED:20231005T231330Z
LAST-MODIFIED:20231005T231330Z
UID:10007622-1809388800-1809475199@tapstertastingroom.com
SUMMARY:Beer Night - TUESDAYS
DESCRIPTION:$2 Beer Night\n(all macro beers $2) \nTUESDAYS
URL:https://tapstertastingroom.com/event/beer-night-tuesdays/2027-05-04/
LOCATION:Philly\, Philadelphia\, WA
CATEGORIES:Tapster Philly
ATTACH;FMTTYPE=image/jpeg:https://tapstertastingroom.com/wp-content/uploads/2023/10/Tapster-BeerNight.jpg
END:VEVENT
BEGIN:VEVENT
DTSTART;TZID=UTC:20270504T190000
DTEND;TZID=UTC:20270504T210000
DTSTAMP:20260422T023743
CREATED:20231005T211716Z
LAST-MODIFIED:20231005T211716Z
UID:10005733-1809457200-1809464400@tapstertastingroom.com
SUMMARY:King Trivia Tuesdays
DESCRIPTION:Trivia 7pm (free). \n$2 Beer Night\n(all macro beers $2)
URL:https://tapstertastingroom.com/event/king-trivia-tuesdays/2027-05-04/
LOCATION:Philly\, Philadelphia\, WA
CATEGORIES:Tapster Philly
ATTACH;FMTTYPE=image/jpeg:https://tapstertastingroom.com/wp-content/uploads/2023/10/Tapster-Starting-Post-3.jpg
END:VEVENT
BEGIN:VEVENT
DTSTART;VALUE=DATE:20270505
DTEND;VALUE=DATE:20270506
DTSTAMP:20260422T023743
CREATED:20231005T213202Z
LAST-MODIFIED:20231005T213202Z
UID:10006516-1809475200-1809561599@tapstertastingroom.com
SUMMARY:Wine Wednesdays
DESCRIPTION:Wine Wednesdays\n$5 on all glasses of wine!
URL:https://tapstertastingroom.com/event/wine-wednesdays/2027-05-05/
LOCATION:Philly\, Philadelphia\, WA
CATEGORIES:Tapster Philly
ATTACH;FMTTYPE=image/jpeg:https://tapstertastingroom.com/wp-content/uploads/2022/11/271629586_675601456771153_8572555226883334159_n.jpg
END:VEVENT
BEGIN:VEVENT
DTSTART;TZID=UTC:20270506T190000
DTEND;TZID=UTC:20270506T210000
DTSTAMP:20260422T023743
CREATED:20231005T213919Z
LAST-MODIFIED:20231005T222254Z
UID:10006634-1809630000-1809637200@tapstertastingroom.com
SUMMARY:Live Jazz Music - 1st Thursday
DESCRIPTION:Live Jazz\n1st Thursday of the month \nCan you dig it?
URL:https://tapstertastingroom.com/event/live-jazz-music-1st-thursday/2027-05-06/
LOCATION:Philly\, Philadelphia\, WA
CATEGORIES:Tapster Philly
ATTACH;FMTTYPE=image/jpeg:https://tapstertastingroom.com/wp-content/uploads/2023/10/Tapster-LiveJazz.jpg
END:VEVENT
BEGIN:VEVENT
DTSTART;VALUE=DATE:20270509
DTEND;VALUE=DATE:20270510
DTSTAMP:20260422T023743
CREATED:20231005T221244Z
LAST-MODIFIED:20231005T224256Z
UID:10006839-1809820800-1809907199@tapstertastingroom.com
SUMMARY:Rolling Rock Only $2.88 a Pint
DESCRIPTION:ROLLING ROCK SPECIAL\nONLY $2.88 a PINT\nON TAP Every Day!
URL:https://tapstertastingroom.com/event/rolling-rock-only-2-88-a-pint/2027-05-09/
LOCATION:Philly\, Philadelphia\, WA
CATEGORIES:Tapster Philly
ATTACH;FMTTYPE=image/jpeg:https://tapstertastingroom.com/wp-content/uploads/2023/10/Tapster-RollingRock.jpg
END:VEVENT
BEGIN:VEVENT
DTSTART;VALUE=DATE:20270509
DTEND;VALUE=DATE:20270510
DTSTAMP:20260422T023743
CREATED:20241002T162523Z
LAST-MODIFIED:20241002T162523Z
UID:10011753-1809820800-1809907199@tapstertastingroom.com
SUMMARY:Industry Night - Sundays
DESCRIPTION:Industry night – 30% for all restaurant / bar staff \nCOME HANG OUT WITH US
URL:https://tapstertastingroom.com/event/industry-night-sundays-2/2027-05-09/
LOCATION:Philly\, Philadelphia\, WA
CATEGORIES:Tapster Philly
ATTACH;FMTTYPE=image/jpeg:https://tapstertastingroom.com/wp-content/uploads/2023/10/Tapster-IndustryNight-Sundays.jpg
END:VEVENT
BEGIN:VEVENT
DTSTART;VALUE=DATE:20270511
DTEND;VALUE=DATE:20270512
DTSTAMP:20260422T023743
CREATED:20231005T231330Z
LAST-MODIFIED:20231005T231330Z
UID:10007623-1809993600-1810079999@tapstertastingroom.com
SUMMARY:Beer Night - TUESDAYS
DESCRIPTION:$2 Beer Night\n(all macro beers $2) \nTUESDAYS
URL:https://tapstertastingroom.com/event/beer-night-tuesdays/2027-05-11/
LOCATION:Philly\, Philadelphia\, WA
CATEGORIES:Tapster Philly
ATTACH;FMTTYPE=image/jpeg:https://tapstertastingroom.com/wp-content/uploads/2023/10/Tapster-BeerNight.jpg
END:VEVENT
BEGIN:VEVENT
DTSTART;TZID=UTC:20270511T190000
DTEND;TZID=UTC:20270511T210000
DTSTAMP:20260422T023743
CREATED:20231005T211716Z
LAST-MODIFIED:20231005T211716Z
UID:10005734-1810062000-1810069200@tapstertastingroom.com
SUMMARY:King Trivia Tuesdays
DESCRIPTION:Trivia 7pm (free). \n$2 Beer Night\n(all macro beers $2)
URL:https://tapstertastingroom.com/event/king-trivia-tuesdays/2027-05-11/
LOCATION:Philly\, Philadelphia\, WA
CATEGORIES:Tapster Philly
ATTACH;FMTTYPE=image/jpeg:https://tapstertastingroom.com/wp-content/uploads/2023/10/Tapster-Starting-Post-3.jpg
END:VEVENT
BEGIN:VEVENT
DTSTART;VALUE=DATE:20270512
DTEND;VALUE=DATE:20270513
DTSTAMP:20260422T023743
CREATED:20231005T213202Z
LAST-MODIFIED:20231005T213202Z
UID:10006517-1810080000-1810166399@tapstertastingroom.com
SUMMARY:Wine Wednesdays
DESCRIPTION:Wine Wednesdays\n$5 on all glasses of wine!
URL:https://tapstertastingroom.com/event/wine-wednesdays/2027-05-12/
LOCATION:Philly\, Philadelphia\, WA
CATEGORIES:Tapster Philly
ATTACH;FMTTYPE=image/jpeg:https://tapstertastingroom.com/wp-content/uploads/2022/11/271629586_675601456771153_8572555226883334159_n.jpg
END:VEVENT
BEGIN:VEVENT
DTSTART;VALUE=DATE:20270516
DTEND;VALUE=DATE:20270517
DTSTAMP:20260422T023743
CREATED:20231005T221244Z
LAST-MODIFIED:20231005T224256Z
UID:10006840-1810425600-1810511999@tapstertastingroom.com
SUMMARY:Rolling Rock Only $2.88 a Pint
DESCRIPTION:ROLLING ROCK SPECIAL\nONLY $2.88 a PINT\nON TAP Every Day!
URL:https://tapstertastingroom.com/event/rolling-rock-only-2-88-a-pint/2027-05-16/
LOCATION:Philly\, Philadelphia\, WA
CATEGORIES:Tapster Philly
ATTACH;FMTTYPE=image/jpeg:https://tapstertastingroom.com/wp-content/uploads/2023/10/Tapster-RollingRock.jpg
END:VEVENT
BEGIN:VEVENT
DTSTART;VALUE=DATE:20270516
DTEND;VALUE=DATE:20270517
DTSTAMP:20260422T023743
CREATED:20240913T224348Z
LAST-MODIFIED:20240913T224348Z
UID:10007268-1810425600-1810511999@tapstertastingroom.com
SUMMARY:Beer of The Month
DESCRIPTION:Beer of the Month:\n$4 pints on specialty beers all month long\nALWAYS SOMETHING NEW TO TRY
URL:https://tapstertastingroom.com/event/beer-of-the-month-2/2027-05-16/
LOCATION:Philly\, Philadelphia\, WA
CATEGORIES:Tapster Philly
ATTACH;FMTTYPE=image/jpeg:https://tapstertastingroom.com/wp-content/uploads/2023/10/Tapster-BeersofMonth.jpg
END:VEVENT
BEGIN:VEVENT
DTSTART;VALUE=DATE:20270516
DTEND;VALUE=DATE:20270517
DTSTAMP:20260422T023743
CREATED:20241002T162523Z
LAST-MODIFIED:20241002T162523Z
UID:10011754-1810425600-1810511999@tapstertastingroom.com
SUMMARY:Industry Night - Sundays
DESCRIPTION:Industry night – 30% for all restaurant / bar staff \nCOME HANG OUT WITH US
URL:https://tapstertastingroom.com/event/industry-night-sundays-2/2027-05-16/
LOCATION:Philly\, Philadelphia\, WA
CATEGORIES:Tapster Philly
ATTACH;FMTTYPE=image/jpeg:https://tapstertastingroom.com/wp-content/uploads/2023/10/Tapster-IndustryNight-Sundays.jpg
END:VEVENT
BEGIN:VEVENT
DTSTART;VALUE=DATE:20270518
DTEND;VALUE=DATE:20270519
DTSTAMP:20260422T023743
CREATED:20231005T231330Z
LAST-MODIFIED:20231005T231330Z
UID:10007624-1810598400-1810684799@tapstertastingroom.com
SUMMARY:Beer Night - TUESDAYS
DESCRIPTION:$2 Beer Night\n(all macro beers $2) \nTUESDAYS
URL:https://tapstertastingroom.com/event/beer-night-tuesdays/2027-05-18/
LOCATION:Philly\, Philadelphia\, WA
CATEGORIES:Tapster Philly
ATTACH;FMTTYPE=image/jpeg:https://tapstertastingroom.com/wp-content/uploads/2023/10/Tapster-BeerNight.jpg
END:VEVENT
BEGIN:VEVENT
DTSTART;TZID=UTC:20270518T190000
DTEND;TZID=UTC:20270518T210000
DTSTAMP:20260422T023743
CREATED:20231005T211716Z
LAST-MODIFIED:20231005T211716Z
UID:10005735-1810666800-1810674000@tapstertastingroom.com
SUMMARY:King Trivia Tuesdays
DESCRIPTION:Trivia 7pm (free). \n$2 Beer Night\n(all macro beers $2)
URL:https://tapstertastingroom.com/event/king-trivia-tuesdays/2027-05-18/
LOCATION:Philly\, Philadelphia\, WA
CATEGORIES:Tapster Philly
ATTACH;FMTTYPE=image/jpeg:https://tapstertastingroom.com/wp-content/uploads/2023/10/Tapster-Starting-Post-3.jpg
END:VEVENT
BEGIN:VEVENT
DTSTART;VALUE=DATE:20270519
DTEND;VALUE=DATE:20270520
DTSTAMP:20260422T023743
CREATED:20231005T213202Z
LAST-MODIFIED:20231005T213202Z
UID:10006518-1810684800-1810771199@tapstertastingroom.com
SUMMARY:Wine Wednesdays
DESCRIPTION:Wine Wednesdays\n$5 on all glasses of wine!
URL:https://tapstertastingroom.com/event/wine-wednesdays/2027-05-19/
LOCATION:Philly\, Philadelphia\, WA
CATEGORIES:Tapster Philly
ATTACH;FMTTYPE=image/jpeg:https://tapstertastingroom.com/wp-content/uploads/2022/11/271629586_675601456771153_8572555226883334159_n.jpg
END:VEVENT
BEGIN:VEVENT
DTSTART;VALUE=DATE:20270523
DTEND;VALUE=DATE:20270524
DTSTAMP:20260422T023743
CREATED:20231005T221244Z
LAST-MODIFIED:20231005T224256Z
UID:10006841-1811030400-1811116799@tapstertastingroom.com
SUMMARY:Rolling Rock Only $2.88 a Pint
DESCRIPTION:ROLLING ROCK SPECIAL\nONLY $2.88 a PINT\nON TAP Every Day!
URL:https://tapstertastingroom.com/event/rolling-rock-only-2-88-a-pint/2027-05-23/
LOCATION:Philly\, Philadelphia\, WA
CATEGORIES:Tapster Philly
ATTACH;FMTTYPE=image/jpeg:https://tapstertastingroom.com/wp-content/uploads/2023/10/Tapster-RollingRock.jpg
END:VEVENT
BEGIN:VEVENT
DTSTART;VALUE=DATE:20270523
DTEND;VALUE=DATE:20270524
DTSTAMP:20260422T023743
CREATED:20241002T162523Z
LAST-MODIFIED:20241002T162523Z
UID:10011755-1811030400-1811116799@tapstertastingroom.com
SUMMARY:Industry Night - Sundays
DESCRIPTION:Industry night – 30% for all restaurant / bar staff \nCOME HANG OUT WITH US
URL:https://tapstertastingroom.com/event/industry-night-sundays-2/2027-05-23/
LOCATION:Philly\, Philadelphia\, WA
CATEGORIES:Tapster Philly
ATTACH;FMTTYPE=image/jpeg:https://tapstertastingroom.com/wp-content/uploads/2023/10/Tapster-IndustryNight-Sundays.jpg
END:VEVENT
BEGIN:VEVENT
DTSTART;VALUE=DATE:20270525
DTEND;VALUE=DATE:20270526
DTSTAMP:20260422T023743
CREATED:20231005T231330Z
LAST-MODIFIED:20231005T231330Z
UID:10007625-1811203200-1811289599@tapstertastingroom.com
SUMMARY:Beer Night - TUESDAYS
DESCRIPTION:$2 Beer Night\n(all macro beers $2) \nTUESDAYS
URL:https://tapstertastingroom.com/event/beer-night-tuesdays/2027-05-25/
LOCATION:Philly\, Philadelphia\, WA
CATEGORIES:Tapster Philly
ATTACH;FMTTYPE=image/jpeg:https://tapstertastingroom.com/wp-content/uploads/2023/10/Tapster-BeerNight.jpg
END:VEVENT
BEGIN:VEVENT
DTSTART;TZID=UTC:20270525T190000
DTEND;TZID=UTC:20270525T210000
DTSTAMP:20260422T023743
CREATED:20231005T211716Z
LAST-MODIFIED:20231005T211716Z
UID:10005736-1811271600-1811278800@tapstertastingroom.com
SUMMARY:King Trivia Tuesdays
DESCRIPTION:Trivia 7pm (free). \n$2 Beer Night\n(all macro beers $2)
URL:https://tapstertastingroom.com/event/king-trivia-tuesdays/2027-05-25/
LOCATION:Philly\, Philadelphia\, WA
CATEGORIES:Tapster Philly
ATTACH;FMTTYPE=image/jpeg:https://tapstertastingroom.com/wp-content/uploads/2023/10/Tapster-Starting-Post-3.jpg
END:VEVENT
BEGIN:VEVENT
DTSTART;VALUE=DATE:20270526
DTEND;VALUE=DATE:20270527
DTSTAMP:20260422T023743
CREATED:20231005T213202Z
LAST-MODIFIED:20231005T213202Z
UID:10006519-1811289600-1811375999@tapstertastingroom.com
SUMMARY:Wine Wednesdays
DESCRIPTION:Wine Wednesdays\n$5 on all glasses of wine!
URL:https://tapstertastingroom.com/event/wine-wednesdays/2027-05-26/
LOCATION:Philly\, Philadelphia\, WA
CATEGORIES:Tapster Philly
ATTACH;FMTTYPE=image/jpeg:https://tapstertastingroom.com/wp-content/uploads/2022/11/271629586_675601456771153_8572555226883334159_n.jpg
END:VEVENT
BEGIN:VEVENT
DTSTART;VALUE=DATE:20270530
DTEND;VALUE=DATE:20270531
DTSTAMP:20260422T023743
CREATED:20231005T221244Z
LAST-MODIFIED:20231005T224256Z
UID:10006842-1811635200-1811721599@tapstertastingroom.com
SUMMARY:Rolling Rock Only $2.88 a Pint
DESCRIPTION:ROLLING ROCK SPECIAL\nONLY $2.88 a PINT\nON TAP Every Day!
URL:https://tapstertastingroom.com/event/rolling-rock-only-2-88-a-pint/2027-05-30/
LOCATION:Philly\, Philadelphia\, WA
CATEGORIES:Tapster Philly
ATTACH;FMTTYPE=image/jpeg:https://tapstertastingroom.com/wp-content/uploads/2023/10/Tapster-RollingRock.jpg
END:VEVENT
BEGIN:VEVENT
DTSTART;VALUE=DATE:20270530
DTEND;VALUE=DATE:20270531
DTSTAMP:20260422T023743
CREATED:20240913T224348Z
LAST-MODIFIED:20240913T224348Z
UID:10007269-1811635200-1811721599@tapstertastingroom.com
SUMMARY:Beer of The Month
DESCRIPTION:Beer of the Month:\n$4 pints on specialty beers all month long\nALWAYS SOMETHING NEW TO TRY
URL:https://tapstertastingroom.com/event/beer-of-the-month-2/2027-05-30/
LOCATION:Philly\, Philadelphia\, WA
CATEGORIES:Tapster Philly
ATTACH;FMTTYPE=image/jpeg:https://tapstertastingroom.com/wp-content/uploads/2023/10/Tapster-BeersofMonth.jpg
END:VEVENT
BEGIN:VEVENT
DTSTART;VALUE=DATE:20270530
DTEND;VALUE=DATE:20270531
DTSTAMP:20260422T023743
CREATED:20241002T162523Z
LAST-MODIFIED:20241002T162523Z
UID:10011756-1811635200-1811721599@tapstertastingroom.com
SUMMARY:Industry Night - Sundays
DESCRIPTION:Industry night – 30% for all restaurant / bar staff \nCOME HANG OUT WITH US
URL:https://tapstertastingroom.com/event/industry-night-sundays-2/2027-05-30/
LOCATION:Philly\, Philadelphia\, WA
CATEGORIES:Tapster Philly
ATTACH;FMTTYPE=image/jpeg:https://tapstertastingroom.com/wp-content/uploads/2023/10/Tapster-IndustryNight-Sundays.jpg
END:VEVENT
END:VCALENDAR