BEGIN:VCALENDAR
VERSION:2.0
PRODID:-//Tapster - ECPv6.6.3//NONSGML v1.0//EN
CALSCALE:GREGORIAN
METHOD:PUBLISH
X-ORIGINAL-URL:https://tapstertastingroom.com
X-WR-CALDESC:Events for Tapster
REFRESH-INTERVAL;VALUE=DURATION:PT1H
X-Robots-Tag:noindex
X-PUBLISHED-TTL:PT1H
BEGIN:VTIMEZONE
TZID:UTC
BEGIN:STANDARD
TZOFFSETFROM:+0000
TZOFFSETTO:+0000
TZNAME:UTC
DTSTART:20260101T000000
END:STANDARD
END:VTIMEZONE
BEGIN:VEVENT
DTSTART;VALUE=DATE:20260503
DTEND;VALUE=DATE:20260504
DTSTAMP:20260419T190029
CREATED:20231005T221244Z
LAST-MODIFIED:20231005T224256Z
UID:10006786-1777766400-1777852799@tapstertastingroom.com
SUMMARY:Rolling Rock Only $2.88 a Pint
DESCRIPTION:ROLLING ROCK SPECIAL\nONLY $2.88 a PINT\nON TAP Every Day!
URL:https://tapstertastingroom.com/event/rolling-rock-only-2-88-a-pint/2026-05-03/
LOCATION:Philly\, Philadelphia\, WA
CATEGORIES:Tapster Philly
ATTACH;FMTTYPE=image/jpeg:https://tapstertastingroom.com/wp-content/uploads/2023/10/Tapster-RollingRock.jpg
END:VEVENT
BEGIN:VEVENT
DTSTART;VALUE=DATE:20260503
DTEND;VALUE=DATE:20260504
DTSTAMP:20260419T190029
CREATED:20240913T224348Z
LAST-MODIFIED:20240913T224348Z
UID:10007241-1777766400-1777852799@tapstertastingroom.com
SUMMARY:Beer of The Month
DESCRIPTION:Beer of the Month:\n$4 pints on specialty beers all month long\nALWAYS SOMETHING NEW TO TRY
URL:https://tapstertastingroom.com/event/beer-of-the-month-2/2026-05-03/
LOCATION:Philly\, Philadelphia\, WA
CATEGORIES:Tapster Philly
ATTACH;FMTTYPE=image/jpeg:https://tapstertastingroom.com/wp-content/uploads/2023/10/Tapster-BeersofMonth.jpg
END:VEVENT
BEGIN:VEVENT
DTSTART;VALUE=DATE:20260503
DTEND;VALUE=DATE:20260504
DTSTAMP:20260419T190029
CREATED:20241002T162523Z
LAST-MODIFIED:20241002T162523Z
UID:10011700-1777766400-1777852799@tapstertastingroom.com
SUMMARY:Industry Night - Sundays
DESCRIPTION:Industry night – 30% for all restaurant / bar staff \nCOME HANG OUT WITH US
URL:https://tapstertastingroom.com/event/industry-night-sundays-2/2026-05-03/
LOCATION:Philly\, Philadelphia\, WA
CATEGORIES:Tapster Philly
ATTACH;FMTTYPE=image/jpeg:https://tapstertastingroom.com/wp-content/uploads/2023/10/Tapster-IndustryNight-Sundays.jpg
END:VEVENT
BEGIN:VEVENT
DTSTART;VALUE=DATE:20260505
DTEND;VALUE=DATE:20260506
DTSTAMP:20260419T190029
CREATED:20231005T231330Z
LAST-MODIFIED:20231005T231330Z
UID:10007570-1777939200-1778025599@tapstertastingroom.com
SUMMARY:Beer Night - TUESDAYS
DESCRIPTION:$2 Beer Night\n(all macro beers $2) \nTUESDAYS
URL:https://tapstertastingroom.com/event/beer-night-tuesdays/2026-05-05/
LOCATION:Philly\, Philadelphia\, WA
CATEGORIES:Tapster Philly
ATTACH;FMTTYPE=image/jpeg:https://tapstertastingroom.com/wp-content/uploads/2023/10/Tapster-BeerNight.jpg
END:VEVENT
BEGIN:VEVENT
DTSTART;TZID=UTC:20260505T190000
DTEND;TZID=UTC:20260505T210000
DTSTAMP:20260419T190029
CREATED:20231005T211716Z
LAST-MODIFIED:20231005T211716Z
UID:10005681-1778007600-1778014800@tapstertastingroom.com
SUMMARY:King Trivia Tuesdays
DESCRIPTION:Trivia 7pm (free). \n$2 Beer Night\n(all macro beers $2)
URL:https://tapstertastingroom.com/event/king-trivia-tuesdays/2026-05-05/
LOCATION:Philly\, Philadelphia\, WA
CATEGORIES:Tapster Philly
ATTACH;FMTTYPE=image/jpeg:https://tapstertastingroom.com/wp-content/uploads/2023/10/Tapster-Starting-Post-3.jpg
END:VEVENT
BEGIN:VEVENT
DTSTART;VALUE=DATE:20260506
DTEND;VALUE=DATE:20260507
DTSTAMP:20260419T190029
CREATED:20231005T213202Z
LAST-MODIFIED:20231005T213202Z
UID:10006464-1778025600-1778111999@tapstertastingroom.com
SUMMARY:Wine Wednesdays
DESCRIPTION:Wine Wednesdays\n$5 on all glasses of wine!
URL:https://tapstertastingroom.com/event/wine-wednesdays/2026-05-06/
LOCATION:Philly\, Philadelphia\, WA
CATEGORIES:Tapster Philly
ATTACH;FMTTYPE=image/jpeg:https://tapstertastingroom.com/wp-content/uploads/2022/11/271629586_675601456771153_8572555226883334159_n.jpg
END:VEVENT
BEGIN:VEVENT
DTSTART;TZID=UTC:20260507T190000
DTEND;TZID=UTC:20260507T210000
DTSTAMP:20260419T190029
CREATED:20231005T213919Z
LAST-MODIFIED:20231005T222254Z
UID:10006622-1778180400-1778187600@tapstertastingroom.com
SUMMARY:Live Jazz Music - 1st Thursday
DESCRIPTION:Live Jazz\n1st Thursday of the month \nCan you dig it?
URL:https://tapstertastingroom.com/event/live-jazz-music-1st-thursday/2026-05-07/
LOCATION:Philly\, Philadelphia\, WA
CATEGORIES:Tapster Philly
ATTACH;FMTTYPE=image/jpeg:https://tapstertastingroom.com/wp-content/uploads/2023/10/Tapster-LiveJazz.jpg
END:VEVENT
BEGIN:VEVENT
DTSTART;VALUE=DATE:20260510
DTEND;VALUE=DATE:20260511
DTSTAMP:20260419T190029
CREATED:20231005T221244Z
LAST-MODIFIED:20231005T224256Z
UID:10006787-1778371200-1778457599@tapstertastingroom.com
SUMMARY:Rolling Rock Only $2.88 a Pint
DESCRIPTION:ROLLING ROCK SPECIAL\nONLY $2.88 a PINT\nON TAP Every Day!
URL:https://tapstertastingroom.com/event/rolling-rock-only-2-88-a-pint/2026-05-10/
LOCATION:Philly\, Philadelphia\, WA
CATEGORIES:Tapster Philly
ATTACH;FMTTYPE=image/jpeg:https://tapstertastingroom.com/wp-content/uploads/2023/10/Tapster-RollingRock.jpg
END:VEVENT
BEGIN:VEVENT
DTSTART;VALUE=DATE:20260510
DTEND;VALUE=DATE:20260511
DTSTAMP:20260419T190029
CREATED:20241002T162523Z
LAST-MODIFIED:20241002T162523Z
UID:10011701-1778371200-1778457599@tapstertastingroom.com
SUMMARY:Industry Night - Sundays
DESCRIPTION:Industry night – 30% for all restaurant / bar staff \nCOME HANG OUT WITH US
URL:https://tapstertastingroom.com/event/industry-night-sundays-2/2026-05-10/
LOCATION:Philly\, Philadelphia\, WA
CATEGORIES:Tapster Philly
ATTACH;FMTTYPE=image/jpeg:https://tapstertastingroom.com/wp-content/uploads/2023/10/Tapster-IndustryNight-Sundays.jpg
END:VEVENT
BEGIN:VEVENT
DTSTART;VALUE=DATE:20260512
DTEND;VALUE=DATE:20260513
DTSTAMP:20260419T190029
CREATED:20231005T231330Z
LAST-MODIFIED:20231005T231330Z
UID:10007571-1778544000-1778630399@tapstertastingroom.com
SUMMARY:Beer Night - TUESDAYS
DESCRIPTION:$2 Beer Night\n(all macro beers $2) \nTUESDAYS
URL:https://tapstertastingroom.com/event/beer-night-tuesdays/2026-05-12/
LOCATION:Philly\, Philadelphia\, WA
CATEGORIES:Tapster Philly
ATTACH;FMTTYPE=image/jpeg:https://tapstertastingroom.com/wp-content/uploads/2023/10/Tapster-BeerNight.jpg
END:VEVENT
BEGIN:VEVENT
DTSTART;TZID=UTC:20260512T190000
DTEND;TZID=UTC:20260512T210000
DTSTAMP:20260419T190029
CREATED:20231005T211716Z
LAST-MODIFIED:20231005T211716Z
UID:10005682-1778612400-1778619600@tapstertastingroom.com
SUMMARY:King Trivia Tuesdays
DESCRIPTION:Trivia 7pm (free). \n$2 Beer Night\n(all macro beers $2)
URL:https://tapstertastingroom.com/event/king-trivia-tuesdays/2026-05-12/
LOCATION:Philly\, Philadelphia\, WA
CATEGORIES:Tapster Philly
ATTACH;FMTTYPE=image/jpeg:https://tapstertastingroom.com/wp-content/uploads/2023/10/Tapster-Starting-Post-3.jpg
END:VEVENT
BEGIN:VEVENT
DTSTART;VALUE=DATE:20260513
DTEND;VALUE=DATE:20260514
DTSTAMP:20260419T190029
CREATED:20231005T213202Z
LAST-MODIFIED:20231005T213202Z
UID:10006465-1778630400-1778716799@tapstertastingroom.com
SUMMARY:Wine Wednesdays
DESCRIPTION:Wine Wednesdays\n$5 on all glasses of wine!
URL:https://tapstertastingroom.com/event/wine-wednesdays/2026-05-13/
LOCATION:Philly\, Philadelphia\, WA
CATEGORIES:Tapster Philly
ATTACH;FMTTYPE=image/jpeg:https://tapstertastingroom.com/wp-content/uploads/2022/11/271629586_675601456771153_8572555226883334159_n.jpg
END:VEVENT
BEGIN:VEVENT
DTSTART;VALUE=DATE:20260517
DTEND;VALUE=DATE:20260518
DTSTAMP:20260419T190029
CREATED:20231005T221244Z
LAST-MODIFIED:20231005T224256Z
UID:10006788-1778976000-1779062399@tapstertastingroom.com
SUMMARY:Rolling Rock Only $2.88 a Pint
DESCRIPTION:ROLLING ROCK SPECIAL\nONLY $2.88 a PINT\nON TAP Every Day!
URL:https://tapstertastingroom.com/event/rolling-rock-only-2-88-a-pint/2026-05-17/
LOCATION:Philly\, Philadelphia\, WA
CATEGORIES:Tapster Philly
ATTACH;FMTTYPE=image/jpeg:https://tapstertastingroom.com/wp-content/uploads/2023/10/Tapster-RollingRock.jpg
END:VEVENT
BEGIN:VEVENT
DTSTART;VALUE=DATE:20260517
DTEND;VALUE=DATE:20260518
DTSTAMP:20260419T190029
CREATED:20240913T224348Z
LAST-MODIFIED:20240913T224348Z
UID:10007242-1778976000-1779062399@tapstertastingroom.com
SUMMARY:Beer of The Month
DESCRIPTION:Beer of the Month:\n$4 pints on specialty beers all month long\nALWAYS SOMETHING NEW TO TRY
URL:https://tapstertastingroom.com/event/beer-of-the-month-2/2026-05-17/
LOCATION:Philly\, Philadelphia\, WA
CATEGORIES:Tapster Philly
ATTACH;FMTTYPE=image/jpeg:https://tapstertastingroom.com/wp-content/uploads/2023/10/Tapster-BeersofMonth.jpg
END:VEVENT
BEGIN:VEVENT
DTSTART;VALUE=DATE:20260517
DTEND;VALUE=DATE:20260518
DTSTAMP:20260419T190029
CREATED:20241002T162523Z
LAST-MODIFIED:20241002T162523Z
UID:10011702-1778976000-1779062399@tapstertastingroom.com
SUMMARY:Industry Night - Sundays
DESCRIPTION:Industry night – 30% for all restaurant / bar staff \nCOME HANG OUT WITH US
URL:https://tapstertastingroom.com/event/industry-night-sundays-2/2026-05-17/
LOCATION:Philly\, Philadelphia\, WA
CATEGORIES:Tapster Philly
ATTACH;FMTTYPE=image/jpeg:https://tapstertastingroom.com/wp-content/uploads/2023/10/Tapster-IndustryNight-Sundays.jpg
END:VEVENT
BEGIN:VEVENT
DTSTART;VALUE=DATE:20260519
DTEND;VALUE=DATE:20260520
DTSTAMP:20260419T190029
CREATED:20231005T231330Z
LAST-MODIFIED:20231005T231330Z
UID:10007572-1779148800-1779235199@tapstertastingroom.com
SUMMARY:Beer Night - TUESDAYS
DESCRIPTION:$2 Beer Night\n(all macro beers $2) \nTUESDAYS
URL:https://tapstertastingroom.com/event/beer-night-tuesdays/2026-05-19/
LOCATION:Philly\, Philadelphia\, WA
CATEGORIES:Tapster Philly
ATTACH;FMTTYPE=image/jpeg:https://tapstertastingroom.com/wp-content/uploads/2023/10/Tapster-BeerNight.jpg
END:VEVENT
BEGIN:VEVENT
DTSTART;TZID=UTC:20260519T190000
DTEND;TZID=UTC:20260519T210000
DTSTAMP:20260419T190029
CREATED:20231005T211716Z
LAST-MODIFIED:20231005T211716Z
UID:10005683-1779217200-1779224400@tapstertastingroom.com
SUMMARY:King Trivia Tuesdays
DESCRIPTION:Trivia 7pm (free). \n$2 Beer Night\n(all macro beers $2)
URL:https://tapstertastingroom.com/event/king-trivia-tuesdays/2026-05-19/
LOCATION:Philly\, Philadelphia\, WA
CATEGORIES:Tapster Philly
ATTACH;FMTTYPE=image/jpeg:https://tapstertastingroom.com/wp-content/uploads/2023/10/Tapster-Starting-Post-3.jpg
END:VEVENT
BEGIN:VEVENT
DTSTART;VALUE=DATE:20260520
DTEND;VALUE=DATE:20260521
DTSTAMP:20260419T190029
CREATED:20231005T213202Z
LAST-MODIFIED:20231005T213202Z
UID:10006466-1779235200-1779321599@tapstertastingroom.com
SUMMARY:Wine Wednesdays
DESCRIPTION:Wine Wednesdays\n$5 on all glasses of wine!
URL:https://tapstertastingroom.com/event/wine-wednesdays/2026-05-20/
LOCATION:Philly\, Philadelphia\, WA
CATEGORIES:Tapster Philly
ATTACH;FMTTYPE=image/jpeg:https://tapstertastingroom.com/wp-content/uploads/2022/11/271629586_675601456771153_8572555226883334159_n.jpg
END:VEVENT
BEGIN:VEVENT
DTSTART;VALUE=DATE:20260524
DTEND;VALUE=DATE:20260525
DTSTAMP:20260419T190029
CREATED:20231005T221244Z
LAST-MODIFIED:20231005T224256Z
UID:10006789-1779580800-1779667199@tapstertastingroom.com
SUMMARY:Rolling Rock Only $2.88 a Pint
DESCRIPTION:ROLLING ROCK SPECIAL\nONLY $2.88 a PINT\nON TAP Every Day!
URL:https://tapstertastingroom.com/event/rolling-rock-only-2-88-a-pint/2026-05-24/
LOCATION:Philly\, Philadelphia\, WA
CATEGORIES:Tapster Philly
ATTACH;FMTTYPE=image/jpeg:https://tapstertastingroom.com/wp-content/uploads/2023/10/Tapster-RollingRock.jpg
END:VEVENT
BEGIN:VEVENT
DTSTART;VALUE=DATE:20260524
DTEND;VALUE=DATE:20260525
DTSTAMP:20260419T190029
CREATED:20241002T162523Z
LAST-MODIFIED:20241002T162523Z
UID:10011703-1779580800-1779667199@tapstertastingroom.com
SUMMARY:Industry Night - Sundays
DESCRIPTION:Industry night – 30% for all restaurant / bar staff \nCOME HANG OUT WITH US
URL:https://tapstertastingroom.com/event/industry-night-sundays-2/2026-05-24/
LOCATION:Philly\, Philadelphia\, WA
CATEGORIES:Tapster Philly
ATTACH;FMTTYPE=image/jpeg:https://tapstertastingroom.com/wp-content/uploads/2023/10/Tapster-IndustryNight-Sundays.jpg
END:VEVENT
BEGIN:VEVENT
DTSTART;VALUE=DATE:20260526
DTEND;VALUE=DATE:20260527
DTSTAMP:20260419T190029
CREATED:20231005T231330Z
LAST-MODIFIED:20231005T231330Z
UID:10007573-1779753600-1779839999@tapstertastingroom.com
SUMMARY:Beer Night - TUESDAYS
DESCRIPTION:$2 Beer Night\n(all macro beers $2) \nTUESDAYS
URL:https://tapstertastingroom.com/event/beer-night-tuesdays/2026-05-26/
LOCATION:Philly\, Philadelphia\, WA
CATEGORIES:Tapster Philly
ATTACH;FMTTYPE=image/jpeg:https://tapstertastingroom.com/wp-content/uploads/2023/10/Tapster-BeerNight.jpg
END:VEVENT
BEGIN:VEVENT
DTSTART;TZID=UTC:20260526T190000
DTEND;TZID=UTC:20260526T210000
DTSTAMP:20260419T190029
CREATED:20231005T211716Z
LAST-MODIFIED:20231005T211716Z
UID:10005684-1779822000-1779829200@tapstertastingroom.com
SUMMARY:King Trivia Tuesdays
DESCRIPTION:Trivia 7pm (free). \n$2 Beer Night\n(all macro beers $2)
URL:https://tapstertastingroom.com/event/king-trivia-tuesdays/2026-05-26/
LOCATION:Philly\, Philadelphia\, WA
CATEGORIES:Tapster Philly
ATTACH;FMTTYPE=image/jpeg:https://tapstertastingroom.com/wp-content/uploads/2023/10/Tapster-Starting-Post-3.jpg
END:VEVENT
BEGIN:VEVENT
DTSTART;VALUE=DATE:20260527
DTEND;VALUE=DATE:20260528
DTSTAMP:20260419T190029
CREATED:20231005T213202Z
LAST-MODIFIED:20231005T213202Z
UID:10006467-1779840000-1779926399@tapstertastingroom.com
SUMMARY:Wine Wednesdays
DESCRIPTION:Wine Wednesdays\n$5 on all glasses of wine!
URL:https://tapstertastingroom.com/event/wine-wednesdays/2026-05-27/
LOCATION:Philly\, Philadelphia\, WA
CATEGORIES:Tapster Philly
ATTACH;FMTTYPE=image/jpeg:https://tapstertastingroom.com/wp-content/uploads/2022/11/271629586_675601456771153_8572555226883334159_n.jpg
END:VEVENT
BEGIN:VEVENT
DTSTART;VALUE=DATE:20260531
DTEND;VALUE=DATE:20260601
DTSTAMP:20260419T190029
CREATED:20231005T221244Z
LAST-MODIFIED:20231005T224256Z
UID:10006790-1780185600-1780271999@tapstertastingroom.com
SUMMARY:Rolling Rock Only $2.88 a Pint
DESCRIPTION:ROLLING ROCK SPECIAL\nONLY $2.88 a PINT\nON TAP Every Day!
URL:https://tapstertastingroom.com/event/rolling-rock-only-2-88-a-pint/2026-05-31/
LOCATION:Philly\, Philadelphia\, WA
CATEGORIES:Tapster Philly
ATTACH;FMTTYPE=image/jpeg:https://tapstertastingroom.com/wp-content/uploads/2023/10/Tapster-RollingRock.jpg
END:VEVENT
BEGIN:VEVENT
DTSTART;VALUE=DATE:20260531
DTEND;VALUE=DATE:20260601
DTSTAMP:20260419T190029
CREATED:20240913T224348Z
LAST-MODIFIED:20240913T224348Z
UID:10007243-1780185600-1780271999@tapstertastingroom.com
SUMMARY:Beer of The Month
DESCRIPTION:Beer of the Month:\n$4 pints on specialty beers all month long\nALWAYS SOMETHING NEW TO TRY
URL:https://tapstertastingroom.com/event/beer-of-the-month-2/2026-05-31/
LOCATION:Philly\, Philadelphia\, WA
CATEGORIES:Tapster Philly
ATTACH;FMTTYPE=image/jpeg:https://tapstertastingroom.com/wp-content/uploads/2023/10/Tapster-BeersofMonth.jpg
END:VEVENT
BEGIN:VEVENT
DTSTART;VALUE=DATE:20260531
DTEND;VALUE=DATE:20260601
DTSTAMP:20260419T190029
CREATED:20241002T162523Z
LAST-MODIFIED:20241002T162523Z
UID:10011704-1780185600-1780271999@tapstertastingroom.com
SUMMARY:Industry Night - Sundays
DESCRIPTION:Industry night – 30% for all restaurant / bar staff \nCOME HANG OUT WITH US
URL:https://tapstertastingroom.com/event/industry-night-sundays-2/2026-05-31/
LOCATION:Philly\, Philadelphia\, WA
CATEGORIES:Tapster Philly
ATTACH;FMTTYPE=image/jpeg:https://tapstertastingroom.com/wp-content/uploads/2023/10/Tapster-IndustryNight-Sundays.jpg
END:VEVENT
END:VCALENDAR