BEGIN:VCALENDAR
VERSION:2.0
PRODID:-//Tapster - ECPv6.6.3//NONSGML v1.0//EN
CALSCALE:GREGORIAN
METHOD:PUBLISH
X-WR-CALNAME:Tapster
X-ORIGINAL-URL:https://tapstertastingroom.com
X-WR-CALDESC:Events for Tapster
REFRESH-INTERVAL;VALUE=DURATION:PT1H
X-Robots-Tag:noindex
X-PUBLISHED-TTL:PT1H
BEGIN:VTIMEZONE
TZID:UTC
BEGIN:STANDARD
TZOFFSETFROM:+0000
TZOFFSETTO:+0000
TZNAME:UTC
DTSTART:20250101T000000
END:STANDARD
END:VTIMEZONE
BEGIN:VEVENT
DTSTART;VALUE=DATE:20251202
DTEND;VALUE=DATE:20251203
DTSTAMP:20260419T152342
CREATED:20231005T231330Z
LAST-MODIFIED:20231005T231330Z
UID:10007548-1764633600-1764719999@tapstertastingroom.com
SUMMARY:Beer Night - TUESDAYS
DESCRIPTION:$2 Beer Night\n(all macro beers $2) \nTUESDAYS
URL:https://tapstertastingroom.com/event/beer-night-tuesdays/2025-12-02/
LOCATION:Philly\, Philadelphia\, WA
CATEGORIES:Tapster Philly
ATTACH;FMTTYPE=image/jpeg:https://tapstertastingroom.com/wp-content/uploads/2023/10/Tapster-BeerNight.jpg
END:VEVENT
BEGIN:VEVENT
DTSTART;TZID=UTC:20251202T190000
DTEND;TZID=UTC:20251202T210000
DTSTAMP:20260419T152342
CREATED:20231005T211716Z
LAST-MODIFIED:20231005T211716Z
UID:10005659-1764702000-1764709200@tapstertastingroom.com
SUMMARY:King Trivia Tuesdays
DESCRIPTION:Trivia 7pm (free). \n$2 Beer Night\n(all macro beers $2)
URL:https://tapstertastingroom.com/event/king-trivia-tuesdays/2025-12-02/
LOCATION:Philly\, Philadelphia\, WA
CATEGORIES:Tapster Philly
ATTACH;FMTTYPE=image/jpeg:https://tapstertastingroom.com/wp-content/uploads/2023/10/Tapster-Starting-Post-3.jpg
END:VEVENT
BEGIN:VEVENT
DTSTART;VALUE=DATE:20251203
DTEND;VALUE=DATE:20251204
DTSTAMP:20260419T152342
CREATED:20231005T213202Z
LAST-MODIFIED:20231005T213202Z
UID:10006442-1764720000-1764806399@tapstertastingroom.com
SUMMARY:Wine Wednesdays
DESCRIPTION:Wine Wednesdays\n$5 on all glasses of wine!
URL:https://tapstertastingroom.com/event/wine-wednesdays/2025-12-03/
LOCATION:Philly\, Philadelphia\, WA
CATEGORIES:Tapster Philly
ATTACH;FMTTYPE=image/jpeg:https://tapstertastingroom.com/wp-content/uploads/2022/11/271629586_675601456771153_8572555226883334159_n.jpg
END:VEVENT
BEGIN:VEVENT
DTSTART;TZID=UTC:20251204T190000
DTEND;TZID=UTC:20251204T210000
DTSTAMP:20260419T152342
CREATED:20231005T213919Z
LAST-MODIFIED:20231005T222254Z
UID:10006617-1764874800-1764882000@tapstertastingroom.com
SUMMARY:Live Jazz Music - 1st Thursday
DESCRIPTION:Live Jazz\n1st Thursday of the month \nCan you dig it?
URL:https://tapstertastingroom.com/event/live-jazz-music-1st-thursday/2025-12-04/
LOCATION:Philly\, Philadelphia\, WA
CATEGORIES:Tapster Philly
ATTACH;FMTTYPE=image/jpeg:https://tapstertastingroom.com/wp-content/uploads/2023/10/Tapster-LiveJazz.jpg
END:VEVENT
BEGIN:VEVENT
DTSTART;VALUE=DATE:20251207
DTEND;VALUE=DATE:20251208
DTSTAMP:20260419T152342
CREATED:20231005T221244Z
LAST-MODIFIED:20231005T224256Z
UID:10006765-1765065600-1765151999@tapstertastingroom.com
SUMMARY:Rolling Rock Only $2.88 a Pint
DESCRIPTION:ROLLING ROCK SPECIAL\nONLY $2.88 a PINT\nON TAP Every Day!
URL:https://tapstertastingroom.com/event/rolling-rock-only-2-88-a-pint/2025-12-07/
LOCATION:Philly\, Philadelphia\, WA
CATEGORIES:Tapster Philly
ATTACH;FMTTYPE=image/jpeg:https://tapstertastingroom.com/wp-content/uploads/2023/10/Tapster-RollingRock.jpg
END:VEVENT
BEGIN:VEVENT
DTSTART;VALUE=DATE:20251207
DTEND;VALUE=DATE:20251208
DTSTAMP:20260419T152342
CREATED:20241002T162523Z
LAST-MODIFIED:20241002T162523Z
UID:10011679-1765065600-1765151999@tapstertastingroom.com
SUMMARY:Industry Night - Sundays
DESCRIPTION:Industry night – 30% for all restaurant / bar staff \nCOME HANG OUT WITH US
URL:https://tapstertastingroom.com/event/industry-night-sundays-2/2025-12-07/
LOCATION:Philly\, Philadelphia\, WA
CATEGORIES:Tapster Philly
ATTACH;FMTTYPE=image/jpeg:https://tapstertastingroom.com/wp-content/uploads/2023/10/Tapster-IndustryNight-Sundays.jpg
END:VEVENT
BEGIN:VEVENT
DTSTART;VALUE=DATE:20251209
DTEND;VALUE=DATE:20251210
DTSTAMP:20260419T152343
CREATED:20231005T231330Z
LAST-MODIFIED:20231005T231330Z
UID:10007549-1765238400-1765324799@tapstertastingroom.com
SUMMARY:Beer Night - TUESDAYS
DESCRIPTION:$2 Beer Night\n(all macro beers $2) \nTUESDAYS
URL:https://tapstertastingroom.com/event/beer-night-tuesdays/2025-12-09/
LOCATION:Philly\, Philadelphia\, WA
CATEGORIES:Tapster Philly
ATTACH;FMTTYPE=image/jpeg:https://tapstertastingroom.com/wp-content/uploads/2023/10/Tapster-BeerNight.jpg
END:VEVENT
BEGIN:VEVENT
DTSTART;TZID=UTC:20251209T190000
DTEND;TZID=UTC:20251209T210000
DTSTAMP:20260419T152343
CREATED:20231005T211716Z
LAST-MODIFIED:20231005T211716Z
UID:10005660-1765306800-1765314000@tapstertastingroom.com
SUMMARY:King Trivia Tuesdays
DESCRIPTION:Trivia 7pm (free). \n$2 Beer Night\n(all macro beers $2)
URL:https://tapstertastingroom.com/event/king-trivia-tuesdays/2025-12-09/
LOCATION:Philly\, Philadelphia\, WA
CATEGORIES:Tapster Philly
ATTACH;FMTTYPE=image/jpeg:https://tapstertastingroom.com/wp-content/uploads/2023/10/Tapster-Starting-Post-3.jpg
END:VEVENT
BEGIN:VEVENT
DTSTART;VALUE=DATE:20251210
DTEND;VALUE=DATE:20251211
DTSTAMP:20260419T152343
CREATED:20231005T213202Z
LAST-MODIFIED:20231005T213202Z
UID:10006443-1765324800-1765411199@tapstertastingroom.com
SUMMARY:Wine Wednesdays
DESCRIPTION:Wine Wednesdays\n$5 on all glasses of wine!
URL:https://tapstertastingroom.com/event/wine-wednesdays/2025-12-10/
LOCATION:Philly\, Philadelphia\, WA
CATEGORIES:Tapster Philly
ATTACH;FMTTYPE=image/jpeg:https://tapstertastingroom.com/wp-content/uploads/2022/11/271629586_675601456771153_8572555226883334159_n.jpg
END:VEVENT
BEGIN:VEVENT
DTSTART;VALUE=DATE:20251214
DTEND;VALUE=DATE:20251215
DTSTAMP:20260419T152343
CREATED:20231005T221244Z
LAST-MODIFIED:20231005T224256Z
UID:10006766-1765670400-1765756799@tapstertastingroom.com
SUMMARY:Rolling Rock Only $2.88 a Pint
DESCRIPTION:ROLLING ROCK SPECIAL\nONLY $2.88 a PINT\nON TAP Every Day!
URL:https://tapstertastingroom.com/event/rolling-rock-only-2-88-a-pint/2025-12-14/
LOCATION:Philly\, Philadelphia\, WA
CATEGORIES:Tapster Philly
ATTACH;FMTTYPE=image/jpeg:https://tapstertastingroom.com/wp-content/uploads/2023/10/Tapster-RollingRock.jpg
END:VEVENT
BEGIN:VEVENT
DTSTART;VALUE=DATE:20251214
DTEND;VALUE=DATE:20251215
DTSTAMP:20260419T152343
CREATED:20240913T224348Z
LAST-MODIFIED:20240913T224348Z
UID:10007231-1765670400-1765756799@tapstertastingroom.com
SUMMARY:Beer of The Month
DESCRIPTION:Beer of the Month:\n$4 pints on specialty beers all month long\nALWAYS SOMETHING NEW TO TRY
URL:https://tapstertastingroom.com/event/beer-of-the-month-2/2025-12-14/
LOCATION:Philly\, Philadelphia\, WA
CATEGORIES:Tapster Philly
ATTACH;FMTTYPE=image/jpeg:https://tapstertastingroom.com/wp-content/uploads/2023/10/Tapster-BeersofMonth.jpg
END:VEVENT
BEGIN:VEVENT
DTSTART;VALUE=DATE:20251214
DTEND;VALUE=DATE:20251215
DTSTAMP:20260419T152343
CREATED:20241002T162523Z
LAST-MODIFIED:20241002T162523Z
UID:10011680-1765670400-1765756799@tapstertastingroom.com
SUMMARY:Industry Night - Sundays
DESCRIPTION:Industry night – 30% for all restaurant / bar staff \nCOME HANG OUT WITH US
URL:https://tapstertastingroom.com/event/industry-night-sundays-2/2025-12-14/
LOCATION:Philly\, Philadelphia\, WA
CATEGORIES:Tapster Philly
ATTACH;FMTTYPE=image/jpeg:https://tapstertastingroom.com/wp-content/uploads/2023/10/Tapster-IndustryNight-Sundays.jpg
END:VEVENT
BEGIN:VEVENT
DTSTART;VALUE=DATE:20251216
DTEND;VALUE=DATE:20251217
DTSTAMP:20260419T152343
CREATED:20231005T231330Z
LAST-MODIFIED:20231005T231330Z
UID:10007550-1765843200-1765929599@tapstertastingroom.com
SUMMARY:Beer Night - TUESDAYS
DESCRIPTION:$2 Beer Night\n(all macro beers $2) \nTUESDAYS
URL:https://tapstertastingroom.com/event/beer-night-tuesdays/2025-12-16/
LOCATION:Philly\, Philadelphia\, WA
CATEGORIES:Tapster Philly
ATTACH;FMTTYPE=image/jpeg:https://tapstertastingroom.com/wp-content/uploads/2023/10/Tapster-BeerNight.jpg
END:VEVENT
BEGIN:VEVENT
DTSTART;TZID=UTC:20251216T190000
DTEND;TZID=UTC:20251216T210000
DTSTAMP:20260419T152343
CREATED:20231005T211716Z
LAST-MODIFIED:20231005T211716Z
UID:10005661-1765911600-1765918800@tapstertastingroom.com
SUMMARY:King Trivia Tuesdays
DESCRIPTION:Trivia 7pm (free). \n$2 Beer Night\n(all macro beers $2)
URL:https://tapstertastingroom.com/event/king-trivia-tuesdays/2025-12-16/
LOCATION:Philly\, Philadelphia\, WA
CATEGORIES:Tapster Philly
ATTACH;FMTTYPE=image/jpeg:https://tapstertastingroom.com/wp-content/uploads/2023/10/Tapster-Starting-Post-3.jpg
END:VEVENT
BEGIN:VEVENT
DTSTART;VALUE=DATE:20251217
DTEND;VALUE=DATE:20251218
DTSTAMP:20260419T152343
CREATED:20231005T213202Z
LAST-MODIFIED:20231005T213202Z
UID:10006444-1765929600-1766015999@tapstertastingroom.com
SUMMARY:Wine Wednesdays
DESCRIPTION:Wine Wednesdays\n$5 on all glasses of wine!
URL:https://tapstertastingroom.com/event/wine-wednesdays/2025-12-17/
LOCATION:Philly\, Philadelphia\, WA
CATEGORIES:Tapster Philly
ATTACH;FMTTYPE=image/jpeg:https://tapstertastingroom.com/wp-content/uploads/2022/11/271629586_675601456771153_8572555226883334159_n.jpg
END:VEVENT
BEGIN:VEVENT
DTSTART;VALUE=DATE:20251221
DTEND;VALUE=DATE:20251222
DTSTAMP:20260419T152343
CREATED:20231005T221244Z
LAST-MODIFIED:20231005T224256Z
UID:10006767-1766275200-1766361599@tapstertastingroom.com
SUMMARY:Rolling Rock Only $2.88 a Pint
DESCRIPTION:ROLLING ROCK SPECIAL\nONLY $2.88 a PINT\nON TAP Every Day!
URL:https://tapstertastingroom.com/event/rolling-rock-only-2-88-a-pint/2025-12-21/
LOCATION:Philly\, Philadelphia\, WA
CATEGORIES:Tapster Philly
ATTACH;FMTTYPE=image/jpeg:https://tapstertastingroom.com/wp-content/uploads/2023/10/Tapster-RollingRock.jpg
END:VEVENT
BEGIN:VEVENT
DTSTART;VALUE=DATE:20251221
DTEND;VALUE=DATE:20251222
DTSTAMP:20260419T152343
CREATED:20241002T162523Z
LAST-MODIFIED:20241002T162523Z
UID:10011681-1766275200-1766361599@tapstertastingroom.com
SUMMARY:Industry Night - Sundays
DESCRIPTION:Industry night – 30% for all restaurant / bar staff \nCOME HANG OUT WITH US
URL:https://tapstertastingroom.com/event/industry-night-sundays-2/2025-12-21/
LOCATION:Philly\, Philadelphia\, WA
CATEGORIES:Tapster Philly
ATTACH;FMTTYPE=image/jpeg:https://tapstertastingroom.com/wp-content/uploads/2023/10/Tapster-IndustryNight-Sundays.jpg
END:VEVENT
BEGIN:VEVENT
DTSTART;VALUE=DATE:20251223
DTEND;VALUE=DATE:20251224
DTSTAMP:20260419T152343
CREATED:20231005T231330Z
LAST-MODIFIED:20231005T231330Z
UID:10007551-1766448000-1766534399@tapstertastingroom.com
SUMMARY:Beer Night - TUESDAYS
DESCRIPTION:$2 Beer Night\n(all macro beers $2) \nTUESDAYS
URL:https://tapstertastingroom.com/event/beer-night-tuesdays/2025-12-23/
LOCATION:Philly\, Philadelphia\, WA
CATEGORIES:Tapster Philly
ATTACH;FMTTYPE=image/jpeg:https://tapstertastingroom.com/wp-content/uploads/2023/10/Tapster-BeerNight.jpg
END:VEVENT
BEGIN:VEVENT
DTSTART;TZID=UTC:20251223T190000
DTEND;TZID=UTC:20251223T210000
DTSTAMP:20260419T152343
CREATED:20231005T211716Z
LAST-MODIFIED:20231005T211716Z
UID:10005662-1766516400-1766523600@tapstertastingroom.com
SUMMARY:King Trivia Tuesdays
DESCRIPTION:Trivia 7pm (free). \n$2 Beer Night\n(all macro beers $2)
URL:https://tapstertastingroom.com/event/king-trivia-tuesdays/2025-12-23/
LOCATION:Philly\, Philadelphia\, WA
CATEGORIES:Tapster Philly
ATTACH;FMTTYPE=image/jpeg:https://tapstertastingroom.com/wp-content/uploads/2023/10/Tapster-Starting-Post-3.jpg
END:VEVENT
BEGIN:VEVENT
DTSTART;VALUE=DATE:20251224
DTEND;VALUE=DATE:20251225
DTSTAMP:20260419T152343
CREATED:20231005T213202Z
LAST-MODIFIED:20231005T213202Z
UID:10006445-1766534400-1766620799@tapstertastingroom.com
SUMMARY:Wine Wednesdays
DESCRIPTION:Wine Wednesdays\n$5 on all glasses of wine!
URL:https://tapstertastingroom.com/event/wine-wednesdays/2025-12-24/
LOCATION:Philly\, Philadelphia\, WA
CATEGORIES:Tapster Philly
ATTACH;FMTTYPE=image/jpeg:https://tapstertastingroom.com/wp-content/uploads/2022/11/271629586_675601456771153_8572555226883334159_n.jpg
END:VEVENT
BEGIN:VEVENT
DTSTART;VALUE=DATE:20251228
DTEND;VALUE=DATE:20251229
DTSTAMP:20260419T152343
CREATED:20231005T221244Z
LAST-MODIFIED:20231005T224256Z
UID:10006768-1766880000-1766966399@tapstertastingroom.com
SUMMARY:Rolling Rock Only $2.88 a Pint
DESCRIPTION:ROLLING ROCK SPECIAL\nONLY $2.88 a PINT\nON TAP Every Day!
URL:https://tapstertastingroom.com/event/rolling-rock-only-2-88-a-pint/2025-12-28/
LOCATION:Philly\, Philadelphia\, WA
CATEGORIES:Tapster Philly
ATTACH;FMTTYPE=image/jpeg:https://tapstertastingroom.com/wp-content/uploads/2023/10/Tapster-RollingRock.jpg
END:VEVENT
BEGIN:VEVENT
DTSTART;VALUE=DATE:20251228
DTEND;VALUE=DATE:20251229
DTSTAMP:20260419T152343
CREATED:20240913T224348Z
LAST-MODIFIED:20240913T224348Z
UID:10007232-1766880000-1766966399@tapstertastingroom.com
SUMMARY:Beer of The Month
DESCRIPTION:Beer of the Month:\n$4 pints on specialty beers all month long\nALWAYS SOMETHING NEW TO TRY
URL:https://tapstertastingroom.com/event/beer-of-the-month-2/2025-12-28/
LOCATION:Philly\, Philadelphia\, WA
CATEGORIES:Tapster Philly
ATTACH;FMTTYPE=image/jpeg:https://tapstertastingroom.com/wp-content/uploads/2023/10/Tapster-BeersofMonth.jpg
END:VEVENT
BEGIN:VEVENT
DTSTART;VALUE=DATE:20251228
DTEND;VALUE=DATE:20251229
DTSTAMP:20260419T152343
CREATED:20241002T162523Z
LAST-MODIFIED:20241002T162523Z
UID:10011682-1766880000-1766966399@tapstertastingroom.com
SUMMARY:Industry Night - Sundays
DESCRIPTION:Industry night – 30% for all restaurant / bar staff \nCOME HANG OUT WITH US
URL:https://tapstertastingroom.com/event/industry-night-sundays-2/2025-12-28/
LOCATION:Philly\, Philadelphia\, WA
CATEGORIES:Tapster Philly
ATTACH;FMTTYPE=image/jpeg:https://tapstertastingroom.com/wp-content/uploads/2023/10/Tapster-IndustryNight-Sundays.jpg
END:VEVENT
BEGIN:VEVENT
DTSTART;VALUE=DATE:20251230
DTEND;VALUE=DATE:20251231
DTSTAMP:20260419T152343
CREATED:20231005T231330Z
LAST-MODIFIED:20231005T231330Z
UID:10007552-1767052800-1767139199@tapstertastingroom.com
SUMMARY:Beer Night - TUESDAYS
DESCRIPTION:$2 Beer Night\n(all macro beers $2) \nTUESDAYS
URL:https://tapstertastingroom.com/event/beer-night-tuesdays/2025-12-30/
LOCATION:Philly\, Philadelphia\, WA
CATEGORIES:Tapster Philly
ATTACH;FMTTYPE=image/jpeg:https://tapstertastingroom.com/wp-content/uploads/2023/10/Tapster-BeerNight.jpg
END:VEVENT
BEGIN:VEVENT
DTSTART;TZID=UTC:20251230T190000
DTEND;TZID=UTC:20251230T210000
DTSTAMP:20260419T152343
CREATED:20231005T211716Z
LAST-MODIFIED:20231005T211716Z
UID:10005663-1767121200-1767128400@tapstertastingroom.com
SUMMARY:King Trivia Tuesdays
DESCRIPTION:Trivia 7pm (free). \n$2 Beer Night\n(all macro beers $2)
URL:https://tapstertastingroom.com/event/king-trivia-tuesdays/2025-12-30/
LOCATION:Philly\, Philadelphia\, WA
CATEGORIES:Tapster Philly
ATTACH;FMTTYPE=image/jpeg:https://tapstertastingroom.com/wp-content/uploads/2023/10/Tapster-Starting-Post-3.jpg
END:VEVENT
BEGIN:VEVENT
DTSTART;VALUE=DATE:20251231
DTEND;VALUE=DATE:20260101
DTSTAMP:20260419T152343
CREATED:20231005T213202Z
LAST-MODIFIED:20231005T213202Z
UID:10006446-1767139200-1767225599@tapstertastingroom.com
SUMMARY:Wine Wednesdays
DESCRIPTION:Wine Wednesdays\n$5 on all glasses of wine!
URL:https://tapstertastingroom.com/event/wine-wednesdays/2025-12-31/
LOCATION:Philly\, Philadelphia\, WA
CATEGORIES:Tapster Philly
ATTACH;FMTTYPE=image/jpeg:https://tapstertastingroom.com/wp-content/uploads/2022/11/271629586_675601456771153_8572555226883334159_n.jpg
END:VEVENT
END:VCALENDAR