BEGIN:VCALENDAR
VERSION:2.0
PRODID:-//Tapster - ECPv6.6.3//NONSGML v1.0//EN
CALSCALE:GREGORIAN
METHOD:PUBLISH
X-WR-CALNAME:Tapster
X-ORIGINAL-URL:https://tapstertastingroom.com
X-WR-CALDESC:Events for Tapster
REFRESH-INTERVAL;VALUE=DURATION:PT1H
X-Robots-Tag:noindex
X-PUBLISHED-TTL:PT1H
BEGIN:VTIMEZONE
TZID:UTC
BEGIN:STANDARD
TZOFFSETFROM:+0000
TZOFFSETTO:+0000
TZNAME:UTC
DTSTART:20250101T000000
END:STANDARD
END:VTIMEZONE
BEGIN:VEVENT
DTSTART;VALUE=DATE:20250101
DTEND;VALUE=DATE:20250102
DTSTAMP:20260420T203249
CREATED:20231005T213202Z
LAST-MODIFIED:20231005T213202Z
UID:10006394-1735689600-1735775999@tapstertastingroom.com
SUMMARY:Wine Wednesdays
DESCRIPTION:Wine Wednesdays\n$5 on all glasses of wine!
URL:https://tapstertastingroom.com/event/wine-wednesdays/2025-01-01/
LOCATION:Philly\, Philadelphia\, WA
CATEGORIES:Tapster Philly
ATTACH;FMTTYPE=image/jpeg:https://tapstertastingroom.com/wp-content/uploads/2022/11/271629586_675601456771153_8572555226883334159_n.jpg
END:VEVENT
BEGIN:VEVENT
DTSTART;TZID=UTC:20250102T190000
DTEND;TZID=UTC:20250102T210000
DTSTAMP:20260420T203249
CREATED:20231005T213919Z
LAST-MODIFIED:20231005T222254Z
UID:10006606-1735844400-1735851600@tapstertastingroom.com
SUMMARY:Live Jazz Music - 1st Thursday
DESCRIPTION:Live Jazz\n1st Thursday of the month \nCan you dig it?
URL:https://tapstertastingroom.com/event/live-jazz-music-1st-thursday/2025-01-02/
LOCATION:Philly\, Philadelphia\, WA
CATEGORIES:Tapster Philly
ATTACH;FMTTYPE=image/jpeg:https://tapstertastingroom.com/wp-content/uploads/2023/10/Tapster-LiveJazz.jpg
END:VEVENT
BEGIN:VEVENT
DTSTART;VALUE=DATE:20250105
DTEND;VALUE=DATE:20250106
DTSTAMP:20260420T203249
CREATED:20231005T221244Z
LAST-MODIFIED:20231005T224256Z
UID:10006717-1736035200-1736121599@tapstertastingroom.com
SUMMARY:Rolling Rock Only $2.88 a Pint
DESCRIPTION:ROLLING ROCK SPECIAL\nONLY $2.88 a PINT\nON TAP Every Day!
URL:https://tapstertastingroom.com/event/rolling-rock-only-2-88-a-pint/2025-01-05/
LOCATION:Philly\, Philadelphia\, WA
CATEGORIES:Tapster Philly
ATTACH;FMTTYPE=image/jpeg:https://tapstertastingroom.com/wp-content/uploads/2023/10/Tapster-RollingRock.jpg
END:VEVENT
BEGIN:VEVENT
DTSTART;VALUE=DATE:20250105
DTEND;VALUE=DATE:20250106
DTSTAMP:20260420T203249
CREATED:20241002T162523Z
LAST-MODIFIED:20241002T162523Z
UID:10011631-1736035200-1736121599@tapstertastingroom.com
SUMMARY:Industry Night - Sundays
DESCRIPTION:Industry night – 30% for all restaurant / bar staff \nCOME HANG OUT WITH US
URL:https://tapstertastingroom.com/event/industry-night-sundays-2/2025-01-05/
LOCATION:Philly\, Philadelphia\, WA
CATEGORIES:Tapster Philly
ATTACH;FMTTYPE=image/jpeg:https://tapstertastingroom.com/wp-content/uploads/2023/10/Tapster-IndustryNight-Sundays.jpg
END:VEVENT
BEGIN:VEVENT
DTSTART;VALUE=DATE:20250107
DTEND;VALUE=DATE:20250108
DTSTAMP:20260420T203249
CREATED:20231005T231330Z
LAST-MODIFIED:20231005T231330Z
UID:10007501-1736208000-1736294399@tapstertastingroom.com
SUMMARY:Beer Night - TUESDAYS
DESCRIPTION:$2 Beer Night\n(all macro beers $2) \nTUESDAYS
URL:https://tapstertastingroom.com/event/beer-night-tuesdays/2025-01-07/
LOCATION:Philly\, Philadelphia\, WA
CATEGORIES:Tapster Philly
ATTACH;FMTTYPE=image/jpeg:https://tapstertastingroom.com/wp-content/uploads/2023/10/Tapster-BeerNight.jpg
END:VEVENT
BEGIN:VEVENT
DTSTART;TZID=UTC:20250107T190000
DTEND;TZID=UTC:20250107T210000
DTSTAMP:20260420T203249
CREATED:20231005T211716Z
LAST-MODIFIED:20231005T211716Z
UID:10005612-1736276400-1736283600@tapstertastingroom.com
SUMMARY:King Trivia Tuesdays
DESCRIPTION:Trivia 7pm (free). \n$2 Beer Night\n(all macro beers $2)
URL:https://tapstertastingroom.com/event/king-trivia-tuesdays/2025-01-07/
LOCATION:Philly\, Philadelphia\, WA
CATEGORIES:Tapster Philly
ATTACH;FMTTYPE=image/jpeg:https://tapstertastingroom.com/wp-content/uploads/2023/10/Tapster-Starting-Post-3.jpg
END:VEVENT
BEGIN:VEVENT
DTSTART;VALUE=DATE:20250108
DTEND;VALUE=DATE:20250109
DTSTAMP:20260420T203249
CREATED:20231005T213202Z
LAST-MODIFIED:20231005T213202Z
UID:10006395-1736294400-1736380799@tapstertastingroom.com
SUMMARY:Wine Wednesdays
DESCRIPTION:Wine Wednesdays\n$5 on all glasses of wine!
URL:https://tapstertastingroom.com/event/wine-wednesdays/2025-01-08/
LOCATION:Philly\, Philadelphia\, WA
CATEGORIES:Tapster Philly
ATTACH;FMTTYPE=image/jpeg:https://tapstertastingroom.com/wp-content/uploads/2022/11/271629586_675601456771153_8572555226883334159_n.jpg
END:VEVENT
BEGIN:VEVENT
DTSTART;VALUE=DATE:20250112
DTEND;VALUE=DATE:20250113
DTSTAMP:20260420T203249
CREATED:20231005T221244Z
LAST-MODIFIED:20231005T224256Z
UID:10006718-1736640000-1736726399@tapstertastingroom.com
SUMMARY:Rolling Rock Only $2.88 a Pint
DESCRIPTION:ROLLING ROCK SPECIAL\nONLY $2.88 a PINT\nON TAP Every Day!
URL:https://tapstertastingroom.com/event/rolling-rock-only-2-88-a-pint/2025-01-12/
LOCATION:Philly\, Philadelphia\, WA
CATEGORIES:Tapster Philly
ATTACH;FMTTYPE=image/jpeg:https://tapstertastingroom.com/wp-content/uploads/2023/10/Tapster-RollingRock.jpg
END:VEVENT
BEGIN:VEVENT
DTSTART;VALUE=DATE:20250112
DTEND;VALUE=DATE:20250113
DTSTAMP:20260420T203249
CREATED:20240913T224348Z
LAST-MODIFIED:20240913T224348Z
UID:10007207-1736640000-1736726399@tapstertastingroom.com
SUMMARY:Beer of The Month
DESCRIPTION:Beer of the Month:\n$4 pints on specialty beers all month long\nALWAYS SOMETHING NEW TO TRY
URL:https://tapstertastingroom.com/event/beer-of-the-month-2/2025-01-12/
LOCATION:Philly\, Philadelphia\, WA
CATEGORIES:Tapster Philly
ATTACH;FMTTYPE=image/jpeg:https://tapstertastingroom.com/wp-content/uploads/2023/10/Tapster-BeersofMonth.jpg
END:VEVENT
BEGIN:VEVENT
DTSTART;VALUE=DATE:20250112
DTEND;VALUE=DATE:20250113
DTSTAMP:20260420T203249
CREATED:20241002T162523Z
LAST-MODIFIED:20241002T162523Z
UID:10011632-1736640000-1736726399@tapstertastingroom.com
SUMMARY:Industry Night - Sundays
DESCRIPTION:Industry night – 30% for all restaurant / bar staff \nCOME HANG OUT WITH US
URL:https://tapstertastingroom.com/event/industry-night-sundays-2/2025-01-12/
LOCATION:Philly\, Philadelphia\, WA
CATEGORIES:Tapster Philly
ATTACH;FMTTYPE=image/jpeg:https://tapstertastingroom.com/wp-content/uploads/2023/10/Tapster-IndustryNight-Sundays.jpg
END:VEVENT
BEGIN:VEVENT
DTSTART;VALUE=DATE:20250114
DTEND;VALUE=DATE:20250115
DTSTAMP:20260420T203249
CREATED:20231005T231330Z
LAST-MODIFIED:20231005T231330Z
UID:10007502-1736812800-1736899199@tapstertastingroom.com
SUMMARY:Beer Night - TUESDAYS
DESCRIPTION:$2 Beer Night\n(all macro beers $2) \nTUESDAYS
URL:https://tapstertastingroom.com/event/beer-night-tuesdays/2025-01-14/
LOCATION:Philly\, Philadelphia\, WA
CATEGORIES:Tapster Philly
ATTACH;FMTTYPE=image/jpeg:https://tapstertastingroom.com/wp-content/uploads/2023/10/Tapster-BeerNight.jpg
END:VEVENT
BEGIN:VEVENT
DTSTART;TZID=UTC:20250114T190000
DTEND;TZID=UTC:20250114T210000
DTSTAMP:20260420T203249
CREATED:20231005T211716Z
LAST-MODIFIED:20231005T211716Z
UID:10005613-1736881200-1736888400@tapstertastingroom.com
SUMMARY:King Trivia Tuesdays
DESCRIPTION:Trivia 7pm (free). \n$2 Beer Night\n(all macro beers $2)
URL:https://tapstertastingroom.com/event/king-trivia-tuesdays/2025-01-14/
LOCATION:Philly\, Philadelphia\, WA
CATEGORIES:Tapster Philly
ATTACH;FMTTYPE=image/jpeg:https://tapstertastingroom.com/wp-content/uploads/2023/10/Tapster-Starting-Post-3.jpg
END:VEVENT
BEGIN:VEVENT
DTSTART;VALUE=DATE:20250115
DTEND;VALUE=DATE:20250116
DTSTAMP:20260420T203249
CREATED:20231005T213202Z
LAST-MODIFIED:20231005T213202Z
UID:10006396-1736899200-1736985599@tapstertastingroom.com
SUMMARY:Wine Wednesdays
DESCRIPTION:Wine Wednesdays\n$5 on all glasses of wine!
URL:https://tapstertastingroom.com/event/wine-wednesdays/2025-01-15/
LOCATION:Philly\, Philadelphia\, WA
CATEGORIES:Tapster Philly
ATTACH;FMTTYPE=image/jpeg:https://tapstertastingroom.com/wp-content/uploads/2022/11/271629586_675601456771153_8572555226883334159_n.jpg
END:VEVENT
BEGIN:VEVENT
DTSTART;VALUE=DATE:20250119
DTEND;VALUE=DATE:20250120
DTSTAMP:20260420T203249
CREATED:20231005T221244Z
LAST-MODIFIED:20231005T224256Z
UID:10006719-1737244800-1737331199@tapstertastingroom.com
SUMMARY:Rolling Rock Only $2.88 a Pint
DESCRIPTION:ROLLING ROCK SPECIAL\nONLY $2.88 a PINT\nON TAP Every Day!
URL:https://tapstertastingroom.com/event/rolling-rock-only-2-88-a-pint/2025-01-19/
LOCATION:Philly\, Philadelphia\, WA
CATEGORIES:Tapster Philly
ATTACH;FMTTYPE=image/jpeg:https://tapstertastingroom.com/wp-content/uploads/2023/10/Tapster-RollingRock.jpg
END:VEVENT
BEGIN:VEVENT
DTSTART;VALUE=DATE:20250119
DTEND;VALUE=DATE:20250120
DTSTAMP:20260420T203249
CREATED:20241002T162523Z
LAST-MODIFIED:20241002T162523Z
UID:10011633-1737244800-1737331199@tapstertastingroom.com
SUMMARY:Industry Night - Sundays
DESCRIPTION:Industry night – 30% for all restaurant / bar staff \nCOME HANG OUT WITH US
URL:https://tapstertastingroom.com/event/industry-night-sundays-2/2025-01-19/
LOCATION:Philly\, Philadelphia\, WA
CATEGORIES:Tapster Philly
ATTACH;FMTTYPE=image/jpeg:https://tapstertastingroom.com/wp-content/uploads/2023/10/Tapster-IndustryNight-Sundays.jpg
END:VEVENT
BEGIN:VEVENT
DTSTART;VALUE=DATE:20250121
DTEND;VALUE=DATE:20250122
DTSTAMP:20260420T203249
CREATED:20231005T231330Z
LAST-MODIFIED:20231005T231330Z
UID:10007503-1737417600-1737503999@tapstertastingroom.com
SUMMARY:Beer Night - TUESDAYS
DESCRIPTION:$2 Beer Night\n(all macro beers $2) \nTUESDAYS
URL:https://tapstertastingroom.com/event/beer-night-tuesdays/2025-01-21/
LOCATION:Philly\, Philadelphia\, WA
CATEGORIES:Tapster Philly
ATTACH;FMTTYPE=image/jpeg:https://tapstertastingroom.com/wp-content/uploads/2023/10/Tapster-BeerNight.jpg
END:VEVENT
BEGIN:VEVENT
DTSTART;TZID=UTC:20250121T190000
DTEND;TZID=UTC:20250121T210000
DTSTAMP:20260420T203249
CREATED:20231005T211716Z
LAST-MODIFIED:20231005T211716Z
UID:10005614-1737486000-1737493200@tapstertastingroom.com
SUMMARY:King Trivia Tuesdays
DESCRIPTION:Trivia 7pm (free). \n$2 Beer Night\n(all macro beers $2)
URL:https://tapstertastingroom.com/event/king-trivia-tuesdays/2025-01-21/
LOCATION:Philly\, Philadelphia\, WA
CATEGORIES:Tapster Philly
ATTACH;FMTTYPE=image/jpeg:https://tapstertastingroom.com/wp-content/uploads/2023/10/Tapster-Starting-Post-3.jpg
END:VEVENT
BEGIN:VEVENT
DTSTART;VALUE=DATE:20250122
DTEND;VALUE=DATE:20250123
DTSTAMP:20260420T203249
CREATED:20231005T213202Z
LAST-MODIFIED:20231005T213202Z
UID:10006397-1737504000-1737590399@tapstertastingroom.com
SUMMARY:Wine Wednesdays
DESCRIPTION:Wine Wednesdays\n$5 on all glasses of wine!
URL:https://tapstertastingroom.com/event/wine-wednesdays/2025-01-22/
LOCATION:Philly\, Philadelphia\, WA
CATEGORIES:Tapster Philly
ATTACH;FMTTYPE=image/jpeg:https://tapstertastingroom.com/wp-content/uploads/2022/11/271629586_675601456771153_8572555226883334159_n.jpg
END:VEVENT
BEGIN:VEVENT
DTSTART;VALUE=DATE:20250126
DTEND;VALUE=DATE:20250127
DTSTAMP:20260420T203249
CREATED:20231005T221244Z
LAST-MODIFIED:20231005T224256Z
UID:10006720-1737849600-1737935999@tapstertastingroom.com
SUMMARY:Rolling Rock Only $2.88 a Pint
DESCRIPTION:ROLLING ROCK SPECIAL\nONLY $2.88 a PINT\nON TAP Every Day!
URL:https://tapstertastingroom.com/event/rolling-rock-only-2-88-a-pint/2025-01-26/
LOCATION:Philly\, Philadelphia\, WA
CATEGORIES:Tapster Philly
ATTACH;FMTTYPE=image/jpeg:https://tapstertastingroom.com/wp-content/uploads/2023/10/Tapster-RollingRock.jpg
END:VEVENT
BEGIN:VEVENT
DTSTART;VALUE=DATE:20250126
DTEND;VALUE=DATE:20250127
DTSTAMP:20260420T203249
CREATED:20240913T224348Z
LAST-MODIFIED:20240913T224348Z
UID:10007208-1737849600-1737935999@tapstertastingroom.com
SUMMARY:Beer of The Month
DESCRIPTION:Beer of the Month:\n$4 pints on specialty beers all month long\nALWAYS SOMETHING NEW TO TRY
URL:https://tapstertastingroom.com/event/beer-of-the-month-2/2025-01-26/
LOCATION:Philly\, Philadelphia\, WA
CATEGORIES:Tapster Philly
ATTACH;FMTTYPE=image/jpeg:https://tapstertastingroom.com/wp-content/uploads/2023/10/Tapster-BeersofMonth.jpg
END:VEVENT
BEGIN:VEVENT
DTSTART;VALUE=DATE:20250126
DTEND;VALUE=DATE:20250127
DTSTAMP:20260420T203249
CREATED:20241002T162523Z
LAST-MODIFIED:20241002T162523Z
UID:10011634-1737849600-1737935999@tapstertastingroom.com
SUMMARY:Industry Night - Sundays
DESCRIPTION:Industry night – 30% for all restaurant / bar staff \nCOME HANG OUT WITH US
URL:https://tapstertastingroom.com/event/industry-night-sundays-2/2025-01-26/
LOCATION:Philly\, Philadelphia\, WA
CATEGORIES:Tapster Philly
ATTACH;FMTTYPE=image/jpeg:https://tapstertastingroom.com/wp-content/uploads/2023/10/Tapster-IndustryNight-Sundays.jpg
END:VEVENT
BEGIN:VEVENT
DTSTART;VALUE=DATE:20250128
DTEND;VALUE=DATE:20250129
DTSTAMP:20260420T203249
CREATED:20231005T231330Z
LAST-MODIFIED:20231005T231330Z
UID:10007504-1738022400-1738108799@tapstertastingroom.com
SUMMARY:Beer Night - TUESDAYS
DESCRIPTION:$2 Beer Night\n(all macro beers $2) \nTUESDAYS
URL:https://tapstertastingroom.com/event/beer-night-tuesdays/2025-01-28/
LOCATION:Philly\, Philadelphia\, WA
CATEGORIES:Tapster Philly
ATTACH;FMTTYPE=image/jpeg:https://tapstertastingroom.com/wp-content/uploads/2023/10/Tapster-BeerNight.jpg
END:VEVENT
BEGIN:VEVENT
DTSTART;TZID=UTC:20250128T190000
DTEND;TZID=UTC:20250128T210000
DTSTAMP:20260420T203249
CREATED:20231005T211716Z
LAST-MODIFIED:20231005T211716Z
UID:10005615-1738090800-1738098000@tapstertastingroom.com
SUMMARY:King Trivia Tuesdays
DESCRIPTION:Trivia 7pm (free). \n$2 Beer Night\n(all macro beers $2)
URL:https://tapstertastingroom.com/event/king-trivia-tuesdays/2025-01-28/
LOCATION:Philly\, Philadelphia\, WA
CATEGORIES:Tapster Philly
ATTACH;FMTTYPE=image/jpeg:https://tapstertastingroom.com/wp-content/uploads/2023/10/Tapster-Starting-Post-3.jpg
END:VEVENT
BEGIN:VEVENT
DTSTART;VALUE=DATE:20250129
DTEND;VALUE=DATE:20250130
DTSTAMP:20260420T203249
CREATED:20231005T213202Z
LAST-MODIFIED:20231005T213202Z
UID:10006398-1738108800-1738195199@tapstertastingroom.com
SUMMARY:Wine Wednesdays
DESCRIPTION:Wine Wednesdays\n$5 on all glasses of wine!
URL:https://tapstertastingroom.com/event/wine-wednesdays/2025-01-29/
LOCATION:Philly\, Philadelphia\, WA
CATEGORIES:Tapster Philly
ATTACH;FMTTYPE=image/jpeg:https://tapstertastingroom.com/wp-content/uploads/2022/11/271629586_675601456771153_8572555226883334159_n.jpg
END:VEVENT
END:VCALENDAR