BEGIN:VCALENDAR
VERSION:2.0
PRODID:-//Tapster - ECPv6.6.3//NONSGML v1.0//EN
CALSCALE:GREGORIAN
METHOD:PUBLISH
X-ORIGINAL-URL:https://tapstertastingroom.com
X-WR-CALDESC:Events for Tapster
REFRESH-INTERVAL;VALUE=DURATION:PT1H
X-Robots-Tag:noindex
X-PUBLISHED-TTL:PT1H
BEGIN:VTIMEZONE
TZID:UTC
BEGIN:STANDARD
TZOFFSETFROM:+0000
TZOFFSETTO:+0000
TZNAME:UTC
DTSTART:20270101T000000
END:STANDARD
END:VTIMEZONE
BEGIN:VEVENT
DTSTART;TZID=UTC:20270701T170000
DTEND;TZID=UTC:20270702T000000
DTSTAMP:20260420T222251
CREATED:20240613T134134Z
LAST-MODIFIED:20240613T134611Z
UID:10010710-1814461200-1814486400@tapstertastingroom.com
SUMMARY:Tapster Lincoln Park Happy Hour - Thursdays
DESCRIPTION:Tapster Lincoln Park Happy Hour \nfree popcorn\n$2.00 domestics \n25% off wine \nevery thursday\, 5pm-12am \nfriyay! 3pm-6:30pm \n \n  \n 
URL:https://tapstertastingroom.com/event/tapster-lincoln-park-happy-hour-thursdays/2027-07-01/
LOCATION:Chicago: Lincoln Park\, Chicago: Lincoln Park\, WA
CATEGORIES:Tapster Lincoln Park
ATTACH;FMTTYPE=image/webp:https://tapstertastingroom.com/wp-content/uploads/2024/06/Happy-Hour-2.webp
END:VEVENT
BEGIN:VEVENT
DTSTART;TZID=UTC:20270702T150000
DTEND;TZID=UTC:20270702T183000
DTSTAMP:20260420T222251
CREATED:20240613T134504Z
LAST-MODIFIED:20240613T134635Z
UID:10011232-1814540400-1814553000@tapstertastingroom.com
SUMMARY:Tapster Lincoln Park Happy Hour - Fridays
DESCRIPTION:Tapster Lincoln Park Happy Hour \nfree popcorn\n$2.00 domestics \n25% off wine \nevery thursday\, 5pm-12am \nfriyay! 3pm-6:30pm \n \n  \n 
URL:https://tapstertastingroom.com/event/tapster-lincoln-park-happy-hour-fridays/2027-07-02/
LOCATION:Chicago: Lincoln Park\, Chicago: Lincoln Park\, WA
CATEGORIES:Tapster Lincoln Park
ATTACH;FMTTYPE=image/webp:https://tapstertastingroom.com/wp-content/uploads/2024/06/Happy-Hour-2.webp
END:VEVENT
BEGIN:VEVENT
DTSTART;TZID=UTC:20270706T193000
DTEND;TZID=UTC:20270706T213000
DTSTAMP:20260420T222251
CREATED:20230124T201122Z
LAST-MODIFIED:20230124T201122Z
UID:10001098-1814902200-1814909400@tapstertastingroom.com
SUMMARY:Tuesdays Are Trivia Nights
DESCRIPTION:Tuesday Night Trivia: Hosted by PHOEBE and Baig of Tricks\nEvery Tuesday Night\n\nStarts at 7:30pm\nFree! \nDRINK. THINK. WIN.
URL:https://tapstertastingroom.com/event/tuesday_trivia_lincoln_park/2027-07-06/
LOCATION:Chicago: Lincoln Park\, Chicago: Lincoln Park\, WA
CATEGORIES:Tapster Lincoln Park
ATTACH;FMTTYPE=image/png:https://tapstertastingroom.com/wp-content/uploads/2023/01/Tapster-LP-Flyer.png
END:VEVENT
BEGIN:VEVENT
DTSTART;TZID=UTC:20270708T170000
DTEND;TZID=UTC:20270709T000000
DTSTAMP:20260420T222251
CREATED:20240613T134134Z
LAST-MODIFIED:20240613T134611Z
UID:10010711-1815066000-1815091200@tapstertastingroom.com
SUMMARY:Tapster Lincoln Park Happy Hour - Thursdays
DESCRIPTION:Tapster Lincoln Park Happy Hour \nfree popcorn\n$2.00 domestics \n25% off wine \nevery thursday\, 5pm-12am \nfriyay! 3pm-6:30pm \n \n  \n 
URL:https://tapstertastingroom.com/event/tapster-lincoln-park-happy-hour-thursdays/2027-07-08/
LOCATION:Chicago: Lincoln Park\, Chicago: Lincoln Park\, WA
CATEGORIES:Tapster Lincoln Park
ATTACH;FMTTYPE=image/webp:https://tapstertastingroom.com/wp-content/uploads/2024/06/Happy-Hour-2.webp
END:VEVENT
BEGIN:VEVENT
DTSTART;TZID=UTC:20270709T150000
DTEND;TZID=UTC:20270709T183000
DTSTAMP:20260420T222251
CREATED:20240613T134504Z
LAST-MODIFIED:20240613T134635Z
UID:10011233-1815145200-1815157800@tapstertastingroom.com
SUMMARY:Tapster Lincoln Park Happy Hour - Fridays
DESCRIPTION:Tapster Lincoln Park Happy Hour \nfree popcorn\n$2.00 domestics \n25% off wine \nevery thursday\, 5pm-12am \nfriyay! 3pm-6:30pm \n \n  \n 
URL:https://tapstertastingroom.com/event/tapster-lincoln-park-happy-hour-fridays/2027-07-09/
LOCATION:Chicago: Lincoln Park\, Chicago: Lincoln Park\, WA
CATEGORIES:Tapster Lincoln Park
ATTACH;FMTTYPE=image/webp:https://tapstertastingroom.com/wp-content/uploads/2024/06/Happy-Hour-2.webp
END:VEVENT
BEGIN:VEVENT
DTSTART;TZID=UTC:20270713T193000
DTEND;TZID=UTC:20270713T213000
DTSTAMP:20260420T222251
CREATED:20230124T201122Z
LAST-MODIFIED:20230124T201122Z
UID:10001099-1815507000-1815514200@tapstertastingroom.com
SUMMARY:Tuesdays Are Trivia Nights
DESCRIPTION:Tuesday Night Trivia: Hosted by PHOEBE and Baig of Tricks\nEvery Tuesday Night\n\nStarts at 7:30pm\nFree! \nDRINK. THINK. WIN.
URL:https://tapstertastingroom.com/event/tuesday_trivia_lincoln_park/2027-07-13/
LOCATION:Chicago: Lincoln Park\, Chicago: Lincoln Park\, WA
CATEGORIES:Tapster Lincoln Park
ATTACH;FMTTYPE=image/png:https://tapstertastingroom.com/wp-content/uploads/2023/01/Tapster-LP-Flyer.png
END:VEVENT
BEGIN:VEVENT
DTSTART;TZID=UTC:20270715T170000
DTEND;TZID=UTC:20270716T000000
DTSTAMP:20260420T222251
CREATED:20240613T134134Z
LAST-MODIFIED:20240613T134611Z
UID:10010712-1815670800-1815696000@tapstertastingroom.com
SUMMARY:Tapster Lincoln Park Happy Hour - Thursdays
DESCRIPTION:Tapster Lincoln Park Happy Hour \nfree popcorn\n$2.00 domestics \n25% off wine \nevery thursday\, 5pm-12am \nfriyay! 3pm-6:30pm \n \n  \n 
URL:https://tapstertastingroom.com/event/tapster-lincoln-park-happy-hour-thursdays/2027-07-15/
LOCATION:Chicago: Lincoln Park\, Chicago: Lincoln Park\, WA
CATEGORIES:Tapster Lincoln Park
ATTACH;FMTTYPE=image/webp:https://tapstertastingroom.com/wp-content/uploads/2024/06/Happy-Hour-2.webp
END:VEVENT
BEGIN:VEVENT
DTSTART;TZID=UTC:20270716T150000
DTEND;TZID=UTC:20270716T183000
DTSTAMP:20260420T222251
CREATED:20240613T134504Z
LAST-MODIFIED:20240613T134635Z
UID:10011234-1815750000-1815762600@tapstertastingroom.com
SUMMARY:Tapster Lincoln Park Happy Hour - Fridays
DESCRIPTION:Tapster Lincoln Park Happy Hour \nfree popcorn\n$2.00 domestics \n25% off wine \nevery thursday\, 5pm-12am \nfriyay! 3pm-6:30pm \n \n  \n 
URL:https://tapstertastingroom.com/event/tapster-lincoln-park-happy-hour-fridays/2027-07-16/
LOCATION:Chicago: Lincoln Park\, Chicago: Lincoln Park\, WA
CATEGORIES:Tapster Lincoln Park
ATTACH;FMTTYPE=image/webp:https://tapstertastingroom.com/wp-content/uploads/2024/06/Happy-Hour-2.webp
END:VEVENT
BEGIN:VEVENT
DTSTART;TZID=UTC:20270720T193000
DTEND;TZID=UTC:20270720T213000
DTSTAMP:20260420T222251
CREATED:20230124T201122Z
LAST-MODIFIED:20230124T201122Z
UID:10001100-1816111800-1816119000@tapstertastingroom.com
SUMMARY:Tuesdays Are Trivia Nights
DESCRIPTION:Tuesday Night Trivia: Hosted by PHOEBE and Baig of Tricks\nEvery Tuesday Night\n\nStarts at 7:30pm\nFree! \nDRINK. THINK. WIN.
URL:https://tapstertastingroom.com/event/tuesday_trivia_lincoln_park/2027-07-20/
LOCATION:Chicago: Lincoln Park\, Chicago: Lincoln Park\, WA
CATEGORIES:Tapster Lincoln Park
ATTACH;FMTTYPE=image/png:https://tapstertastingroom.com/wp-content/uploads/2023/01/Tapster-LP-Flyer.png
END:VEVENT
BEGIN:VEVENT
DTSTART;TZID=UTC:20270722T170000
DTEND;TZID=UTC:20270723T000000
DTSTAMP:20260420T222251
CREATED:20240613T134134Z
LAST-MODIFIED:20240613T134611Z
UID:10010713-1816275600-1816300800@tapstertastingroom.com
SUMMARY:Tapster Lincoln Park Happy Hour - Thursdays
DESCRIPTION:Tapster Lincoln Park Happy Hour \nfree popcorn\n$2.00 domestics \n25% off wine \nevery thursday\, 5pm-12am \nfriyay! 3pm-6:30pm \n \n  \n 
URL:https://tapstertastingroom.com/event/tapster-lincoln-park-happy-hour-thursdays/2027-07-22/
LOCATION:Chicago: Lincoln Park\, Chicago: Lincoln Park\, WA
CATEGORIES:Tapster Lincoln Park
ATTACH;FMTTYPE=image/webp:https://tapstertastingroom.com/wp-content/uploads/2024/06/Happy-Hour-2.webp
END:VEVENT
BEGIN:VEVENT
DTSTART;TZID=UTC:20270723T150000
DTEND;TZID=UTC:20270723T183000
DTSTAMP:20260420T222251
CREATED:20240613T134504Z
LAST-MODIFIED:20240613T134635Z
UID:10011235-1816354800-1816367400@tapstertastingroom.com
SUMMARY:Tapster Lincoln Park Happy Hour - Fridays
DESCRIPTION:Tapster Lincoln Park Happy Hour \nfree popcorn\n$2.00 domestics \n25% off wine \nevery thursday\, 5pm-12am \nfriyay! 3pm-6:30pm \n \n  \n 
URL:https://tapstertastingroom.com/event/tapster-lincoln-park-happy-hour-fridays/2027-07-23/
LOCATION:Chicago: Lincoln Park\, Chicago: Lincoln Park\, WA
CATEGORIES:Tapster Lincoln Park
ATTACH;FMTTYPE=image/webp:https://tapstertastingroom.com/wp-content/uploads/2024/06/Happy-Hour-2.webp
END:VEVENT
BEGIN:VEVENT
DTSTART;TZID=UTC:20270727T193000
DTEND;TZID=UTC:20270727T213000
DTSTAMP:20260420T222251
CREATED:20230124T201122Z
LAST-MODIFIED:20230124T201122Z
UID:10001101-1816716600-1816723800@tapstertastingroom.com
SUMMARY:Tuesdays Are Trivia Nights
DESCRIPTION:Tuesday Night Trivia: Hosted by PHOEBE and Baig of Tricks\nEvery Tuesday Night\n\nStarts at 7:30pm\nFree! \nDRINK. THINK. WIN.
URL:https://tapstertastingroom.com/event/tuesday_trivia_lincoln_park/2027-07-27/
LOCATION:Chicago: Lincoln Park\, Chicago: Lincoln Park\, WA
CATEGORIES:Tapster Lincoln Park
ATTACH;FMTTYPE=image/png:https://tapstertastingroom.com/wp-content/uploads/2023/01/Tapster-LP-Flyer.png
END:VEVENT
BEGIN:VEVENT
DTSTART;TZID=UTC:20270729T170000
DTEND;TZID=UTC:20270730T000000
DTSTAMP:20260420T222251
CREATED:20240613T134134Z
LAST-MODIFIED:20240613T134611Z
UID:10010714-1816880400-1816905600@tapstertastingroom.com
SUMMARY:Tapster Lincoln Park Happy Hour - Thursdays
DESCRIPTION:Tapster Lincoln Park Happy Hour \nfree popcorn\n$2.00 domestics \n25% off wine \nevery thursday\, 5pm-12am \nfriyay! 3pm-6:30pm \n \n  \n 
URL:https://tapstertastingroom.com/event/tapster-lincoln-park-happy-hour-thursdays/2027-07-29/
LOCATION:Chicago: Lincoln Park\, Chicago: Lincoln Park\, WA
CATEGORIES:Tapster Lincoln Park
ATTACH;FMTTYPE=image/webp:https://tapstertastingroom.com/wp-content/uploads/2024/06/Happy-Hour-2.webp
END:VEVENT
BEGIN:VEVENT
DTSTART;TZID=UTC:20270730T150000
DTEND;TZID=UTC:20270730T183000
DTSTAMP:20260420T222251
CREATED:20240613T134504Z
LAST-MODIFIED:20240613T134635Z
UID:10011236-1816959600-1816972200@tapstertastingroom.com
SUMMARY:Tapster Lincoln Park Happy Hour - Fridays
DESCRIPTION:Tapster Lincoln Park Happy Hour \nfree popcorn\n$2.00 domestics \n25% off wine \nevery thursday\, 5pm-12am \nfriyay! 3pm-6:30pm \n \n  \n 
URL:https://tapstertastingroom.com/event/tapster-lincoln-park-happy-hour-fridays/2027-07-30/
LOCATION:Chicago: Lincoln Park\, Chicago: Lincoln Park\, WA
CATEGORIES:Tapster Lincoln Park
ATTACH;FMTTYPE=image/webp:https://tapstertastingroom.com/wp-content/uploads/2024/06/Happy-Hour-2.webp
END:VEVENT
END:VCALENDAR