BEGIN:VCALENDAR
VERSION:2.0
PRODID:-//Tapster - ECPv6.6.3//NONSGML v1.0//EN
CALSCALE:GREGORIAN
METHOD:PUBLISH
X-WR-CALNAME:Tapster
X-ORIGINAL-URL:https://tapstertastingroom.com
X-WR-CALDESC:Events for Tapster
REFRESH-INTERVAL;VALUE=DURATION:PT1H
X-Robots-Tag:noindex
X-PUBLISHED-TTL:PT1H
BEGIN:VTIMEZONE
TZID:UTC
BEGIN:STANDARD
TZOFFSETFROM:+0000
TZOFFSETTO:+0000
TZNAME:UTC
DTSTART:20270101T000000
END:STANDARD
END:VTIMEZONE
BEGIN:VEVENT
DTSTART;TZID=UTC:20270101T150000
DTEND;TZID=UTC:20270101T183000
DTSTAMP:20260419T175824
CREATED:20240613T134504Z
LAST-MODIFIED:20240613T134635Z
UID:10011206-1798815600-1798828200@tapstertastingroom.com
SUMMARY:Tapster Lincoln Park Happy Hour - Fridays
DESCRIPTION:Tapster Lincoln Park Happy Hour \nfree popcorn\n$2.00 domestics \n25% off wine \nevery thursday\, 5pm-12am \nfriyay! 3pm-6:30pm \n \n  \n 
URL:https://tapstertastingroom.com/event/tapster-lincoln-park-happy-hour-fridays/2027-01-01/
LOCATION:Chicago: Lincoln Park\, Chicago: Lincoln Park\, WA
CATEGORIES:Tapster Lincoln Park
ATTACH;FMTTYPE=image/webp:https://tapstertastingroom.com/wp-content/uploads/2024/06/Happy-Hour-2.webp
END:VEVENT
BEGIN:VEVENT
DTSTART;TZID=UTC:20270105T193000
DTEND;TZID=UTC:20270105T213000
DTSTAMP:20260419T175824
CREATED:20230124T201122Z
LAST-MODIFIED:20230124T201122Z
UID:10001072-1799177400-1799184600@tapstertastingroom.com
SUMMARY:Tuesdays Are Trivia Nights
DESCRIPTION:Tuesday Night Trivia: Hosted by PHOEBE and Baig of Tricks\nEvery Tuesday Night\n\nStarts at 7:30pm\nFree! \nDRINK. THINK. WIN.
URL:https://tapstertastingroom.com/event/tuesday_trivia_lincoln_park/2027-01-05/
LOCATION:Chicago: Lincoln Park\, Chicago: Lincoln Park\, WA
CATEGORIES:Tapster Lincoln Park
ATTACH;FMTTYPE=image/png:https://tapstertastingroom.com/wp-content/uploads/2023/01/Tapster-LP-Flyer.png
END:VEVENT
BEGIN:VEVENT
DTSTART;TZID=UTC:20270107T170000
DTEND;TZID=UTC:20270108T000000
DTSTAMP:20260419T175824
CREATED:20240613T134134Z
LAST-MODIFIED:20240613T134611Z
UID:10010685-1799341200-1799366400@tapstertastingroom.com
SUMMARY:Tapster Lincoln Park Happy Hour - Thursdays
DESCRIPTION:Tapster Lincoln Park Happy Hour \nfree popcorn\n$2.00 domestics \n25% off wine \nevery thursday\, 5pm-12am \nfriyay! 3pm-6:30pm \n \n  \n 
URL:https://tapstertastingroom.com/event/tapster-lincoln-park-happy-hour-thursdays/2027-01-07/
LOCATION:Chicago: Lincoln Park\, Chicago: Lincoln Park\, WA
CATEGORIES:Tapster Lincoln Park
ATTACH;FMTTYPE=image/webp:https://tapstertastingroom.com/wp-content/uploads/2024/06/Happy-Hour-2.webp
END:VEVENT
BEGIN:VEVENT
DTSTART;TZID=UTC:20270108T150000
DTEND;TZID=UTC:20270108T183000
DTSTAMP:20260419T175824
CREATED:20240613T134504Z
LAST-MODIFIED:20240613T134635Z
UID:10011207-1799420400-1799433000@tapstertastingroom.com
SUMMARY:Tapster Lincoln Park Happy Hour - Fridays
DESCRIPTION:Tapster Lincoln Park Happy Hour \nfree popcorn\n$2.00 domestics \n25% off wine \nevery thursday\, 5pm-12am \nfriyay! 3pm-6:30pm \n \n  \n 
URL:https://tapstertastingroom.com/event/tapster-lincoln-park-happy-hour-fridays/2027-01-08/
LOCATION:Chicago: Lincoln Park\, Chicago: Lincoln Park\, WA
CATEGORIES:Tapster Lincoln Park
ATTACH;FMTTYPE=image/webp:https://tapstertastingroom.com/wp-content/uploads/2024/06/Happy-Hour-2.webp
END:VEVENT
BEGIN:VEVENT
DTSTART;TZID=UTC:20270112T193000
DTEND;TZID=UTC:20270112T213000
DTSTAMP:20260419T175824
CREATED:20230124T201122Z
LAST-MODIFIED:20230124T201122Z
UID:10001073-1799782200-1799789400@tapstertastingroom.com
SUMMARY:Tuesdays Are Trivia Nights
DESCRIPTION:Tuesday Night Trivia: Hosted by PHOEBE and Baig of Tricks\nEvery Tuesday Night\n\nStarts at 7:30pm\nFree! \nDRINK. THINK. WIN.
URL:https://tapstertastingroom.com/event/tuesday_trivia_lincoln_park/2027-01-12/
LOCATION:Chicago: Lincoln Park\, Chicago: Lincoln Park\, WA
CATEGORIES:Tapster Lincoln Park
ATTACH;FMTTYPE=image/png:https://tapstertastingroom.com/wp-content/uploads/2023/01/Tapster-LP-Flyer.png
END:VEVENT
BEGIN:VEVENT
DTSTART;TZID=UTC:20270114T170000
DTEND;TZID=UTC:20270115T000000
DTSTAMP:20260419T175824
CREATED:20240613T134134Z
LAST-MODIFIED:20240613T134611Z
UID:10010686-1799946000-1799971200@tapstertastingroom.com
SUMMARY:Tapster Lincoln Park Happy Hour - Thursdays
DESCRIPTION:Tapster Lincoln Park Happy Hour \nfree popcorn\n$2.00 domestics \n25% off wine \nevery thursday\, 5pm-12am \nfriyay! 3pm-6:30pm \n \n  \n 
URL:https://tapstertastingroom.com/event/tapster-lincoln-park-happy-hour-thursdays/2027-01-14/
LOCATION:Chicago: Lincoln Park\, Chicago: Lincoln Park\, WA
CATEGORIES:Tapster Lincoln Park
ATTACH;FMTTYPE=image/webp:https://tapstertastingroom.com/wp-content/uploads/2024/06/Happy-Hour-2.webp
END:VEVENT
BEGIN:VEVENT
DTSTART;TZID=UTC:20270115T150000
DTEND;TZID=UTC:20270115T183000
DTSTAMP:20260419T175824
CREATED:20240613T134504Z
LAST-MODIFIED:20240613T134635Z
UID:10011208-1800025200-1800037800@tapstertastingroom.com
SUMMARY:Tapster Lincoln Park Happy Hour - Fridays
DESCRIPTION:Tapster Lincoln Park Happy Hour \nfree popcorn\n$2.00 domestics \n25% off wine \nevery thursday\, 5pm-12am \nfriyay! 3pm-6:30pm \n \n  \n 
URL:https://tapstertastingroom.com/event/tapster-lincoln-park-happy-hour-fridays/2027-01-15/
LOCATION:Chicago: Lincoln Park\, Chicago: Lincoln Park\, WA
CATEGORIES:Tapster Lincoln Park
ATTACH;FMTTYPE=image/webp:https://tapstertastingroom.com/wp-content/uploads/2024/06/Happy-Hour-2.webp
END:VEVENT
BEGIN:VEVENT
DTSTART;TZID=UTC:20270119T193000
DTEND;TZID=UTC:20270119T213000
DTSTAMP:20260419T175824
CREATED:20230124T201122Z
LAST-MODIFIED:20230124T201122Z
UID:10001074-1800387000-1800394200@tapstertastingroom.com
SUMMARY:Tuesdays Are Trivia Nights
DESCRIPTION:Tuesday Night Trivia: Hosted by PHOEBE and Baig of Tricks\nEvery Tuesday Night\n\nStarts at 7:30pm\nFree! \nDRINK. THINK. WIN.
URL:https://tapstertastingroom.com/event/tuesday_trivia_lincoln_park/2027-01-19/
LOCATION:Chicago: Lincoln Park\, Chicago: Lincoln Park\, WA
CATEGORIES:Tapster Lincoln Park
ATTACH;FMTTYPE=image/png:https://tapstertastingroom.com/wp-content/uploads/2023/01/Tapster-LP-Flyer.png
END:VEVENT
BEGIN:VEVENT
DTSTART;TZID=UTC:20270121T170000
DTEND;TZID=UTC:20270122T000000
DTSTAMP:20260419T175824
CREATED:20240613T134134Z
LAST-MODIFIED:20240613T134611Z
UID:10010687-1800550800-1800576000@tapstertastingroom.com
SUMMARY:Tapster Lincoln Park Happy Hour - Thursdays
DESCRIPTION:Tapster Lincoln Park Happy Hour \nfree popcorn\n$2.00 domestics \n25% off wine \nevery thursday\, 5pm-12am \nfriyay! 3pm-6:30pm \n \n  \n 
URL:https://tapstertastingroom.com/event/tapster-lincoln-park-happy-hour-thursdays/2027-01-21/
LOCATION:Chicago: Lincoln Park\, Chicago: Lincoln Park\, WA
CATEGORIES:Tapster Lincoln Park
ATTACH;FMTTYPE=image/webp:https://tapstertastingroom.com/wp-content/uploads/2024/06/Happy-Hour-2.webp
END:VEVENT
BEGIN:VEVENT
DTSTART;TZID=UTC:20270122T150000
DTEND;TZID=UTC:20270122T183000
DTSTAMP:20260419T175824
CREATED:20240613T134504Z
LAST-MODIFIED:20240613T134635Z
UID:10011209-1800630000-1800642600@tapstertastingroom.com
SUMMARY:Tapster Lincoln Park Happy Hour - Fridays
DESCRIPTION:Tapster Lincoln Park Happy Hour \nfree popcorn\n$2.00 domestics \n25% off wine \nevery thursday\, 5pm-12am \nfriyay! 3pm-6:30pm \n \n  \n 
URL:https://tapstertastingroom.com/event/tapster-lincoln-park-happy-hour-fridays/2027-01-22/
LOCATION:Chicago: Lincoln Park\, Chicago: Lincoln Park\, WA
CATEGORIES:Tapster Lincoln Park
ATTACH;FMTTYPE=image/webp:https://tapstertastingroom.com/wp-content/uploads/2024/06/Happy-Hour-2.webp
END:VEVENT
BEGIN:VEVENT
DTSTART;TZID=UTC:20270126T193000
DTEND;TZID=UTC:20270126T213000
DTSTAMP:20260419T175824
CREATED:20230124T201122Z
LAST-MODIFIED:20230124T201122Z
UID:10001075-1800991800-1800999000@tapstertastingroom.com
SUMMARY:Tuesdays Are Trivia Nights
DESCRIPTION:Tuesday Night Trivia: Hosted by PHOEBE and Baig of Tricks\nEvery Tuesday Night\n\nStarts at 7:30pm\nFree! \nDRINK. THINK. WIN.
URL:https://tapstertastingroom.com/event/tuesday_trivia_lincoln_park/2027-01-26/
LOCATION:Chicago: Lincoln Park\, Chicago: Lincoln Park\, WA
CATEGORIES:Tapster Lincoln Park
ATTACH;FMTTYPE=image/png:https://tapstertastingroom.com/wp-content/uploads/2023/01/Tapster-LP-Flyer.png
END:VEVENT
BEGIN:VEVENT
DTSTART;TZID=UTC:20270128T170000
DTEND;TZID=UTC:20270129T000000
DTSTAMP:20260419T175824
CREATED:20240613T134134Z
LAST-MODIFIED:20240613T134611Z
UID:10010688-1801155600-1801180800@tapstertastingroom.com
SUMMARY:Tapster Lincoln Park Happy Hour - Thursdays
DESCRIPTION:Tapster Lincoln Park Happy Hour \nfree popcorn\n$2.00 domestics \n25% off wine \nevery thursday\, 5pm-12am \nfriyay! 3pm-6:30pm \n \n  \n 
URL:https://tapstertastingroom.com/event/tapster-lincoln-park-happy-hour-thursdays/2027-01-28/
LOCATION:Chicago: Lincoln Park\, Chicago: Lincoln Park\, WA
CATEGORIES:Tapster Lincoln Park
ATTACH;FMTTYPE=image/webp:https://tapstertastingroom.com/wp-content/uploads/2024/06/Happy-Hour-2.webp
END:VEVENT
BEGIN:VEVENT
DTSTART;TZID=UTC:20270129T150000
DTEND;TZID=UTC:20270129T183000
DTSTAMP:20260419T175824
CREATED:20240613T134504Z
LAST-MODIFIED:20240613T134635Z
UID:10011210-1801234800-1801247400@tapstertastingroom.com
SUMMARY:Tapster Lincoln Park Happy Hour - Fridays
DESCRIPTION:Tapster Lincoln Park Happy Hour \nfree popcorn\n$2.00 domestics \n25% off wine \nevery thursday\, 5pm-12am \nfriyay! 3pm-6:30pm \n \n  \n 
URL:https://tapstertastingroom.com/event/tapster-lincoln-park-happy-hour-fridays/2027-01-29/
LOCATION:Chicago: Lincoln Park\, Chicago: Lincoln Park\, WA
CATEGORIES:Tapster Lincoln Park
ATTACH;FMTTYPE=image/webp:https://tapstertastingroom.com/wp-content/uploads/2024/06/Happy-Hour-2.webp
END:VEVENT
END:VCALENDAR