BEGIN:VCALENDAR
VERSION:2.0
PRODID:-//Tapster - ECPv6.6.3//NONSGML v1.0//EN
CALSCALE:GREGORIAN
METHOD:PUBLISH
X-ORIGINAL-URL:https://tapstertastingroom.com
X-WR-CALDESC:Events for Tapster
REFRESH-INTERVAL;VALUE=DURATION:PT1H
X-Robots-Tag:noindex
X-PUBLISHED-TTL:PT1H
BEGIN:VTIMEZONE
TZID:UTC
BEGIN:STANDARD
TZOFFSETFROM:+0000
TZOFFSETTO:+0000
TZNAME:UTC
DTSTART:20250101T000000
END:STANDARD
END:VTIMEZONE
BEGIN:VEVENT
DTSTART;TZID=UTC:20250501T170000
DTEND;TZID=UTC:20250502T000000
DTSTAMP:20260419T151005
CREATED:20240613T134134Z
LAST-MODIFIED:20240613T134611Z
UID:10010597-1746118800-1746144000@tapstertastingroom.com
SUMMARY:Tapster Lincoln Park Happy Hour - Thursdays
DESCRIPTION:Tapster Lincoln Park Happy Hour \nfree popcorn\n$2.00 domestics \n25% off wine \nevery thursday\, 5pm-12am \nfriyay! 3pm-6:30pm \n \n  \n 
URL:https://tapstertastingroom.com/event/tapster-lincoln-park-happy-hour-thursdays/2025-05-01/
LOCATION:Chicago: Lincoln Park\, Chicago: Lincoln Park\, WA
CATEGORIES:Tapster Lincoln Park
ATTACH;FMTTYPE=image/webp:https://tapstertastingroom.com/wp-content/uploads/2024/06/Happy-Hour-2.webp
END:VEVENT
BEGIN:VEVENT
DTSTART;TZID=UTC:20250502T150000
DTEND;TZID=UTC:20250502T183000
DTSTAMP:20260419T151005
CREATED:20240613T134504Z
LAST-MODIFIED:20240613T134635Z
UID:10011119-1746198000-1746210600@tapstertastingroom.com
SUMMARY:Tapster Lincoln Park Happy Hour - Fridays
DESCRIPTION:Tapster Lincoln Park Happy Hour \nfree popcorn\n$2.00 domestics \n25% off wine \nevery thursday\, 5pm-12am \nfriyay! 3pm-6:30pm \n \n  \n 
URL:https://tapstertastingroom.com/event/tapster-lincoln-park-happy-hour-fridays/2025-05-02/
LOCATION:Chicago: Lincoln Park\, Chicago: Lincoln Park\, WA
CATEGORIES:Tapster Lincoln Park
ATTACH;FMTTYPE=image/webp:https://tapstertastingroom.com/wp-content/uploads/2024/06/Happy-Hour-2.webp
END:VEVENT
BEGIN:VEVENT
DTSTART;TZID=UTC:20250506T193000
DTEND;TZID=UTC:20250506T213000
DTSTAMP:20260419T151005
CREATED:20230124T201122Z
LAST-MODIFIED:20230124T201122Z
UID:10000985-1746559800-1746567000@tapstertastingroom.com
SUMMARY:Tuesdays Are Trivia Nights
DESCRIPTION:Tuesday Night Trivia: Hosted by PHOEBE and Baig of Tricks\nEvery Tuesday Night\n\nStarts at 7:30pm\nFree! \nDRINK. THINK. WIN.
URL:https://tapstertastingroom.com/event/tuesday_trivia_lincoln_park/2025-05-06/
LOCATION:Chicago: Lincoln Park\, Chicago: Lincoln Park\, WA
CATEGORIES:Tapster Lincoln Park
ATTACH;FMTTYPE=image/png:https://tapstertastingroom.com/wp-content/uploads/2023/01/Tapster-LP-Flyer.png
END:VEVENT
BEGIN:VEVENT
DTSTART;TZID=UTC:20250508T170000
DTEND;TZID=UTC:20250509T000000
DTSTAMP:20260419T151005
CREATED:20240613T134134Z
LAST-MODIFIED:20240613T134611Z
UID:10010598-1746723600-1746748800@tapstertastingroom.com
SUMMARY:Tapster Lincoln Park Happy Hour - Thursdays
DESCRIPTION:Tapster Lincoln Park Happy Hour \nfree popcorn\n$2.00 domestics \n25% off wine \nevery thursday\, 5pm-12am \nfriyay! 3pm-6:30pm \n \n  \n 
URL:https://tapstertastingroom.com/event/tapster-lincoln-park-happy-hour-thursdays/2025-05-08/
LOCATION:Chicago: Lincoln Park\, Chicago: Lincoln Park\, WA
CATEGORIES:Tapster Lincoln Park
ATTACH;FMTTYPE=image/webp:https://tapstertastingroom.com/wp-content/uploads/2024/06/Happy-Hour-2.webp
END:VEVENT
BEGIN:VEVENT
DTSTART;TZID=UTC:20250509T150000
DTEND;TZID=UTC:20250509T183000
DTSTAMP:20260419T151005
CREATED:20240613T134504Z
LAST-MODIFIED:20240613T134635Z
UID:10011120-1746802800-1746815400@tapstertastingroom.com
SUMMARY:Tapster Lincoln Park Happy Hour - Fridays
DESCRIPTION:Tapster Lincoln Park Happy Hour \nfree popcorn\n$2.00 domestics \n25% off wine \nevery thursday\, 5pm-12am \nfriyay! 3pm-6:30pm \n \n  \n 
URL:https://tapstertastingroom.com/event/tapster-lincoln-park-happy-hour-fridays/2025-05-09/
LOCATION:Chicago: Lincoln Park\, Chicago: Lincoln Park\, WA
CATEGORIES:Tapster Lincoln Park
ATTACH;FMTTYPE=image/webp:https://tapstertastingroom.com/wp-content/uploads/2024/06/Happy-Hour-2.webp
END:VEVENT
BEGIN:VEVENT
DTSTART;TZID=UTC:20250513T193000
DTEND;TZID=UTC:20250513T213000
DTSTAMP:20260419T151005
CREATED:20230124T201122Z
LAST-MODIFIED:20230124T201122Z
UID:10000986-1747164600-1747171800@tapstertastingroom.com
SUMMARY:Tuesdays Are Trivia Nights
DESCRIPTION:Tuesday Night Trivia: Hosted by PHOEBE and Baig of Tricks\nEvery Tuesday Night\n\nStarts at 7:30pm\nFree! \nDRINK. THINK. WIN.
URL:https://tapstertastingroom.com/event/tuesday_trivia_lincoln_park/2025-05-13/
LOCATION:Chicago: Lincoln Park\, Chicago: Lincoln Park\, WA
CATEGORIES:Tapster Lincoln Park
ATTACH;FMTTYPE=image/png:https://tapstertastingroom.com/wp-content/uploads/2023/01/Tapster-LP-Flyer.png
END:VEVENT
BEGIN:VEVENT
DTSTART;TZID=UTC:20250515T170000
DTEND;TZID=UTC:20250516T000000
DTSTAMP:20260419T151005
CREATED:20240613T134134Z
LAST-MODIFIED:20240613T134611Z
UID:10010599-1747328400-1747353600@tapstertastingroom.com
SUMMARY:Tapster Lincoln Park Happy Hour - Thursdays
DESCRIPTION:Tapster Lincoln Park Happy Hour \nfree popcorn\n$2.00 domestics \n25% off wine \nevery thursday\, 5pm-12am \nfriyay! 3pm-6:30pm \n \n  \n 
URL:https://tapstertastingroom.com/event/tapster-lincoln-park-happy-hour-thursdays/2025-05-15/
LOCATION:Chicago: Lincoln Park\, Chicago: Lincoln Park\, WA
CATEGORIES:Tapster Lincoln Park
ATTACH;FMTTYPE=image/webp:https://tapstertastingroom.com/wp-content/uploads/2024/06/Happy-Hour-2.webp
END:VEVENT
BEGIN:VEVENT
DTSTART;TZID=UTC:20250516T150000
DTEND;TZID=UTC:20250516T183000
DTSTAMP:20260419T151005
CREATED:20240613T134504Z
LAST-MODIFIED:20240613T134635Z
UID:10011121-1747407600-1747420200@tapstertastingroom.com
SUMMARY:Tapster Lincoln Park Happy Hour - Fridays
DESCRIPTION:Tapster Lincoln Park Happy Hour \nfree popcorn\n$2.00 domestics \n25% off wine \nevery thursday\, 5pm-12am \nfriyay! 3pm-6:30pm \n \n  \n 
URL:https://tapstertastingroom.com/event/tapster-lincoln-park-happy-hour-fridays/2025-05-16/
LOCATION:Chicago: Lincoln Park\, Chicago: Lincoln Park\, WA
CATEGORIES:Tapster Lincoln Park
ATTACH;FMTTYPE=image/webp:https://tapstertastingroom.com/wp-content/uploads/2024/06/Happy-Hour-2.webp
END:VEVENT
BEGIN:VEVENT
DTSTART;TZID=UTC:20250520T193000
DTEND;TZID=UTC:20250520T213000
DTSTAMP:20260419T151005
CREATED:20230124T201122Z
LAST-MODIFIED:20230124T201122Z
UID:10000987-1747769400-1747776600@tapstertastingroom.com
SUMMARY:Tuesdays Are Trivia Nights
DESCRIPTION:Tuesday Night Trivia: Hosted by PHOEBE and Baig of Tricks\nEvery Tuesday Night\n\nStarts at 7:30pm\nFree! \nDRINK. THINK. WIN.
URL:https://tapstertastingroom.com/event/tuesday_trivia_lincoln_park/2025-05-20/
LOCATION:Chicago: Lincoln Park\, Chicago: Lincoln Park\, WA
CATEGORIES:Tapster Lincoln Park
ATTACH;FMTTYPE=image/png:https://tapstertastingroom.com/wp-content/uploads/2023/01/Tapster-LP-Flyer.png
END:VEVENT
BEGIN:VEVENT
DTSTART;TZID=UTC:20250522T170000
DTEND;TZID=UTC:20250523T000000
DTSTAMP:20260419T151005
CREATED:20240613T134134Z
LAST-MODIFIED:20240613T134611Z
UID:10010600-1747933200-1747958400@tapstertastingroom.com
SUMMARY:Tapster Lincoln Park Happy Hour - Thursdays
DESCRIPTION:Tapster Lincoln Park Happy Hour \nfree popcorn\n$2.00 domestics \n25% off wine \nevery thursday\, 5pm-12am \nfriyay! 3pm-6:30pm \n \n  \n 
URL:https://tapstertastingroom.com/event/tapster-lincoln-park-happy-hour-thursdays/2025-05-22/
LOCATION:Chicago: Lincoln Park\, Chicago: Lincoln Park\, WA
CATEGORIES:Tapster Lincoln Park
ATTACH;FMTTYPE=image/webp:https://tapstertastingroom.com/wp-content/uploads/2024/06/Happy-Hour-2.webp
END:VEVENT
BEGIN:VEVENT
DTSTART;TZID=UTC:20250523T150000
DTEND;TZID=UTC:20250523T183000
DTSTAMP:20260419T151005
CREATED:20240613T134504Z
LAST-MODIFIED:20240613T134635Z
UID:10011122-1748012400-1748025000@tapstertastingroom.com
SUMMARY:Tapster Lincoln Park Happy Hour - Fridays
DESCRIPTION:Tapster Lincoln Park Happy Hour \nfree popcorn\n$2.00 domestics \n25% off wine \nevery thursday\, 5pm-12am \nfriyay! 3pm-6:30pm \n \n  \n 
URL:https://tapstertastingroom.com/event/tapster-lincoln-park-happy-hour-fridays/2025-05-23/
LOCATION:Chicago: Lincoln Park\, Chicago: Lincoln Park\, WA
CATEGORIES:Tapster Lincoln Park
ATTACH;FMTTYPE=image/webp:https://tapstertastingroom.com/wp-content/uploads/2024/06/Happy-Hour-2.webp
END:VEVENT
BEGIN:VEVENT
DTSTART;TZID=UTC:20250527T193000
DTEND;TZID=UTC:20250527T213000
DTSTAMP:20260419T151005
CREATED:20230124T201122Z
LAST-MODIFIED:20230124T201122Z
UID:10000988-1748374200-1748381400@tapstertastingroom.com
SUMMARY:Tuesdays Are Trivia Nights
DESCRIPTION:Tuesday Night Trivia: Hosted by PHOEBE and Baig of Tricks\nEvery Tuesday Night\n\nStarts at 7:30pm\nFree! \nDRINK. THINK. WIN.
URL:https://tapstertastingroom.com/event/tuesday_trivia_lincoln_park/2025-05-27/
LOCATION:Chicago: Lincoln Park\, Chicago: Lincoln Park\, WA
CATEGORIES:Tapster Lincoln Park
ATTACH;FMTTYPE=image/png:https://tapstertastingroom.com/wp-content/uploads/2023/01/Tapster-LP-Flyer.png
END:VEVENT
BEGIN:VEVENT
DTSTART;TZID=UTC:20250529T170000
DTEND;TZID=UTC:20250530T000000
DTSTAMP:20260419T151005
CREATED:20240613T134134Z
LAST-MODIFIED:20240613T134611Z
UID:10010601-1748538000-1748563200@tapstertastingroom.com
SUMMARY:Tapster Lincoln Park Happy Hour - Thursdays
DESCRIPTION:Tapster Lincoln Park Happy Hour \nfree popcorn\n$2.00 domestics \n25% off wine \nevery thursday\, 5pm-12am \nfriyay! 3pm-6:30pm \n \n  \n 
URL:https://tapstertastingroom.com/event/tapster-lincoln-park-happy-hour-thursdays/2025-05-29/
LOCATION:Chicago: Lincoln Park\, Chicago: Lincoln Park\, WA
CATEGORIES:Tapster Lincoln Park
ATTACH;FMTTYPE=image/webp:https://tapstertastingroom.com/wp-content/uploads/2024/06/Happy-Hour-2.webp
END:VEVENT
BEGIN:VEVENT
DTSTART;TZID=UTC:20250530T150000
DTEND;TZID=UTC:20250530T183000
DTSTAMP:20260419T151005
CREATED:20240613T134504Z
LAST-MODIFIED:20240613T134635Z
UID:10011123-1748617200-1748629800@tapstertastingroom.com
SUMMARY:Tapster Lincoln Park Happy Hour - Fridays
DESCRIPTION:Tapster Lincoln Park Happy Hour \nfree popcorn\n$2.00 domestics \n25% off wine \nevery thursday\, 5pm-12am \nfriyay! 3pm-6:30pm \n \n  \n 
URL:https://tapstertastingroom.com/event/tapster-lincoln-park-happy-hour-fridays/2025-05-30/
LOCATION:Chicago: Lincoln Park\, Chicago: Lincoln Park\, WA
CATEGORIES:Tapster Lincoln Park
ATTACH;FMTTYPE=image/webp:https://tapstertastingroom.com/wp-content/uploads/2024/06/Happy-Hour-2.webp
END:VEVENT
END:VCALENDAR