BEGIN:VCALENDAR
VERSION:2.0
PRODID:-//Tapster - ECPv6.6.3//NONSGML v1.0//EN
CALSCALE:GREGORIAN
METHOD:PUBLISH
X-WR-CALNAME:Tapster
X-ORIGINAL-URL:https://tapstertastingroom.com
X-WR-CALDESC:Events for Tapster
REFRESH-INTERVAL;VALUE=DURATION:PT1H
X-Robots-Tag:noindex
X-PUBLISHED-TTL:PT1H
BEGIN:VTIMEZONE
TZID:UTC
BEGIN:STANDARD
TZOFFSETFROM:+0000
TZOFFSETTO:+0000
TZNAME:UTC
DTSTART:20230101T000000
END:STANDARD
END:VTIMEZONE
BEGIN:VEVENT
DTSTART;TZID=UTC:20230905T193000
DTEND;TZID=UTC:20230905T213000
DTSTAMP:20260423T090136
CREATED:20230124T201122Z
LAST-MODIFIED:20230124T201122Z
UID:10000898-1693942200-1693949400@tapstertastingroom.com
SUMMARY:Tuesdays Are Trivia Nights
DESCRIPTION:Tuesday Night Trivia: Hosted by PHOEBE and Baig of Tricks\nEvery Tuesday Night\n\nStarts at 7:30pm\nFree! \nDRINK. THINK. WIN.
URL:https://tapstertastingroom.com/event/tuesday_trivia_lincoln_park/2023-09-05/
LOCATION:Chicago: Lincoln Park\, Chicago: Lincoln Park\, WA
CATEGORIES:Tapster Lincoln Park
ATTACH;FMTTYPE=image/png:https://tapstertastingroom.com/wp-content/uploads/2023/01/Tapster-LP-Flyer.png
END:VEVENT
BEGIN:VEVENT
DTSTART;TZID=UTC:20230912T193000
DTEND;TZID=UTC:20230912T213000
DTSTAMP:20260423T090136
CREATED:20230124T201122Z
LAST-MODIFIED:20230124T201122Z
UID:10000899-1694547000-1694554200@tapstertastingroom.com
SUMMARY:Tuesdays Are Trivia Nights
DESCRIPTION:Tuesday Night Trivia: Hosted by PHOEBE and Baig of Tricks\nEvery Tuesday Night\n\nStarts at 7:30pm\nFree! \nDRINK. THINK. WIN.
URL:https://tapstertastingroom.com/event/tuesday_trivia_lincoln_park/2023-09-12/
LOCATION:Chicago: Lincoln Park\, Chicago: Lincoln Park\, WA
CATEGORIES:Tapster Lincoln Park
ATTACH;FMTTYPE=image/png:https://tapstertastingroom.com/wp-content/uploads/2023/01/Tapster-LP-Flyer.png
END:VEVENT
BEGIN:VEVENT
DTSTART;TZID=UTC:20230919T193000
DTEND;TZID=UTC:20230919T213000
DTSTAMP:20260423T090136
CREATED:20230124T201122Z
LAST-MODIFIED:20230124T201122Z
UID:10000900-1695151800-1695159000@tapstertastingroom.com
SUMMARY:Tuesdays Are Trivia Nights
DESCRIPTION:Tuesday Night Trivia: Hosted by PHOEBE and Baig of Tricks\nEvery Tuesday Night\n\nStarts at 7:30pm\nFree! \nDRINK. THINK. WIN.
URL:https://tapstertastingroom.com/event/tuesday_trivia_lincoln_park/2023-09-19/
LOCATION:Chicago: Lincoln Park\, Chicago: Lincoln Park\, WA
CATEGORIES:Tapster Lincoln Park
ATTACH;FMTTYPE=image/png:https://tapstertastingroom.com/wp-content/uploads/2023/01/Tapster-LP-Flyer.png
END:VEVENT
BEGIN:VEVENT
DTSTART;TZID=UTC:20230926T193000
DTEND;TZID=UTC:20230926T213000
DTSTAMP:20260423T090137
CREATED:20230124T201122Z
LAST-MODIFIED:20230124T201122Z
UID:10000901-1695756600-1695763800@tapstertastingroom.com
SUMMARY:Tuesdays Are Trivia Nights
DESCRIPTION:Tuesday Night Trivia: Hosted by PHOEBE and Baig of Tricks\nEvery Tuesday Night\n\nStarts at 7:30pm\nFree! \nDRINK. THINK. WIN.
URL:https://tapstertastingroom.com/event/tuesday_trivia_lincoln_park/2023-09-26/
LOCATION:Chicago: Lincoln Park\, Chicago: Lincoln Park\, WA
CATEGORIES:Tapster Lincoln Park
ATTACH;FMTTYPE=image/png:https://tapstertastingroom.com/wp-content/uploads/2023/01/Tapster-LP-Flyer.png
END:VEVENT
END:VCALENDAR