BEGIN:VCALENDAR
VERSION:2.0
PRODID:-//Tapster - ECPv6.6.3//NONSGML v1.0//EN
CALSCALE:GREGORIAN
METHOD:PUBLISH
X-WR-CALNAME:Tapster
X-ORIGINAL-URL:https://tapstertastingroom.com
X-WR-CALDESC:Events for Tapster
REFRESH-INTERVAL;VALUE=DURATION:PT1H
X-Robots-Tag:noindex
X-PUBLISHED-TTL:PT1H
BEGIN:VTIMEZONE
TZID:UTC
BEGIN:STANDARD
TZOFFSETFROM:+0000
TZOFFSETTO:+0000
TZNAME:UTC
DTSTART:20230101T000000
END:STANDARD
END:VTIMEZONE
BEGIN:VEVENT
DTSTART;TZID=UTC:20230606T193000
DTEND;TZID=UTC:20230606T213000
DTSTAMP:20260424T021513
CREATED:20230124T201122Z
LAST-MODIFIED:20230124T201122Z
UID:10000885-1686079800-1686087000@tapstertastingroom.com
SUMMARY:Tuesdays Are Trivia Nights
DESCRIPTION:Tuesday Night Trivia: Hosted by PHOEBE and Baig of Tricks\nEvery Tuesday Night\n\nStarts at 7:30pm\nFree! \nDRINK. THINK. WIN.
URL:https://tapstertastingroom.com/event/tuesday_trivia_lincoln_park/2023-06-06/
LOCATION:Chicago: Lincoln Park\, Chicago: Lincoln Park\, WA
CATEGORIES:Tapster Lincoln Park
ATTACH;FMTTYPE=image/png:https://tapstertastingroom.com/wp-content/uploads/2023/01/Tapster-LP-Flyer.png
END:VEVENT
BEGIN:VEVENT
DTSTART;TZID=UTC:20230613T193000
DTEND;TZID=UTC:20230613T213000
DTSTAMP:20260424T021513
CREATED:20230124T201122Z
LAST-MODIFIED:20230124T201122Z
UID:10000886-1686684600-1686691800@tapstertastingroom.com
SUMMARY:Tuesdays Are Trivia Nights
DESCRIPTION:Tuesday Night Trivia: Hosted by PHOEBE and Baig of Tricks\nEvery Tuesday Night\n\nStarts at 7:30pm\nFree! \nDRINK. THINK. WIN.
URL:https://tapstertastingroom.com/event/tuesday_trivia_lincoln_park/2023-06-13/
LOCATION:Chicago: Lincoln Park\, Chicago: Lincoln Park\, WA
CATEGORIES:Tapster Lincoln Park
ATTACH;FMTTYPE=image/png:https://tapstertastingroom.com/wp-content/uploads/2023/01/Tapster-LP-Flyer.png
END:VEVENT
BEGIN:VEVENT
DTSTART;TZID=UTC:20230620T193000
DTEND;TZID=UTC:20230620T213000
DTSTAMP:20260424T021513
CREATED:20230124T201122Z
LAST-MODIFIED:20230124T201122Z
UID:10000887-1687289400-1687296600@tapstertastingroom.com
SUMMARY:Tuesdays Are Trivia Nights
DESCRIPTION:Tuesday Night Trivia: Hosted by PHOEBE and Baig of Tricks\nEvery Tuesday Night\n\nStarts at 7:30pm\nFree! \nDRINK. THINK. WIN.
URL:https://tapstertastingroom.com/event/tuesday_trivia_lincoln_park/2023-06-20/
LOCATION:Chicago: Lincoln Park\, Chicago: Lincoln Park\, WA
CATEGORIES:Tapster Lincoln Park
ATTACH;FMTTYPE=image/png:https://tapstertastingroom.com/wp-content/uploads/2023/01/Tapster-LP-Flyer.png
END:VEVENT
BEGIN:VEVENT
DTSTART;TZID=UTC:20230627T193000
DTEND;TZID=UTC:20230627T213000
DTSTAMP:20260424T021513
CREATED:20230124T201122Z
LAST-MODIFIED:20230124T201122Z
UID:10000888-1687894200-1687901400@tapstertastingroom.com
SUMMARY:Tuesdays Are Trivia Nights
DESCRIPTION:Tuesday Night Trivia: Hosted by PHOEBE and Baig of Tricks\nEvery Tuesday Night\n\nStarts at 7:30pm\nFree! \nDRINK. THINK. WIN.
URL:https://tapstertastingroom.com/event/tuesday_trivia_lincoln_park/2023-06-27/
LOCATION:Chicago: Lincoln Park\, Chicago: Lincoln Park\, WA
CATEGORIES:Tapster Lincoln Park
ATTACH;FMTTYPE=image/png:https://tapstertastingroom.com/wp-content/uploads/2023/01/Tapster-LP-Flyer.png
END:VEVENT
END:VCALENDAR