BEGIN:VCALENDAR
VERSION:2.0
PRODID:-//Tapster - ECPv6.6.3//NONSGML v1.0//EN
CALSCALE:GREGORIAN
METHOD:PUBLISH
X-WR-CALNAME:Tapster
X-ORIGINAL-URL:https://tapstertastingroom.com
X-WR-CALDESC:Events for Tapster
REFRESH-INTERVAL;VALUE=DURATION:PT1H
X-Robots-Tag:noindex
X-PUBLISHED-TTL:PT1H
BEGIN:VTIMEZONE
TZID:UTC
BEGIN:STANDARD
TZOFFSETFROM:+0000
TZOFFSETTO:+0000
TZNAME:UTC
DTSTART:20280101T000000
END:STANDARD
END:VTIMEZONE
BEGIN:VEVENT
DTSTART;TZID=UTC:20280802T190000
DTEND;TZID=UTC:20280802T230000
DTSTAMP:20260423T220912
CREATED:20240130T140155Z
LAST-MODIFIED:20240131T185514Z
UID:10008940-1848855600-1848870000@tapstertastingroom.com
SUMMARY:Workshop Wednesdays
DESCRIPTION:WORKSHOP WEDNESDAYS \nGREAT ACTIVITIES FOR DATE NIGHT! \n\nPAINTING\nCRAFTING\nCHARCUTERIE\nPLANTS\n\nTICKET PRICES VARY \nCHECK OUR LINKTR.EE FOR DETAILS \nGET TICKETS @TAPSTERCLE
URL:https://tapstertastingroom.com/event/workshop-wednesdays/2028-08-02/
LOCATION:Cleveland\, Cleveland\, WA
CATEGORIES:Tapster Cleveland
ATTACH;FMTTYPE=image/png:https://tapstertastingroom.com/wp-content/uploads/2022/11/3.png
END:VEVENT
BEGIN:VEVENT
DTSTART;TZID=UTC:20280809T190000
DTEND;TZID=UTC:20280809T230000
DTSTAMP:20260423T220912
CREATED:20240130T140155Z
LAST-MODIFIED:20240131T185514Z
UID:10008941-1849460400-1849474800@tapstertastingroom.com
SUMMARY:Workshop Wednesdays
DESCRIPTION:WORKSHOP WEDNESDAYS \nGREAT ACTIVITIES FOR DATE NIGHT! \n\nPAINTING\nCRAFTING\nCHARCUTERIE\nPLANTS\n\nTICKET PRICES VARY \nCHECK OUR LINKTR.EE FOR DETAILS \nGET TICKETS @TAPSTERCLE
URL:https://tapstertastingroom.com/event/workshop-wednesdays/2028-08-09/
LOCATION:Cleveland\, Cleveland\, WA
CATEGORIES:Tapster Cleveland
ATTACH;FMTTYPE=image/png:https://tapstertastingroom.com/wp-content/uploads/2022/11/3.png
END:VEVENT
BEGIN:VEVENT
DTSTART;TZID=UTC:20280816T190000
DTEND;TZID=UTC:20280816T230000
DTSTAMP:20260423T220912
CREATED:20240130T140155Z
LAST-MODIFIED:20240131T185514Z
UID:10008942-1850065200-1850079600@tapstertastingroom.com
SUMMARY:Workshop Wednesdays
DESCRIPTION:WORKSHOP WEDNESDAYS \nGREAT ACTIVITIES FOR DATE NIGHT! \n\nPAINTING\nCRAFTING\nCHARCUTERIE\nPLANTS\n\nTICKET PRICES VARY \nCHECK OUR LINKTR.EE FOR DETAILS \nGET TICKETS @TAPSTERCLE
URL:https://tapstertastingroom.com/event/workshop-wednesdays/2028-08-16/
LOCATION:Cleveland\, Cleveland\, WA
CATEGORIES:Tapster Cleveland
ATTACH;FMTTYPE=image/png:https://tapstertastingroom.com/wp-content/uploads/2022/11/3.png
END:VEVENT
BEGIN:VEVENT
DTSTART;TZID=UTC:20280823T190000
DTEND;TZID=UTC:20280823T230000
DTSTAMP:20260423T220912
CREATED:20240130T140155Z
LAST-MODIFIED:20240131T185514Z
UID:10008943-1850670000-1850684400@tapstertastingroom.com
SUMMARY:Workshop Wednesdays
DESCRIPTION:WORKSHOP WEDNESDAYS \nGREAT ACTIVITIES FOR DATE NIGHT! \n\nPAINTING\nCRAFTING\nCHARCUTERIE\nPLANTS\n\nTICKET PRICES VARY \nCHECK OUR LINKTR.EE FOR DETAILS \nGET TICKETS @TAPSTERCLE
URL:https://tapstertastingroom.com/event/workshop-wednesdays/2028-08-23/
LOCATION:Cleveland\, Cleveland\, WA
CATEGORIES:Tapster Cleveland
ATTACH;FMTTYPE=image/png:https://tapstertastingroom.com/wp-content/uploads/2022/11/3.png
END:VEVENT
BEGIN:VEVENT
DTSTART;TZID=UTC:20280830T190000
DTEND;TZID=UTC:20280830T230000
DTSTAMP:20260423T220912
CREATED:20240130T140155Z
LAST-MODIFIED:20240131T185514Z
UID:10008944-1851274800-1851289200@tapstertastingroom.com
SUMMARY:Workshop Wednesdays
DESCRIPTION:WORKSHOP WEDNESDAYS \nGREAT ACTIVITIES FOR DATE NIGHT! \n\nPAINTING\nCRAFTING\nCHARCUTERIE\nPLANTS\n\nTICKET PRICES VARY \nCHECK OUR LINKTR.EE FOR DETAILS \nGET TICKETS @TAPSTERCLE
URL:https://tapstertastingroom.com/event/workshop-wednesdays/2028-08-30/
LOCATION:Cleveland\, Cleveland\, WA
CATEGORIES:Tapster Cleveland
ATTACH;FMTTYPE=image/png:https://tapstertastingroom.com/wp-content/uploads/2022/11/3.png
END:VEVENT
END:VCALENDAR