BEGIN:VCALENDAR
VERSION:2.0
PRODID:-//Tapster - ECPv6.6.3//NONSGML v1.0//EN
CALSCALE:GREGORIAN
METHOD:PUBLISH
X-WR-CALNAME:Tapster
X-ORIGINAL-URL:https://tapstertastingroom.com
X-WR-CALDESC:Events for Tapster
REFRESH-INTERVAL;VALUE=DURATION:PT1H
X-Robots-Tag:noindex
X-PUBLISHED-TTL:PT1H
BEGIN:VTIMEZONE
TZID:UTC
BEGIN:STANDARD
TZOFFSETFROM:+0000
TZOFFSETTO:+0000
TZNAME:UTC
DTSTART:20280101T000000
END:STANDARD
END:VTIMEZONE
BEGIN:VEVENT
DTSTART;TZID=UTC:20280202T190000
DTEND;TZID=UTC:20280202T230000
DTSTAMP:20260422T185244
CREATED:20240130T140155Z
LAST-MODIFIED:20240131T185514Z
UID:10008914-1833130800-1833145200@tapstertastingroom.com
SUMMARY:Workshop Wednesdays
DESCRIPTION:WORKSHOP WEDNESDAYS \nGREAT ACTIVITIES FOR DATE NIGHT! \n\nPAINTING\nCRAFTING\nCHARCUTERIE\nPLANTS\n\nTICKET PRICES VARY \nCHECK OUR LINKTR.EE FOR DETAILS \nGET TICKETS @TAPSTERCLE
URL:https://tapstertastingroom.com/event/workshop-wednesdays/2028-02-02/
LOCATION:Cleveland\, Cleveland\, WA
CATEGORIES:Tapster Cleveland
ATTACH;FMTTYPE=image/png:https://tapstertastingroom.com/wp-content/uploads/2022/11/3.png
END:VEVENT
BEGIN:VEVENT
DTSTART;TZID=UTC:20280209T190000
DTEND;TZID=UTC:20280209T230000
DTSTAMP:20260422T185244
CREATED:20240130T140155Z
LAST-MODIFIED:20240131T185514Z
UID:10008915-1833735600-1833750000@tapstertastingroom.com
SUMMARY:Workshop Wednesdays
DESCRIPTION:WORKSHOP WEDNESDAYS \nGREAT ACTIVITIES FOR DATE NIGHT! \n\nPAINTING\nCRAFTING\nCHARCUTERIE\nPLANTS\n\nTICKET PRICES VARY \nCHECK OUR LINKTR.EE FOR DETAILS \nGET TICKETS @TAPSTERCLE
URL:https://tapstertastingroom.com/event/workshop-wednesdays/2028-02-09/
LOCATION:Cleveland\, Cleveland\, WA
CATEGORIES:Tapster Cleveland
ATTACH;FMTTYPE=image/png:https://tapstertastingroom.com/wp-content/uploads/2022/11/3.png
END:VEVENT
BEGIN:VEVENT
DTSTART;TZID=UTC:20280216T190000
DTEND;TZID=UTC:20280216T230000
DTSTAMP:20260422T185244
CREATED:20240130T140155Z
LAST-MODIFIED:20240131T185514Z
UID:10008916-1834340400-1834354800@tapstertastingroom.com
SUMMARY:Workshop Wednesdays
DESCRIPTION:WORKSHOP WEDNESDAYS \nGREAT ACTIVITIES FOR DATE NIGHT! \n\nPAINTING\nCRAFTING\nCHARCUTERIE\nPLANTS\n\nTICKET PRICES VARY \nCHECK OUR LINKTR.EE FOR DETAILS \nGET TICKETS @TAPSTERCLE
URL:https://tapstertastingroom.com/event/workshop-wednesdays/2028-02-16/
LOCATION:Cleveland\, Cleveland\, WA
CATEGORIES:Tapster Cleveland
ATTACH;FMTTYPE=image/png:https://tapstertastingroom.com/wp-content/uploads/2022/11/3.png
END:VEVENT
BEGIN:VEVENT
DTSTART;TZID=UTC:20280223T190000
DTEND;TZID=UTC:20280223T230000
DTSTAMP:20260422T185244
CREATED:20240130T140155Z
LAST-MODIFIED:20240131T185514Z
UID:10008917-1834945200-1834959600@tapstertastingroom.com
SUMMARY:Workshop Wednesdays
DESCRIPTION:WORKSHOP WEDNESDAYS \nGREAT ACTIVITIES FOR DATE NIGHT! \n\nPAINTING\nCRAFTING\nCHARCUTERIE\nPLANTS\n\nTICKET PRICES VARY \nCHECK OUR LINKTR.EE FOR DETAILS \nGET TICKETS @TAPSTERCLE
URL:https://tapstertastingroom.com/event/workshop-wednesdays/2028-02-23/
LOCATION:Cleveland\, Cleveland\, WA
CATEGORIES:Tapster Cleveland
ATTACH;FMTTYPE=image/png:https://tapstertastingroom.com/wp-content/uploads/2022/11/3.png
END:VEVENT
END:VCALENDAR