BEGIN:VCALENDAR
VERSION:2.0
PRODID:-//Tapster - ECPv6.6.3//NONSGML v1.0//EN
CALSCALE:GREGORIAN
METHOD:PUBLISH
X-WR-CALNAME:Tapster
X-ORIGINAL-URL:https://tapstertastingroom.com
X-WR-CALDESC:Events for Tapster
REFRESH-INTERVAL;VALUE=DURATION:PT1H
X-Robots-Tag:noindex
X-PUBLISHED-TTL:PT1H
BEGIN:VTIMEZONE
TZID:UTC
BEGIN:STANDARD
TZOFFSETFROM:+0000
TZOFFSETTO:+0000
TZNAME:UTC
DTSTART:20270101T000000
END:STANDARD
END:VTIMEZONE
BEGIN:VEVENT
DTSTART;TZID=UTC:20270901T190000
DTEND;TZID=UTC:20270901T230000
DTSTAMP:20260421T190606
CREATED:20240130T140155Z
LAST-MODIFIED:20240131T185514Z
UID:10008892-1819825200-1819839600@tapstertastingroom.com
SUMMARY:Workshop Wednesdays
DESCRIPTION:WORKSHOP WEDNESDAYS \nGREAT ACTIVITIES FOR DATE NIGHT! \n\nPAINTING\nCRAFTING\nCHARCUTERIE\nPLANTS\n\nTICKET PRICES VARY \nCHECK OUR LINKTR.EE FOR DETAILS \nGET TICKETS @TAPSTERCLE
URL:https://tapstertastingroom.com/event/workshop-wednesdays/2027-09-01/
LOCATION:Cleveland\, Cleveland\, WA
CATEGORIES:Tapster Cleveland
ATTACH;FMTTYPE=image/png:https://tapstertastingroom.com/wp-content/uploads/2022/11/3.png
END:VEVENT
BEGIN:VEVENT
DTSTART;TZID=UTC:20270902T180000
DTEND;TZID=UTC:20270902T210000
DTSTAMP:20260421T190606
CREATED:20230807T165536Z
LAST-MODIFIED:20230807T165710Z
UID:10003749-1819908000-1819918800@tapstertastingroom.com
SUMMARY:? Karaoke Thursdays Start @ 6pm
DESCRIPTION:? Karaoke Thursdays start @ 6pm \nWEEKLY FUN! \nCOME ON DOWN AND ENJOY GOOD TIMES!
URL:https://tapstertastingroom.com/event/open-mic-on-tuesday-nights-2/2027-09-02/
LOCATION:Cleveland\, Cleveland\, WA
CATEGORIES:Tapster Cleveland
ATTACH;FMTTYPE=image/jpeg:https://tapstertastingroom.com/wp-content/uploads/2023/01/CLE-karaoke.jpg
END:VEVENT
BEGIN:VEVENT
DTSTART;TZID=UTC:20270907T180000
DTEND;TZID=UTC:20270907T210000
DTSTAMP:20260421T190606
CREATED:20230807T170930Z
LAST-MODIFIED:20230807T171405Z
UID:10004216-1820340000-1820350800@tapstertastingroom.com
SUMMARY:Shuffleboard Tournament TUESDAYS
DESCRIPTION:? NEW Shuffleboard Tournament on Tuesdays! \nWin prizes (like @cleguardians tickets ⚾️) and get @boomspizzadelivered for FREE ? \njust step up to the table and take on your friends while enjoying a pint ? Cheers!
URL:https://tapstertastingroom.com/event/shuffleboard-tournament-tuesdays/2027-09-07/
LOCATION:Cleveland\, Cleveland\, WA
CATEGORIES:Tapster Cleveland
ATTACH;FMTTYPE=image/jpeg:https://tapstertastingroom.com/wp-content/uploads/2023/08/Shuffleboard.jpg
END:VEVENT
BEGIN:VEVENT
DTSTART;TZID=UTC:20270908T190000
DTEND;TZID=UTC:20270908T230000
DTSTAMP:20260421T190606
CREATED:20240130T140155Z
LAST-MODIFIED:20240131T185514Z
UID:10008893-1820430000-1820444400@tapstertastingroom.com
SUMMARY:Workshop Wednesdays
DESCRIPTION:WORKSHOP WEDNESDAYS \nGREAT ACTIVITIES FOR DATE NIGHT! \n\nPAINTING\nCRAFTING\nCHARCUTERIE\nPLANTS\n\nTICKET PRICES VARY \nCHECK OUR LINKTR.EE FOR DETAILS \nGET TICKETS @TAPSTERCLE
URL:https://tapstertastingroom.com/event/workshop-wednesdays/2027-09-08/
LOCATION:Cleveland\, Cleveland\, WA
CATEGORIES:Tapster Cleveland
ATTACH;FMTTYPE=image/png:https://tapstertastingroom.com/wp-content/uploads/2022/11/3.png
END:VEVENT
BEGIN:VEVENT
DTSTART;TZID=UTC:20270909T180000
DTEND;TZID=UTC:20270909T210000
DTSTAMP:20260421T190606
CREATED:20230807T165536Z
LAST-MODIFIED:20230807T165710Z
UID:10003750-1820512800-1820523600@tapstertastingroom.com
SUMMARY:? Karaoke Thursdays Start @ 6pm
DESCRIPTION:? Karaoke Thursdays start @ 6pm \nWEEKLY FUN! \nCOME ON DOWN AND ENJOY GOOD TIMES!
URL:https://tapstertastingroom.com/event/open-mic-on-tuesday-nights-2/2027-09-09/
LOCATION:Cleveland\, Cleveland\, WA
CATEGORIES:Tapster Cleveland
ATTACH;FMTTYPE=image/jpeg:https://tapstertastingroom.com/wp-content/uploads/2023/01/CLE-karaoke.jpg
END:VEVENT
BEGIN:VEVENT
DTSTART;TZID=UTC:20270914T180000
DTEND;TZID=UTC:20270914T210000
DTSTAMP:20260421T190606
CREATED:20230807T170930Z
LAST-MODIFIED:20230807T171405Z
UID:10004217-1820944800-1820955600@tapstertastingroom.com
SUMMARY:Shuffleboard Tournament TUESDAYS
DESCRIPTION:? NEW Shuffleboard Tournament on Tuesdays! \nWin prizes (like @cleguardians tickets ⚾️) and get @boomspizzadelivered for FREE ? \njust step up to the table and take on your friends while enjoying a pint ? Cheers!
URL:https://tapstertastingroom.com/event/shuffleboard-tournament-tuesdays/2027-09-14/
LOCATION:Cleveland\, Cleveland\, WA
CATEGORIES:Tapster Cleveland
ATTACH;FMTTYPE=image/jpeg:https://tapstertastingroom.com/wp-content/uploads/2023/08/Shuffleboard.jpg
END:VEVENT
BEGIN:VEVENT
DTSTART;TZID=UTC:20270915T190000
DTEND;TZID=UTC:20270915T230000
DTSTAMP:20260421T190606
CREATED:20240130T140155Z
LAST-MODIFIED:20240131T185514Z
UID:10008894-1821034800-1821049200@tapstertastingroom.com
SUMMARY:Workshop Wednesdays
DESCRIPTION:WORKSHOP WEDNESDAYS \nGREAT ACTIVITIES FOR DATE NIGHT! \n\nPAINTING\nCRAFTING\nCHARCUTERIE\nPLANTS\n\nTICKET PRICES VARY \nCHECK OUR LINKTR.EE FOR DETAILS \nGET TICKETS @TAPSTERCLE
URL:https://tapstertastingroom.com/event/workshop-wednesdays/2027-09-15/
LOCATION:Cleveland\, Cleveland\, WA
CATEGORIES:Tapster Cleveland
ATTACH;FMTTYPE=image/png:https://tapstertastingroom.com/wp-content/uploads/2022/11/3.png
END:VEVENT
BEGIN:VEVENT
DTSTART;TZID=UTC:20270916T180000
DTEND;TZID=UTC:20270916T210000
DTSTAMP:20260421T190606
CREATED:20230807T165536Z
LAST-MODIFIED:20230807T165710Z
UID:10003751-1821117600-1821128400@tapstertastingroom.com
SUMMARY:? Karaoke Thursdays Start @ 6pm
DESCRIPTION:? Karaoke Thursdays start @ 6pm \nWEEKLY FUN! \nCOME ON DOWN AND ENJOY GOOD TIMES!
URL:https://tapstertastingroom.com/event/open-mic-on-tuesday-nights-2/2027-09-16/
LOCATION:Cleveland\, Cleveland\, WA
CATEGORIES:Tapster Cleveland
ATTACH;FMTTYPE=image/jpeg:https://tapstertastingroom.com/wp-content/uploads/2023/01/CLE-karaoke.jpg
END:VEVENT
BEGIN:VEVENT
DTSTART;TZID=UTC:20270921T180000
DTEND;TZID=UTC:20270921T210000
DTSTAMP:20260421T190606
CREATED:20230807T170930Z
LAST-MODIFIED:20230807T171405Z
UID:10004218-1821549600-1821560400@tapstertastingroom.com
SUMMARY:Shuffleboard Tournament TUESDAYS
DESCRIPTION:? NEW Shuffleboard Tournament on Tuesdays! \nWin prizes (like @cleguardians tickets ⚾️) and get @boomspizzadelivered for FREE ? \njust step up to the table and take on your friends while enjoying a pint ? Cheers!
URL:https://tapstertastingroom.com/event/shuffleboard-tournament-tuesdays/2027-09-21/
LOCATION:Cleveland\, Cleveland\, WA
CATEGORIES:Tapster Cleveland
ATTACH;FMTTYPE=image/jpeg:https://tapstertastingroom.com/wp-content/uploads/2023/08/Shuffleboard.jpg
END:VEVENT
BEGIN:VEVENT
DTSTART;TZID=UTC:20270922T190000
DTEND;TZID=UTC:20270922T230000
DTSTAMP:20260421T190606
CREATED:20240130T140155Z
LAST-MODIFIED:20240131T185514Z
UID:10008895-1821639600-1821654000@tapstertastingroom.com
SUMMARY:Workshop Wednesdays
DESCRIPTION:WORKSHOP WEDNESDAYS \nGREAT ACTIVITIES FOR DATE NIGHT! \n\nPAINTING\nCRAFTING\nCHARCUTERIE\nPLANTS\n\nTICKET PRICES VARY \nCHECK OUR LINKTR.EE FOR DETAILS \nGET TICKETS @TAPSTERCLE
URL:https://tapstertastingroom.com/event/workshop-wednesdays/2027-09-22/
LOCATION:Cleveland\, Cleveland\, WA
CATEGORIES:Tapster Cleveland
ATTACH;FMTTYPE=image/png:https://tapstertastingroom.com/wp-content/uploads/2022/11/3.png
END:VEVENT
BEGIN:VEVENT
DTSTART;TZID=UTC:20270923T180000
DTEND;TZID=UTC:20270923T210000
DTSTAMP:20260421T190606
CREATED:20230807T165536Z
LAST-MODIFIED:20230807T165710Z
UID:10003752-1821722400-1821733200@tapstertastingroom.com
SUMMARY:? Karaoke Thursdays Start @ 6pm
DESCRIPTION:? Karaoke Thursdays start @ 6pm \nWEEKLY FUN! \nCOME ON DOWN AND ENJOY GOOD TIMES!
URL:https://tapstertastingroom.com/event/open-mic-on-tuesday-nights-2/2027-09-23/
LOCATION:Cleveland\, Cleveland\, WA
CATEGORIES:Tapster Cleveland
ATTACH;FMTTYPE=image/jpeg:https://tapstertastingroom.com/wp-content/uploads/2023/01/CLE-karaoke.jpg
END:VEVENT
BEGIN:VEVENT
DTSTART;TZID=UTC:20270928T180000
DTEND;TZID=UTC:20270928T210000
DTSTAMP:20260421T190606
CREATED:20230807T170930Z
LAST-MODIFIED:20230807T171405Z
UID:10004219-1822154400-1822165200@tapstertastingroom.com
SUMMARY:Shuffleboard Tournament TUESDAYS
DESCRIPTION:? NEW Shuffleboard Tournament on Tuesdays! \nWin prizes (like @cleguardians tickets ⚾️) and get @boomspizzadelivered for FREE ? \njust step up to the table and take on your friends while enjoying a pint ? Cheers!
URL:https://tapstertastingroom.com/event/shuffleboard-tournament-tuesdays/2027-09-28/
LOCATION:Cleveland\, Cleveland\, WA
CATEGORIES:Tapster Cleveland
ATTACH;FMTTYPE=image/jpeg:https://tapstertastingroom.com/wp-content/uploads/2023/08/Shuffleboard.jpg
END:VEVENT
BEGIN:VEVENT
DTSTART;TZID=UTC:20270929T190000
DTEND;TZID=UTC:20270929T230000
DTSTAMP:20260421T190606
CREATED:20240130T140155Z
LAST-MODIFIED:20240131T185514Z
UID:10008896-1822244400-1822258800@tapstertastingroom.com
SUMMARY:Workshop Wednesdays
DESCRIPTION:WORKSHOP WEDNESDAYS \nGREAT ACTIVITIES FOR DATE NIGHT! \n\nPAINTING\nCRAFTING\nCHARCUTERIE\nPLANTS\n\nTICKET PRICES VARY \nCHECK OUR LINKTR.EE FOR DETAILS \nGET TICKETS @TAPSTERCLE
URL:https://tapstertastingroom.com/event/workshop-wednesdays/2027-09-29/
LOCATION:Cleveland\, Cleveland\, WA
CATEGORIES:Tapster Cleveland
ATTACH;FMTTYPE=image/png:https://tapstertastingroom.com/wp-content/uploads/2022/11/3.png
END:VEVENT
BEGIN:VEVENT
DTSTART;TZID=UTC:20270930T180000
DTEND;TZID=UTC:20270930T210000
DTSTAMP:20260421T190606
CREATED:20230807T165536Z
LAST-MODIFIED:20230807T165710Z
UID:10003753-1822327200-1822338000@tapstertastingroom.com
SUMMARY:? Karaoke Thursdays Start @ 6pm
DESCRIPTION:? Karaoke Thursdays start @ 6pm \nWEEKLY FUN! \nCOME ON DOWN AND ENJOY GOOD TIMES!
URL:https://tapstertastingroom.com/event/open-mic-on-tuesday-nights-2/2027-09-30/
LOCATION:Cleveland\, Cleveland\, WA
CATEGORIES:Tapster Cleveland
ATTACH;FMTTYPE=image/jpeg:https://tapstertastingroom.com/wp-content/uploads/2023/01/CLE-karaoke.jpg
END:VEVENT
END:VCALENDAR