BEGIN:VCALENDAR
VERSION:2.0
PRODID:-//Tapster - ECPv6.6.3//NONSGML v1.0//EN
CALSCALE:GREGORIAN
METHOD:PUBLISH
X-WR-CALNAME:Tapster
X-ORIGINAL-URL:https://tapstertastingroom.com
X-WR-CALDESC:Events for Tapster
REFRESH-INTERVAL;VALUE=DURATION:PT1H
X-Robots-Tag:noindex
X-PUBLISHED-TTL:PT1H
BEGIN:VTIMEZONE
TZID:UTC
BEGIN:STANDARD
TZOFFSETFROM:+0000
TZOFFSETTO:+0000
TZNAME:UTC
DTSTART:20270101T000000
END:STANDARD
END:VTIMEZONE
BEGIN:VEVENT
DTSTART;TZID=UTC:20270601T180000
DTEND;TZID=UTC:20270601T210000
DTSTAMP:20260421T020317
CREATED:20230807T170930Z
LAST-MODIFIED:20230807T171405Z
UID:10004202-1811872800-1811883600@tapstertastingroom.com
SUMMARY:Shuffleboard Tournament TUESDAYS
DESCRIPTION:? NEW Shuffleboard Tournament on Tuesdays! \nWin prizes (like @cleguardians tickets ⚾️) and get @boomspizzadelivered for FREE ? \njust step up to the table and take on your friends while enjoying a pint ? Cheers!
URL:https://tapstertastingroom.com/event/shuffleboard-tournament-tuesdays/2027-06-01/
LOCATION:Cleveland\, Cleveland\, WA
CATEGORIES:Tapster Cleveland
ATTACH;FMTTYPE=image/jpeg:https://tapstertastingroom.com/wp-content/uploads/2023/08/Shuffleboard.jpg
END:VEVENT
BEGIN:VEVENT
DTSTART;TZID=UTC:20270602T190000
DTEND;TZID=UTC:20270602T230000
DTSTAMP:20260421T020317
CREATED:20240130T140155Z
LAST-MODIFIED:20240131T185514Z
UID:10008879-1811962800-1811977200@tapstertastingroom.com
SUMMARY:Workshop Wednesdays
DESCRIPTION:WORKSHOP WEDNESDAYS \nGREAT ACTIVITIES FOR DATE NIGHT! \n\nPAINTING\nCRAFTING\nCHARCUTERIE\nPLANTS\n\nTICKET PRICES VARY \nCHECK OUR LINKTR.EE FOR DETAILS \nGET TICKETS @TAPSTERCLE
URL:https://tapstertastingroom.com/event/workshop-wednesdays/2027-06-02/
LOCATION:Cleveland\, Cleveland\, WA
CATEGORIES:Tapster Cleveland
ATTACH;FMTTYPE=image/png:https://tapstertastingroom.com/wp-content/uploads/2022/11/3.png
END:VEVENT
BEGIN:VEVENT
DTSTART;TZID=UTC:20270603T180000
DTEND;TZID=UTC:20270603T210000
DTSTAMP:20260421T020317
CREATED:20230807T165536Z
LAST-MODIFIED:20230807T165710Z
UID:10003736-1812045600-1812056400@tapstertastingroom.com
SUMMARY:? Karaoke Thursdays Start @ 6pm
DESCRIPTION:? Karaoke Thursdays start @ 6pm \nWEEKLY FUN! \nCOME ON DOWN AND ENJOY GOOD TIMES!
URL:https://tapstertastingroom.com/event/open-mic-on-tuesday-nights-2/2027-06-03/
LOCATION:Cleveland\, Cleveland\, WA
CATEGORIES:Tapster Cleveland
ATTACH;FMTTYPE=image/jpeg:https://tapstertastingroom.com/wp-content/uploads/2023/01/CLE-karaoke.jpg
END:VEVENT
BEGIN:VEVENT
DTSTART;TZID=UTC:20270608T180000
DTEND;TZID=UTC:20270608T210000
DTSTAMP:20260421T020317
CREATED:20230807T170930Z
LAST-MODIFIED:20230807T171405Z
UID:10004203-1812477600-1812488400@tapstertastingroom.com
SUMMARY:Shuffleboard Tournament TUESDAYS
DESCRIPTION:? NEW Shuffleboard Tournament on Tuesdays! \nWin prizes (like @cleguardians tickets ⚾️) and get @boomspizzadelivered for FREE ? \njust step up to the table and take on your friends while enjoying a pint ? Cheers!
URL:https://tapstertastingroom.com/event/shuffleboard-tournament-tuesdays/2027-06-08/
LOCATION:Cleveland\, Cleveland\, WA
CATEGORIES:Tapster Cleveland
ATTACH;FMTTYPE=image/jpeg:https://tapstertastingroom.com/wp-content/uploads/2023/08/Shuffleboard.jpg
END:VEVENT
BEGIN:VEVENT
DTSTART;TZID=UTC:20270609T190000
DTEND;TZID=UTC:20270609T230000
DTSTAMP:20260421T020317
CREATED:20240130T140155Z
LAST-MODIFIED:20240131T185514Z
UID:10008880-1812567600-1812582000@tapstertastingroom.com
SUMMARY:Workshop Wednesdays
DESCRIPTION:WORKSHOP WEDNESDAYS \nGREAT ACTIVITIES FOR DATE NIGHT! \n\nPAINTING\nCRAFTING\nCHARCUTERIE\nPLANTS\n\nTICKET PRICES VARY \nCHECK OUR LINKTR.EE FOR DETAILS \nGET TICKETS @TAPSTERCLE
URL:https://tapstertastingroom.com/event/workshop-wednesdays/2027-06-09/
LOCATION:Cleveland\, Cleveland\, WA
CATEGORIES:Tapster Cleveland
ATTACH;FMTTYPE=image/png:https://tapstertastingroom.com/wp-content/uploads/2022/11/3.png
END:VEVENT
BEGIN:VEVENT
DTSTART;TZID=UTC:20270610T180000
DTEND;TZID=UTC:20270610T210000
DTSTAMP:20260421T020317
CREATED:20230807T165536Z
LAST-MODIFIED:20230807T165710Z
UID:10003737-1812650400-1812661200@tapstertastingroom.com
SUMMARY:? Karaoke Thursdays Start @ 6pm
DESCRIPTION:? Karaoke Thursdays start @ 6pm \nWEEKLY FUN! \nCOME ON DOWN AND ENJOY GOOD TIMES!
URL:https://tapstertastingroom.com/event/open-mic-on-tuesday-nights-2/2027-06-10/
LOCATION:Cleveland\, Cleveland\, WA
CATEGORIES:Tapster Cleveland
ATTACH;FMTTYPE=image/jpeg:https://tapstertastingroom.com/wp-content/uploads/2023/01/CLE-karaoke.jpg
END:VEVENT
BEGIN:VEVENT
DTSTART;TZID=UTC:20270615T180000
DTEND;TZID=UTC:20270615T210000
DTSTAMP:20260421T020317
CREATED:20230807T170930Z
LAST-MODIFIED:20230807T171405Z
UID:10004204-1813082400-1813093200@tapstertastingroom.com
SUMMARY:Shuffleboard Tournament TUESDAYS
DESCRIPTION:? NEW Shuffleboard Tournament on Tuesdays! \nWin prizes (like @cleguardians tickets ⚾️) and get @boomspizzadelivered for FREE ? \njust step up to the table and take on your friends while enjoying a pint ? Cheers!
URL:https://tapstertastingroom.com/event/shuffleboard-tournament-tuesdays/2027-06-15/
LOCATION:Cleveland\, Cleveland\, WA
CATEGORIES:Tapster Cleveland
ATTACH;FMTTYPE=image/jpeg:https://tapstertastingroom.com/wp-content/uploads/2023/08/Shuffleboard.jpg
END:VEVENT
BEGIN:VEVENT
DTSTART;TZID=UTC:20270616T190000
DTEND;TZID=UTC:20270616T230000
DTSTAMP:20260421T020317
CREATED:20240130T140155Z
LAST-MODIFIED:20240131T185514Z
UID:10008881-1813172400-1813186800@tapstertastingroom.com
SUMMARY:Workshop Wednesdays
DESCRIPTION:WORKSHOP WEDNESDAYS \nGREAT ACTIVITIES FOR DATE NIGHT! \n\nPAINTING\nCRAFTING\nCHARCUTERIE\nPLANTS\n\nTICKET PRICES VARY \nCHECK OUR LINKTR.EE FOR DETAILS \nGET TICKETS @TAPSTERCLE
URL:https://tapstertastingroom.com/event/workshop-wednesdays/2027-06-16/
LOCATION:Cleveland\, Cleveland\, WA
CATEGORIES:Tapster Cleveland
ATTACH;FMTTYPE=image/png:https://tapstertastingroom.com/wp-content/uploads/2022/11/3.png
END:VEVENT
BEGIN:VEVENT
DTSTART;TZID=UTC:20270617T180000
DTEND;TZID=UTC:20270617T210000
DTSTAMP:20260421T020317
CREATED:20230807T165536Z
LAST-MODIFIED:20230807T165710Z
UID:10003738-1813255200-1813266000@tapstertastingroom.com
SUMMARY:? Karaoke Thursdays Start @ 6pm
DESCRIPTION:? Karaoke Thursdays start @ 6pm \nWEEKLY FUN! \nCOME ON DOWN AND ENJOY GOOD TIMES!
URL:https://tapstertastingroom.com/event/open-mic-on-tuesday-nights-2/2027-06-17/
LOCATION:Cleveland\, Cleveland\, WA
CATEGORIES:Tapster Cleveland
ATTACH;FMTTYPE=image/jpeg:https://tapstertastingroom.com/wp-content/uploads/2023/01/CLE-karaoke.jpg
END:VEVENT
BEGIN:VEVENT
DTSTART;TZID=UTC:20270622T180000
DTEND;TZID=UTC:20270622T210000
DTSTAMP:20260421T020317
CREATED:20230807T170930Z
LAST-MODIFIED:20230807T171405Z
UID:10004205-1813687200-1813698000@tapstertastingroom.com
SUMMARY:Shuffleboard Tournament TUESDAYS
DESCRIPTION:? NEW Shuffleboard Tournament on Tuesdays! \nWin prizes (like @cleguardians tickets ⚾️) and get @boomspizzadelivered for FREE ? \njust step up to the table and take on your friends while enjoying a pint ? Cheers!
URL:https://tapstertastingroom.com/event/shuffleboard-tournament-tuesdays/2027-06-22/
LOCATION:Cleveland\, Cleveland\, WA
CATEGORIES:Tapster Cleveland
ATTACH;FMTTYPE=image/jpeg:https://tapstertastingroom.com/wp-content/uploads/2023/08/Shuffleboard.jpg
END:VEVENT
BEGIN:VEVENT
DTSTART;TZID=UTC:20270623T190000
DTEND;TZID=UTC:20270623T230000
DTSTAMP:20260421T020317
CREATED:20240130T140155Z
LAST-MODIFIED:20240131T185514Z
UID:10008882-1813777200-1813791600@tapstertastingroom.com
SUMMARY:Workshop Wednesdays
DESCRIPTION:WORKSHOP WEDNESDAYS \nGREAT ACTIVITIES FOR DATE NIGHT! \n\nPAINTING\nCRAFTING\nCHARCUTERIE\nPLANTS\n\nTICKET PRICES VARY \nCHECK OUR LINKTR.EE FOR DETAILS \nGET TICKETS @TAPSTERCLE
URL:https://tapstertastingroom.com/event/workshop-wednesdays/2027-06-23/
LOCATION:Cleveland\, Cleveland\, WA
CATEGORIES:Tapster Cleveland
ATTACH;FMTTYPE=image/png:https://tapstertastingroom.com/wp-content/uploads/2022/11/3.png
END:VEVENT
BEGIN:VEVENT
DTSTART;TZID=UTC:20270624T180000
DTEND;TZID=UTC:20270624T210000
DTSTAMP:20260421T020317
CREATED:20230807T165536Z
LAST-MODIFIED:20230807T165710Z
UID:10003739-1813860000-1813870800@tapstertastingroom.com
SUMMARY:? Karaoke Thursdays Start @ 6pm
DESCRIPTION:? Karaoke Thursdays start @ 6pm \nWEEKLY FUN! \nCOME ON DOWN AND ENJOY GOOD TIMES!
URL:https://tapstertastingroom.com/event/open-mic-on-tuesday-nights-2/2027-06-24/
LOCATION:Cleveland\, Cleveland\, WA
CATEGORIES:Tapster Cleveland
ATTACH;FMTTYPE=image/jpeg:https://tapstertastingroom.com/wp-content/uploads/2023/01/CLE-karaoke.jpg
END:VEVENT
BEGIN:VEVENT
DTSTART;TZID=UTC:20270629T180000
DTEND;TZID=UTC:20270629T210000
DTSTAMP:20260421T020317
CREATED:20230807T170930Z
LAST-MODIFIED:20230807T171405Z
UID:10004206-1814292000-1814302800@tapstertastingroom.com
SUMMARY:Shuffleboard Tournament TUESDAYS
DESCRIPTION:? NEW Shuffleboard Tournament on Tuesdays! \nWin prizes (like @cleguardians tickets ⚾️) and get @boomspizzadelivered for FREE ? \njust step up to the table and take on your friends while enjoying a pint ? Cheers!
URL:https://tapstertastingroom.com/event/shuffleboard-tournament-tuesdays/2027-06-29/
LOCATION:Cleveland\, Cleveland\, WA
CATEGORIES:Tapster Cleveland
ATTACH;FMTTYPE=image/jpeg:https://tapstertastingroom.com/wp-content/uploads/2023/08/Shuffleboard.jpg
END:VEVENT
BEGIN:VEVENT
DTSTART;TZID=UTC:20270630T190000
DTEND;TZID=UTC:20270630T230000
DTSTAMP:20260421T020317
CREATED:20240130T140155Z
LAST-MODIFIED:20240131T185514Z
UID:10008883-1814382000-1814396400@tapstertastingroom.com
SUMMARY:Workshop Wednesdays
DESCRIPTION:WORKSHOP WEDNESDAYS \nGREAT ACTIVITIES FOR DATE NIGHT! \n\nPAINTING\nCRAFTING\nCHARCUTERIE\nPLANTS\n\nTICKET PRICES VARY \nCHECK OUR LINKTR.EE FOR DETAILS \nGET TICKETS @TAPSTERCLE
URL:https://tapstertastingroom.com/event/workshop-wednesdays/2027-06-30/
LOCATION:Cleveland\, Cleveland\, WA
CATEGORIES:Tapster Cleveland
ATTACH;FMTTYPE=image/png:https://tapstertastingroom.com/wp-content/uploads/2022/11/3.png
END:VEVENT
END:VCALENDAR