BEGIN:VCALENDAR
VERSION:2.0
PRODID:-//Tapster - ECPv6.6.3//NONSGML v1.0//EN
CALSCALE:GREGORIAN
METHOD:PUBLISH
X-ORIGINAL-URL:https://tapstertastingroom.com
X-WR-CALDESC:Events for Tapster
REFRESH-INTERVAL;VALUE=DURATION:PT1H
X-Robots-Tag:noindex
X-PUBLISHED-TTL:PT1H
BEGIN:VTIMEZONE
TZID:UTC
BEGIN:STANDARD
TZOFFSETFROM:+0000
TZOFFSETTO:+0000
TZNAME:UTC
DTSTART:20270101T000000
END:STANDARD
END:VTIMEZONE
BEGIN:VEVENT
DTSTART;TZID=UTC:20270302T180000
DTEND;TZID=UTC:20270302T210000
DTSTAMP:20260420T231351
CREATED:20230807T170930Z
LAST-MODIFIED:20230807T171405Z
UID:10004189-1804010400-1804021200@tapstertastingroom.com
SUMMARY:Shuffleboard Tournament TUESDAYS
DESCRIPTION:? NEW Shuffleboard Tournament on Tuesdays! \nWin prizes (like @cleguardians tickets ⚾️) and get @boomspizzadelivered for FREE ? \njust step up to the table and take on your friends while enjoying a pint ? Cheers!
URL:https://tapstertastingroom.com/event/shuffleboard-tournament-tuesdays/2027-03-02/
LOCATION:Cleveland\, Cleveland\, WA
CATEGORIES:Tapster Cleveland
ATTACH;FMTTYPE=image/jpeg:https://tapstertastingroom.com/wp-content/uploads/2023/08/Shuffleboard.jpg
END:VEVENT
BEGIN:VEVENT
DTSTART;TZID=UTC:20270303T190000
DTEND;TZID=UTC:20270303T230000
DTSTAMP:20260420T231351
CREATED:20240130T140155Z
LAST-MODIFIED:20240131T185514Z
UID:10008866-1804100400-1804114800@tapstertastingroom.com
SUMMARY:Workshop Wednesdays
DESCRIPTION:WORKSHOP WEDNESDAYS \nGREAT ACTIVITIES FOR DATE NIGHT! \n\nPAINTING\nCRAFTING\nCHARCUTERIE\nPLANTS\n\nTICKET PRICES VARY \nCHECK OUR LINKTR.EE FOR DETAILS \nGET TICKETS @TAPSTERCLE
URL:https://tapstertastingroom.com/event/workshop-wednesdays/2027-03-03/
LOCATION:Cleveland\, Cleveland\, WA
CATEGORIES:Tapster Cleveland
ATTACH;FMTTYPE=image/png:https://tapstertastingroom.com/wp-content/uploads/2022/11/3.png
END:VEVENT
BEGIN:VEVENT
DTSTART;TZID=UTC:20270304T180000
DTEND;TZID=UTC:20270304T210000
DTSTAMP:20260420T231351
CREATED:20230807T165536Z
LAST-MODIFIED:20230807T165710Z
UID:10003723-1804183200-1804194000@tapstertastingroom.com
SUMMARY:? Karaoke Thursdays Start @ 6pm
DESCRIPTION:? Karaoke Thursdays start @ 6pm \nWEEKLY FUN! \nCOME ON DOWN AND ENJOY GOOD TIMES!
URL:https://tapstertastingroom.com/event/open-mic-on-tuesday-nights-2/2027-03-04/
LOCATION:Cleveland\, Cleveland\, WA
CATEGORIES:Tapster Cleveland
ATTACH;FMTTYPE=image/jpeg:https://tapstertastingroom.com/wp-content/uploads/2023/01/CLE-karaoke.jpg
END:VEVENT
BEGIN:VEVENT
DTSTART;TZID=UTC:20270309T180000
DTEND;TZID=UTC:20270309T210000
DTSTAMP:20260420T231351
CREATED:20230807T170930Z
LAST-MODIFIED:20230807T171405Z
UID:10004190-1804615200-1804626000@tapstertastingroom.com
SUMMARY:Shuffleboard Tournament TUESDAYS
DESCRIPTION:? NEW Shuffleboard Tournament on Tuesdays! \nWin prizes (like @cleguardians tickets ⚾️) and get @boomspizzadelivered for FREE ? \njust step up to the table and take on your friends while enjoying a pint ? Cheers!
URL:https://tapstertastingroom.com/event/shuffleboard-tournament-tuesdays/2027-03-09/
LOCATION:Cleveland\, Cleveland\, WA
CATEGORIES:Tapster Cleveland
ATTACH;FMTTYPE=image/jpeg:https://tapstertastingroom.com/wp-content/uploads/2023/08/Shuffleboard.jpg
END:VEVENT
BEGIN:VEVENT
DTSTART;TZID=UTC:20270310T190000
DTEND;TZID=UTC:20270310T230000
DTSTAMP:20260420T231351
CREATED:20240130T140155Z
LAST-MODIFIED:20240131T185514Z
UID:10008867-1804705200-1804719600@tapstertastingroom.com
SUMMARY:Workshop Wednesdays
DESCRIPTION:WORKSHOP WEDNESDAYS \nGREAT ACTIVITIES FOR DATE NIGHT! \n\nPAINTING\nCRAFTING\nCHARCUTERIE\nPLANTS\n\nTICKET PRICES VARY \nCHECK OUR LINKTR.EE FOR DETAILS \nGET TICKETS @TAPSTERCLE
URL:https://tapstertastingroom.com/event/workshop-wednesdays/2027-03-10/
LOCATION:Cleveland\, Cleveland\, WA
CATEGORIES:Tapster Cleveland
ATTACH;FMTTYPE=image/png:https://tapstertastingroom.com/wp-content/uploads/2022/11/3.png
END:VEVENT
BEGIN:VEVENT
DTSTART;TZID=UTC:20270311T180000
DTEND;TZID=UTC:20270311T210000
DTSTAMP:20260420T231351
CREATED:20230807T165536Z
LAST-MODIFIED:20230807T165710Z
UID:10003724-1804788000-1804798800@tapstertastingroom.com
SUMMARY:? Karaoke Thursdays Start @ 6pm
DESCRIPTION:? Karaoke Thursdays start @ 6pm \nWEEKLY FUN! \nCOME ON DOWN AND ENJOY GOOD TIMES!
URL:https://tapstertastingroom.com/event/open-mic-on-tuesday-nights-2/2027-03-11/
LOCATION:Cleveland\, Cleveland\, WA
CATEGORIES:Tapster Cleveland
ATTACH;FMTTYPE=image/jpeg:https://tapstertastingroom.com/wp-content/uploads/2023/01/CLE-karaoke.jpg
END:VEVENT
BEGIN:VEVENT
DTSTART;TZID=UTC:20270316T180000
DTEND;TZID=UTC:20270316T210000
DTSTAMP:20260420T231351
CREATED:20230807T170930Z
LAST-MODIFIED:20230807T171405Z
UID:10004191-1805220000-1805230800@tapstertastingroom.com
SUMMARY:Shuffleboard Tournament TUESDAYS
DESCRIPTION:? NEW Shuffleboard Tournament on Tuesdays! \nWin prizes (like @cleguardians tickets ⚾️) and get @boomspizzadelivered for FREE ? \njust step up to the table and take on your friends while enjoying a pint ? Cheers!
URL:https://tapstertastingroom.com/event/shuffleboard-tournament-tuesdays/2027-03-16/
LOCATION:Cleveland\, Cleveland\, WA
CATEGORIES:Tapster Cleveland
ATTACH;FMTTYPE=image/jpeg:https://tapstertastingroom.com/wp-content/uploads/2023/08/Shuffleboard.jpg
END:VEVENT
BEGIN:VEVENT
DTSTART;TZID=UTC:20270317T190000
DTEND;TZID=UTC:20270317T230000
DTSTAMP:20260420T231351
CREATED:20240130T140155Z
LAST-MODIFIED:20240131T185514Z
UID:10008868-1805310000-1805324400@tapstertastingroom.com
SUMMARY:Workshop Wednesdays
DESCRIPTION:WORKSHOP WEDNESDAYS \nGREAT ACTIVITIES FOR DATE NIGHT! \n\nPAINTING\nCRAFTING\nCHARCUTERIE\nPLANTS\n\nTICKET PRICES VARY \nCHECK OUR LINKTR.EE FOR DETAILS \nGET TICKETS @TAPSTERCLE
URL:https://tapstertastingroom.com/event/workshop-wednesdays/2027-03-17/
LOCATION:Cleveland\, Cleveland\, WA
CATEGORIES:Tapster Cleveland
ATTACH;FMTTYPE=image/png:https://tapstertastingroom.com/wp-content/uploads/2022/11/3.png
END:VEVENT
BEGIN:VEVENT
DTSTART;TZID=UTC:20270318T180000
DTEND;TZID=UTC:20270318T210000
DTSTAMP:20260420T231351
CREATED:20230807T165536Z
LAST-MODIFIED:20230807T165710Z
UID:10003725-1805392800-1805403600@tapstertastingroom.com
SUMMARY:? Karaoke Thursdays Start @ 6pm
DESCRIPTION:? Karaoke Thursdays start @ 6pm \nWEEKLY FUN! \nCOME ON DOWN AND ENJOY GOOD TIMES!
URL:https://tapstertastingroom.com/event/open-mic-on-tuesday-nights-2/2027-03-18/
LOCATION:Cleveland\, Cleveland\, WA
CATEGORIES:Tapster Cleveland
ATTACH;FMTTYPE=image/jpeg:https://tapstertastingroom.com/wp-content/uploads/2023/01/CLE-karaoke.jpg
END:VEVENT
BEGIN:VEVENT
DTSTART;TZID=UTC:20270323T180000
DTEND;TZID=UTC:20270323T210000
DTSTAMP:20260420T231351
CREATED:20230807T170930Z
LAST-MODIFIED:20230807T171405Z
UID:10004192-1805824800-1805835600@tapstertastingroom.com
SUMMARY:Shuffleboard Tournament TUESDAYS
DESCRIPTION:? NEW Shuffleboard Tournament on Tuesdays! \nWin prizes (like @cleguardians tickets ⚾️) and get @boomspizzadelivered for FREE ? \njust step up to the table and take on your friends while enjoying a pint ? Cheers!
URL:https://tapstertastingroom.com/event/shuffleboard-tournament-tuesdays/2027-03-23/
LOCATION:Cleveland\, Cleveland\, WA
CATEGORIES:Tapster Cleveland
ATTACH;FMTTYPE=image/jpeg:https://tapstertastingroom.com/wp-content/uploads/2023/08/Shuffleboard.jpg
END:VEVENT
BEGIN:VEVENT
DTSTART;TZID=UTC:20270324T190000
DTEND;TZID=UTC:20270324T230000
DTSTAMP:20260420T231351
CREATED:20240130T140155Z
LAST-MODIFIED:20240131T185514Z
UID:10008869-1805914800-1805929200@tapstertastingroom.com
SUMMARY:Workshop Wednesdays
DESCRIPTION:WORKSHOP WEDNESDAYS \nGREAT ACTIVITIES FOR DATE NIGHT! \n\nPAINTING\nCRAFTING\nCHARCUTERIE\nPLANTS\n\nTICKET PRICES VARY \nCHECK OUR LINKTR.EE FOR DETAILS \nGET TICKETS @TAPSTERCLE
URL:https://tapstertastingroom.com/event/workshop-wednesdays/2027-03-24/
LOCATION:Cleveland\, Cleveland\, WA
CATEGORIES:Tapster Cleveland
ATTACH;FMTTYPE=image/png:https://tapstertastingroom.com/wp-content/uploads/2022/11/3.png
END:VEVENT
BEGIN:VEVENT
DTSTART;TZID=UTC:20270325T180000
DTEND;TZID=UTC:20270325T210000
DTSTAMP:20260420T231351
CREATED:20230807T165536Z
LAST-MODIFIED:20230807T165710Z
UID:10003726-1805997600-1806008400@tapstertastingroom.com
SUMMARY:? Karaoke Thursdays Start @ 6pm
DESCRIPTION:? Karaoke Thursdays start @ 6pm \nWEEKLY FUN! \nCOME ON DOWN AND ENJOY GOOD TIMES!
URL:https://tapstertastingroom.com/event/open-mic-on-tuesday-nights-2/2027-03-25/
LOCATION:Cleveland\, Cleveland\, WA
CATEGORIES:Tapster Cleveland
ATTACH;FMTTYPE=image/jpeg:https://tapstertastingroom.com/wp-content/uploads/2023/01/CLE-karaoke.jpg
END:VEVENT
BEGIN:VEVENT
DTSTART;TZID=UTC:20270330T180000
DTEND;TZID=UTC:20270330T210000
DTSTAMP:20260420T231351
CREATED:20230807T170930Z
LAST-MODIFIED:20230807T171405Z
UID:10004193-1806429600-1806440400@tapstertastingroom.com
SUMMARY:Shuffleboard Tournament TUESDAYS
DESCRIPTION:? NEW Shuffleboard Tournament on Tuesdays! \nWin prizes (like @cleguardians tickets ⚾️) and get @boomspizzadelivered for FREE ? \njust step up to the table and take on your friends while enjoying a pint ? Cheers!
URL:https://tapstertastingroom.com/event/shuffleboard-tournament-tuesdays/2027-03-30/
LOCATION:Cleveland\, Cleveland\, WA
CATEGORIES:Tapster Cleveland
ATTACH;FMTTYPE=image/jpeg:https://tapstertastingroom.com/wp-content/uploads/2023/08/Shuffleboard.jpg
END:VEVENT
BEGIN:VEVENT
DTSTART;TZID=UTC:20270331T190000
DTEND;TZID=UTC:20270331T230000
DTSTAMP:20260420T231351
CREATED:20240130T140155Z
LAST-MODIFIED:20240131T185514Z
UID:10008870-1806519600-1806534000@tapstertastingroom.com
SUMMARY:Workshop Wednesdays
DESCRIPTION:WORKSHOP WEDNESDAYS \nGREAT ACTIVITIES FOR DATE NIGHT! \n\nPAINTING\nCRAFTING\nCHARCUTERIE\nPLANTS\n\nTICKET PRICES VARY \nCHECK OUR LINKTR.EE FOR DETAILS \nGET TICKETS @TAPSTERCLE
URL:https://tapstertastingroom.com/event/workshop-wednesdays/2027-03-31/
LOCATION:Cleveland\, Cleveland\, WA
CATEGORIES:Tapster Cleveland
ATTACH;FMTTYPE=image/png:https://tapstertastingroom.com/wp-content/uploads/2022/11/3.png
END:VEVENT
END:VCALENDAR