BEGIN:VCALENDAR
VERSION:2.0
PRODID:-//Tapster - ECPv6.6.3//NONSGML v1.0//EN
CALSCALE:GREGORIAN
METHOD:PUBLISH
X-ORIGINAL-URL:https://tapstertastingroom.com
X-WR-CALDESC:Events for Tapster
REFRESH-INTERVAL;VALUE=DURATION:PT1H
X-Robots-Tag:noindex
X-PUBLISHED-TTL:PT1H
BEGIN:VTIMEZONE
TZID:UTC
BEGIN:STANDARD
TZOFFSETFROM:+0000
TZOFFSETTO:+0000
TZNAME:UTC
DTSTART:20230101T000000
END:STANDARD
END:VTIMEZONE
BEGIN:VEVENT
DTSTART;TZID=UTC:20231003T180000
DTEND;TZID=UTC:20231003T210000
DTSTAMP:20260419T142801
CREATED:20230807T170930Z
LAST-MODIFIED:20230807T171405Z
UID:10004011-1696356000-1696366800@tapstertastingroom.com
SUMMARY:Shuffleboard Tournament TUESDAYS
DESCRIPTION:? NEW Shuffleboard Tournament on Tuesdays! \nWin prizes (like @cleguardians tickets ⚾️) and get @boomspizzadelivered for FREE ? \njust step up to the table and take on your friends while enjoying a pint ? Cheers!
URL:https://tapstertastingroom.com/event/shuffleboard-tournament-tuesdays/2023-10-03/
LOCATION:Cleveland\, Cleveland\, WA
CATEGORIES:Tapster Cleveland
ATTACH;FMTTYPE=image/jpeg:https://tapstertastingroom.com/wp-content/uploads/2023/08/Shuffleboard.jpg
END:VEVENT
BEGIN:VEVENT
DTSTART;TZID=UTC:20231005T180000
DTEND;TZID=UTC:20231005T210000
DTSTAMP:20260419T142801
CREATED:20230807T165536Z
LAST-MODIFIED:20230807T165710Z
UID:10003545-1696528800-1696539600@tapstertastingroom.com
SUMMARY:? Karaoke Thursdays Start @ 6pm
DESCRIPTION:? Karaoke Thursdays start @ 6pm \nWEEKLY FUN! \nCOME ON DOWN AND ENJOY GOOD TIMES!
URL:https://tapstertastingroom.com/event/open-mic-on-tuesday-nights-2/2023-10-05/
LOCATION:Cleveland\, Cleveland\, WA
CATEGORIES:Tapster Cleveland
ATTACH;FMTTYPE=image/jpeg:https://tapstertastingroom.com/wp-content/uploads/2023/01/CLE-karaoke.jpg
END:VEVENT
BEGIN:VEVENT
DTSTART;TZID=UTC:20231010T180000
DTEND;TZID=UTC:20231010T210000
DTSTAMP:20260419T142801
CREATED:20230807T170930Z
LAST-MODIFIED:20230807T171405Z
UID:10004012-1696960800-1696971600@tapstertastingroom.com
SUMMARY:Shuffleboard Tournament TUESDAYS
DESCRIPTION:? NEW Shuffleboard Tournament on Tuesdays! \nWin prizes (like @cleguardians tickets ⚾️) and get @boomspizzadelivered for FREE ? \njust step up to the table and take on your friends while enjoying a pint ? Cheers!
URL:https://tapstertastingroom.com/event/shuffleboard-tournament-tuesdays/2023-10-10/
LOCATION:Cleveland\, Cleveland\, WA
CATEGORIES:Tapster Cleveland
ATTACH;FMTTYPE=image/jpeg:https://tapstertastingroom.com/wp-content/uploads/2023/08/Shuffleboard.jpg
END:VEVENT
BEGIN:VEVENT
DTSTART;TZID=UTC:20231012T180000
DTEND;TZID=UTC:20231012T210000
DTSTAMP:20260419T142801
CREATED:20230807T165536Z
LAST-MODIFIED:20230807T165710Z
UID:10003546-1697133600-1697144400@tapstertastingroom.com
SUMMARY:? Karaoke Thursdays Start @ 6pm
DESCRIPTION:? Karaoke Thursdays start @ 6pm \nWEEKLY FUN! \nCOME ON DOWN AND ENJOY GOOD TIMES!
URL:https://tapstertastingroom.com/event/open-mic-on-tuesday-nights-2/2023-10-12/
LOCATION:Cleveland\, Cleveland\, WA
CATEGORIES:Tapster Cleveland
ATTACH;FMTTYPE=image/jpeg:https://tapstertastingroom.com/wp-content/uploads/2023/01/CLE-karaoke.jpg
END:VEVENT
BEGIN:VEVENT
DTSTART;TZID=UTC:20231017T180000
DTEND;TZID=UTC:20231017T210000
DTSTAMP:20260419T142801
CREATED:20230807T170930Z
LAST-MODIFIED:20230807T171405Z
UID:10004013-1697565600-1697576400@tapstertastingroom.com
SUMMARY:Shuffleboard Tournament TUESDAYS
DESCRIPTION:? NEW Shuffleboard Tournament on Tuesdays! \nWin prizes (like @cleguardians tickets ⚾️) and get @boomspizzadelivered for FREE ? \njust step up to the table and take on your friends while enjoying a pint ? Cheers!
URL:https://tapstertastingroom.com/event/shuffleboard-tournament-tuesdays/2023-10-17/
LOCATION:Cleveland\, Cleveland\, WA
CATEGORIES:Tapster Cleveland
ATTACH;FMTTYPE=image/jpeg:https://tapstertastingroom.com/wp-content/uploads/2023/08/Shuffleboard.jpg
END:VEVENT
BEGIN:VEVENT
DTSTART;TZID=UTC:20231019T180000
DTEND;TZID=UTC:20231019T210000
DTSTAMP:20260419T142801
CREATED:20230807T165536Z
LAST-MODIFIED:20230807T165710Z
UID:10003547-1697738400-1697749200@tapstertastingroom.com
SUMMARY:? Karaoke Thursdays Start @ 6pm
DESCRIPTION:? Karaoke Thursdays start @ 6pm \nWEEKLY FUN! \nCOME ON DOWN AND ENJOY GOOD TIMES!
URL:https://tapstertastingroom.com/event/open-mic-on-tuesday-nights-2/2023-10-19/
LOCATION:Cleveland\, Cleveland\, WA
CATEGORIES:Tapster Cleveland
ATTACH;FMTTYPE=image/jpeg:https://tapstertastingroom.com/wp-content/uploads/2023/01/CLE-karaoke.jpg
END:VEVENT
BEGIN:VEVENT
DTSTART;TZID=UTC:20231024T180000
DTEND;TZID=UTC:20231024T210000
DTSTAMP:20260419T142801
CREATED:20230807T170930Z
LAST-MODIFIED:20230807T171405Z
UID:10004014-1698170400-1698181200@tapstertastingroom.com
SUMMARY:Shuffleboard Tournament TUESDAYS
DESCRIPTION:? NEW Shuffleboard Tournament on Tuesdays! \nWin prizes (like @cleguardians tickets ⚾️) and get @boomspizzadelivered for FREE ? \njust step up to the table and take on your friends while enjoying a pint ? Cheers!
URL:https://tapstertastingroom.com/event/shuffleboard-tournament-tuesdays/2023-10-24/
LOCATION:Cleveland\, Cleveland\, WA
CATEGORIES:Tapster Cleveland
ATTACH;FMTTYPE=image/jpeg:https://tapstertastingroom.com/wp-content/uploads/2023/08/Shuffleboard.jpg
END:VEVENT
BEGIN:VEVENT
DTSTART;TZID=UTC:20231026T180000
DTEND;TZID=UTC:20231026T210000
DTSTAMP:20260419T142801
CREATED:20230807T165536Z
LAST-MODIFIED:20230807T165710Z
UID:10003548-1698343200-1698354000@tapstertastingroom.com
SUMMARY:? Karaoke Thursdays Start @ 6pm
DESCRIPTION:? Karaoke Thursdays start @ 6pm \nWEEKLY FUN! \nCOME ON DOWN AND ENJOY GOOD TIMES!
URL:https://tapstertastingroom.com/event/open-mic-on-tuesday-nights-2/2023-10-26/
LOCATION:Cleveland\, Cleveland\, WA
CATEGORIES:Tapster Cleveland
ATTACH;FMTTYPE=image/jpeg:https://tapstertastingroom.com/wp-content/uploads/2023/01/CLE-karaoke.jpg
END:VEVENT
BEGIN:VEVENT
DTSTART;TZID=UTC:20231031T180000
DTEND;TZID=UTC:20231031T210000
DTSTAMP:20260419T142801
CREATED:20230807T170930Z
LAST-MODIFIED:20230807T171405Z
UID:10004015-1698775200-1698786000@tapstertastingroom.com
SUMMARY:Shuffleboard Tournament TUESDAYS
DESCRIPTION:? NEW Shuffleboard Tournament on Tuesdays! \nWin prizes (like @cleguardians tickets ⚾️) and get @boomspizzadelivered for FREE ? \njust step up to the table and take on your friends while enjoying a pint ? Cheers!
URL:https://tapstertastingroom.com/event/shuffleboard-tournament-tuesdays/2023-10-31/
LOCATION:Cleveland\, Cleveland\, WA
CATEGORIES:Tapster Cleveland
ATTACH;FMTTYPE=image/jpeg:https://tapstertastingroom.com/wp-content/uploads/2023/08/Shuffleboard.jpg
END:VEVENT
END:VCALENDAR