BEGIN:VCALENDAR
VERSION:2.0
PRODID:-//Tapster - ECPv6.6.3//NONSGML v1.0//EN
CALSCALE:GREGORIAN
METHOD:PUBLISH
X-ORIGINAL-URL:https://tapstertastingroom.com
X-WR-CALDESC:Events for Tapster
REFRESH-INTERVAL;VALUE=DURATION:PT1H
X-Robots-Tag:noindex
X-PUBLISHED-TTL:PT1H
BEGIN:VTIMEZONE
TZID:UTC
BEGIN:STANDARD
TZOFFSETFROM:+0000
TZOFFSETTO:+0000
TZNAME:UTC
DTSTART:20230101T000000
END:STANDARD
END:VTIMEZONE
BEGIN:VEVENT
DTSTART;TZID=UTC:20230807T190000
DTEND;TZID=UTC:20230807T200000
DTSTAMP:20260419T172908
CREATED:20230807T171835Z
LAST-MODIFIED:20230807T171835Z
UID:10004236-1691434800-1691438400@tapstertastingroom.com
SUMMARY:Monday Night Trivia: Hosted by Sporcle Events
DESCRIPTION:Monday Night Trivia: Hosted by Sporcle Events\nEvery Monday Night @ 7PM & 8PM\n\nFree! \nFirst place winner of each game will receive a $25 gift card to Tapster for your next visit\, and second place will receive a $15 gift card ? \nHOPE TO SEE YOU THERE! ?
URL:https://tapstertastingroom.com/event/monday-night-trivia-hosted-by-sporcle-events/
LOCATION:Cleveland\, Cleveland\, WA
CATEGORIES:Tapster Cleveland
ATTACH;FMTTYPE=image/jpeg:https://tapstertastingroom.com/wp-content/uploads/2023/08/CLE-Trivia.jpg
END:VEVENT
BEGIN:VEVENT
DTSTART;TZID=UTC:20230808T180000
DTEND;TZID=UTC:20230808T210000
DTSTAMP:20260419T172908
CREATED:20230807T170930Z
LAST-MODIFIED:20230807T171405Z
UID:10004003-1691517600-1691528400@tapstertastingroom.com
SUMMARY:Shuffleboard Tournament TUESDAYS
DESCRIPTION:? NEW Shuffleboard Tournament on Tuesdays! \nWin prizes (like @cleguardians tickets ⚾️) and get @boomspizzadelivered for FREE ? \njust step up to the table and take on your friends while enjoying a pint ? Cheers!
URL:https://tapstertastingroom.com/event/shuffleboard-tournament-tuesdays/2023-08-08/
LOCATION:Cleveland\, Cleveland\, WA
CATEGORIES:Tapster Cleveland
ATTACH;FMTTYPE=image/jpeg:https://tapstertastingroom.com/wp-content/uploads/2023/08/Shuffleboard.jpg
END:VEVENT
BEGIN:VEVENT
DTSTART;TZID=UTC:20230810T180000
DTEND;TZID=UTC:20230810T210000
DTSTAMP:20260419T172908
CREATED:20230807T165536Z
LAST-MODIFIED:20230807T165710Z
UID:10001938-1691690400-1691701200@tapstertastingroom.com
SUMMARY:? Karaoke Thursdays Start @ 6pm
DESCRIPTION:? Karaoke Thursdays start @ 6pm \nWEEKLY FUN! \nCOME ON DOWN AND ENJOY GOOD TIMES!
URL:https://tapstertastingroom.com/event/open-mic-on-tuesday-nights-2/2023-08-10/
LOCATION:Cleveland\, Cleveland\, WA
CATEGORIES:Tapster Cleveland
ATTACH;FMTTYPE=image/jpeg:https://tapstertastingroom.com/wp-content/uploads/2023/01/CLE-karaoke.jpg
END:VEVENT
BEGIN:VEVENT
DTSTART;TZID=UTC:20230815T180000
DTEND;TZID=UTC:20230815T210000
DTSTAMP:20260419T172908
CREATED:20230807T170930Z
LAST-MODIFIED:20230807T171405Z
UID:10004004-1692122400-1692133200@tapstertastingroom.com
SUMMARY:Shuffleboard Tournament TUESDAYS
DESCRIPTION:? NEW Shuffleboard Tournament on Tuesdays! \nWin prizes (like @cleguardians tickets ⚾️) and get @boomspizzadelivered for FREE ? \njust step up to the table and take on your friends while enjoying a pint ? Cheers!
URL:https://tapstertastingroom.com/event/shuffleboard-tournament-tuesdays/2023-08-15/
LOCATION:Cleveland\, Cleveland\, WA
CATEGORIES:Tapster Cleveland
ATTACH;FMTTYPE=image/jpeg:https://tapstertastingroom.com/wp-content/uploads/2023/08/Shuffleboard.jpg
END:VEVENT
BEGIN:VEVENT
DTSTART;TZID=UTC:20230817T180000
DTEND;TZID=UTC:20230817T210000
DTSTAMP:20260419T172908
CREATED:20230807T165536Z
LAST-MODIFIED:20230807T165710Z
UID:10003538-1692295200-1692306000@tapstertastingroom.com
SUMMARY:? Karaoke Thursdays Start @ 6pm
DESCRIPTION:? Karaoke Thursdays start @ 6pm \nWEEKLY FUN! \nCOME ON DOWN AND ENJOY GOOD TIMES!
URL:https://tapstertastingroom.com/event/open-mic-on-tuesday-nights-2/2023-08-17/
LOCATION:Cleveland\, Cleveland\, WA
CATEGORIES:Tapster Cleveland
ATTACH;FMTTYPE=image/jpeg:https://tapstertastingroom.com/wp-content/uploads/2023/01/CLE-karaoke.jpg
END:VEVENT
BEGIN:VEVENT
DTSTART;TZID=UTC:20230822T180000
DTEND;TZID=UTC:20230822T210000
DTSTAMP:20260419T172908
CREATED:20230807T170930Z
LAST-MODIFIED:20230807T171405Z
UID:10004005-1692727200-1692738000@tapstertastingroom.com
SUMMARY:Shuffleboard Tournament TUESDAYS
DESCRIPTION:? NEW Shuffleboard Tournament on Tuesdays! \nWin prizes (like @cleguardians tickets ⚾️) and get @boomspizzadelivered for FREE ? \njust step up to the table and take on your friends while enjoying a pint ? Cheers!
URL:https://tapstertastingroom.com/event/shuffleboard-tournament-tuesdays/2023-08-22/
LOCATION:Cleveland\, Cleveland\, WA
CATEGORIES:Tapster Cleveland
ATTACH;FMTTYPE=image/jpeg:https://tapstertastingroom.com/wp-content/uploads/2023/08/Shuffleboard.jpg
END:VEVENT
BEGIN:VEVENT
DTSTART;TZID=UTC:20230824T180000
DTEND;TZID=UTC:20230824T210000
DTSTAMP:20260419T172908
CREATED:20230807T165536Z
LAST-MODIFIED:20230807T165710Z
UID:10003539-1692900000-1692910800@tapstertastingroom.com
SUMMARY:? Karaoke Thursdays Start @ 6pm
DESCRIPTION:? Karaoke Thursdays start @ 6pm \nWEEKLY FUN! \nCOME ON DOWN AND ENJOY GOOD TIMES!
URL:https://tapstertastingroom.com/event/open-mic-on-tuesday-nights-2/2023-08-24/
LOCATION:Cleveland\, Cleveland\, WA
CATEGORIES:Tapster Cleveland
ATTACH;FMTTYPE=image/jpeg:https://tapstertastingroom.com/wp-content/uploads/2023/01/CLE-karaoke.jpg
END:VEVENT
BEGIN:VEVENT
DTSTART;TZID=UTC:20230829T180000
DTEND;TZID=UTC:20230829T210000
DTSTAMP:20260419T172908
CREATED:20230807T170930Z
LAST-MODIFIED:20230807T171405Z
UID:10004006-1693332000-1693342800@tapstertastingroom.com
SUMMARY:Shuffleboard Tournament TUESDAYS
DESCRIPTION:? NEW Shuffleboard Tournament on Tuesdays! \nWin prizes (like @cleguardians tickets ⚾️) and get @boomspizzadelivered for FREE ? \njust step up to the table and take on your friends while enjoying a pint ? Cheers!
URL:https://tapstertastingroom.com/event/shuffleboard-tournament-tuesdays/2023-08-29/
LOCATION:Cleveland\, Cleveland\, WA
CATEGORIES:Tapster Cleveland
ATTACH;FMTTYPE=image/jpeg:https://tapstertastingroom.com/wp-content/uploads/2023/08/Shuffleboard.jpg
END:VEVENT
BEGIN:VEVENT
DTSTART;TZID=UTC:20230831T180000
DTEND;TZID=UTC:20230831T210000
DTSTAMP:20260419T172908
CREATED:20230807T165536Z
LAST-MODIFIED:20230807T165710Z
UID:10003540-1693504800-1693515600@tapstertastingroom.com
SUMMARY:? Karaoke Thursdays Start @ 6pm
DESCRIPTION:? Karaoke Thursdays start @ 6pm \nWEEKLY FUN! \nCOME ON DOWN AND ENJOY GOOD TIMES!
URL:https://tapstertastingroom.com/event/open-mic-on-tuesday-nights-2/2023-08-31/
LOCATION:Cleveland\, Cleveland\, WA
CATEGORIES:Tapster Cleveland
ATTACH;FMTTYPE=image/jpeg:https://tapstertastingroom.com/wp-content/uploads/2023/01/CLE-karaoke.jpg
END:VEVENT
END:VCALENDAR