BEGIN:VCALENDAR
VERSION:2.0
PRODID:-//Tapster - ECPv6.6.3//NONSGML v1.0//EN
CALSCALE:GREGORIAN
METHOD:PUBLISH
X-WR-CALNAME:Tapster
X-ORIGINAL-URL:https://tapstertastingroom.com
X-WR-CALDESC:Events for Tapster
REFRESH-INTERVAL;VALUE=DURATION:PT1H
X-Robots-Tag:noindex
X-PUBLISHED-TTL:PT1H
BEGIN:VTIMEZONE
TZID:UTC
BEGIN:STANDARD
TZOFFSETFROM:+0000
TZOFFSETTO:+0000
TZNAME:UTC
DTSTART:20290101T000000
END:STANDARD
END:VTIMEZONE
BEGIN:VEVENT
DTSTART;TZID=UTC:20290306T070000
DTEND;TZID=UTC:20290306T210000
DTSTAMP:20260422T220813
CREATED:20240603T164922Z
LAST-MODIFIED:20240606T155805Z
UID:10009221-1867474800-1867525200@tapstertastingroom.com
SUMMARY:Tapster Bellevue Trivia Night
DESCRIPTION:Tapster: TRIVIA NIGHT\n\nTAPSTER EVERY TUESDAY NIGHT\n7 – 9PM\nFREE TO PLAY\nTOP 3 TEAMS GET A PRIZE
URL:https://tapstertastingroom.com/event/25377/2029-03-06/
LOCATION:Seattle: Bellevue\, 195 106TH AVE NE BELLEVUE\, WA 98004\, Bellevue\, WA\, 98004\, United States
CATEGORIES:Tapster Bellevue
ATTACH;FMTTYPE=image/webp:https://tapstertastingroom.com/wp-content/uploads/2024/06/BELLEVUE-trivia-night.webp
END:VEVENT
BEGIN:VEVENT
DTSTART;VALUE=DATE:20290307
DTEND;VALUE=DATE:20290308
DTSTAMP:20260422T220813
CREATED:20240606T163734Z
LAST-MODIFIED:20240606T163734Z
UID:10010529-1867536000-1867622399@tapstertastingroom.com
SUMMARY:Wine Wednesday Bellevue
DESCRIPTION:WINE WEDNESDAY @ Tapster Bellevue\nJust $1 an ounce for all wines on tap\nALL DAY!
URL:https://tapstertastingroom.com/event/wine-wednesday-bellevue/2029-03-07/
LOCATION:Seattle: Bellevue\, 195 106TH AVE NE BELLEVUE\, WA 98004\, Bellevue\, WA\, 98004\, United States
CATEGORIES:Tapster Bellevue
ATTACH;FMTTYPE=image/jpeg:https://tapstertastingroom.com/wp-content/uploads/2024/06/Tapster-Wine-Wednesday.jpg
END:VEVENT
BEGIN:VEVENT
DTSTART;TZID=UTC:20290307T070000
DTEND;TZID=UTC:20290307T210000
DTSTAMP:20260422T220813
CREATED:20240606T160145Z
LAST-MODIFIED:20240606T164201Z
UID:10009744-1867561200-1867611600@tapstertastingroom.com
SUMMARY:Tapster Bellevue Stir Up The Paint
DESCRIPTION:Stir Up The Paint\nTapster Bellevue\nWEDNESDAYS 7 – 9 pm\n21+ Event Only\nBook a Private Event with us
URL:https://tapstertastingroom.com/event/tapster-bellevue-stir-up-the-paint/2029-03-07/
LOCATION:Seattle: Bellevue\, 195 106TH AVE NE BELLEVUE\, WA 98004\, Bellevue\, WA\, 98004\, United States
CATEGORIES:Tapster Bellevue
ATTACH;FMTTYPE=image/jpeg:https://tapstertastingroom.com/wp-content/uploads/2024/06/Tapster-Painting-SipandPaint.jpg
END:VEVENT
BEGIN:VEVENT
DTSTART;TZID=UTC:20290313T070000
DTEND;TZID=UTC:20290313T210000
DTSTAMP:20260422T220813
CREATED:20240603T164922Z
LAST-MODIFIED:20240606T155805Z
UID:10009222-1868079600-1868130000@tapstertastingroom.com
SUMMARY:Tapster Bellevue Trivia Night
DESCRIPTION:Tapster: TRIVIA NIGHT\n\nTAPSTER EVERY TUESDAY NIGHT\n7 – 9PM\nFREE TO PLAY\nTOP 3 TEAMS GET A PRIZE
URL:https://tapstertastingroom.com/event/25377/2029-03-13/
LOCATION:Seattle: Bellevue\, 195 106TH AVE NE BELLEVUE\, WA 98004\, Bellevue\, WA\, 98004\, United States
CATEGORIES:Tapster Bellevue
ATTACH;FMTTYPE=image/webp:https://tapstertastingroom.com/wp-content/uploads/2024/06/BELLEVUE-trivia-night.webp
END:VEVENT
BEGIN:VEVENT
DTSTART;VALUE=DATE:20290314
DTEND;VALUE=DATE:20290315
DTSTAMP:20260422T220813
CREATED:20240606T163734Z
LAST-MODIFIED:20240606T163734Z
UID:10010530-1868140800-1868227199@tapstertastingroom.com
SUMMARY:Wine Wednesday Bellevue
DESCRIPTION:WINE WEDNESDAY @ Tapster Bellevue\nJust $1 an ounce for all wines on tap\nALL DAY!
URL:https://tapstertastingroom.com/event/wine-wednesday-bellevue/2029-03-14/
LOCATION:Seattle: Bellevue\, 195 106TH AVE NE BELLEVUE\, WA 98004\, Bellevue\, WA\, 98004\, United States
CATEGORIES:Tapster Bellevue
ATTACH;FMTTYPE=image/jpeg:https://tapstertastingroom.com/wp-content/uploads/2024/06/Tapster-Wine-Wednesday.jpg
END:VEVENT
BEGIN:VEVENT
DTSTART;TZID=UTC:20290314T070000
DTEND;TZID=UTC:20290314T210000
DTSTAMP:20260422T220813
CREATED:20240606T160145Z
LAST-MODIFIED:20240606T164201Z
UID:10009745-1868166000-1868216400@tapstertastingroom.com
SUMMARY:Tapster Bellevue Stir Up The Paint
DESCRIPTION:Stir Up The Paint\nTapster Bellevue\nWEDNESDAYS 7 – 9 pm\n21+ Event Only\nBook a Private Event with us
URL:https://tapstertastingroom.com/event/tapster-bellevue-stir-up-the-paint/2029-03-14/
LOCATION:Seattle: Bellevue\, 195 106TH AVE NE BELLEVUE\, WA 98004\, Bellevue\, WA\, 98004\, United States
CATEGORIES:Tapster Bellevue
ATTACH;FMTTYPE=image/jpeg:https://tapstertastingroom.com/wp-content/uploads/2024/06/Tapster-Painting-SipandPaint.jpg
END:VEVENT
BEGIN:VEVENT
DTSTART;TZID=UTC:20290320T070000
DTEND;TZID=UTC:20290320T210000
DTSTAMP:20260422T220813
CREATED:20240603T164922Z
LAST-MODIFIED:20240606T155805Z
UID:10009223-1868684400-1868734800@tapstertastingroom.com
SUMMARY:Tapster Bellevue Trivia Night
DESCRIPTION:Tapster: TRIVIA NIGHT\n\nTAPSTER EVERY TUESDAY NIGHT\n7 – 9PM\nFREE TO PLAY\nTOP 3 TEAMS GET A PRIZE
URL:https://tapstertastingroom.com/event/25377/2029-03-20/
LOCATION:Seattle: Bellevue\, 195 106TH AVE NE BELLEVUE\, WA 98004\, Bellevue\, WA\, 98004\, United States
CATEGORIES:Tapster Bellevue
ATTACH;FMTTYPE=image/webp:https://tapstertastingroom.com/wp-content/uploads/2024/06/BELLEVUE-trivia-night.webp
END:VEVENT
BEGIN:VEVENT
DTSTART;VALUE=DATE:20290321
DTEND;VALUE=DATE:20290322
DTSTAMP:20260422T220813
CREATED:20240606T163734Z
LAST-MODIFIED:20240606T163734Z
UID:10010531-1868745600-1868831999@tapstertastingroom.com
SUMMARY:Wine Wednesday Bellevue
DESCRIPTION:WINE WEDNESDAY @ Tapster Bellevue\nJust $1 an ounce for all wines on tap\nALL DAY!
URL:https://tapstertastingroom.com/event/wine-wednesday-bellevue/2029-03-21/
LOCATION:Seattle: Bellevue\, 195 106TH AVE NE BELLEVUE\, WA 98004\, Bellevue\, WA\, 98004\, United States
CATEGORIES:Tapster Bellevue
ATTACH;FMTTYPE=image/jpeg:https://tapstertastingroom.com/wp-content/uploads/2024/06/Tapster-Wine-Wednesday.jpg
END:VEVENT
BEGIN:VEVENT
DTSTART;TZID=UTC:20290321T070000
DTEND;TZID=UTC:20290321T210000
DTSTAMP:20260422T220813
CREATED:20240606T160145Z
LAST-MODIFIED:20240606T164201Z
UID:10009746-1868770800-1868821200@tapstertastingroom.com
SUMMARY:Tapster Bellevue Stir Up The Paint
DESCRIPTION:Stir Up The Paint\nTapster Bellevue\nWEDNESDAYS 7 – 9 pm\n21+ Event Only\nBook a Private Event with us
URL:https://tapstertastingroom.com/event/tapster-bellevue-stir-up-the-paint/2029-03-21/
LOCATION:Seattle: Bellevue\, 195 106TH AVE NE BELLEVUE\, WA 98004\, Bellevue\, WA\, 98004\, United States
CATEGORIES:Tapster Bellevue
ATTACH;FMTTYPE=image/jpeg:https://tapstertastingroom.com/wp-content/uploads/2024/06/Tapster-Painting-SipandPaint.jpg
END:VEVENT
BEGIN:VEVENT
DTSTART;TZID=UTC:20290327T070000
DTEND;TZID=UTC:20290327T210000
DTSTAMP:20260422T220813
CREATED:20240603T164922Z
LAST-MODIFIED:20240606T155805Z
UID:10009224-1869289200-1869339600@tapstertastingroom.com
SUMMARY:Tapster Bellevue Trivia Night
DESCRIPTION:Tapster: TRIVIA NIGHT\n\nTAPSTER EVERY TUESDAY NIGHT\n7 – 9PM\nFREE TO PLAY\nTOP 3 TEAMS GET A PRIZE
URL:https://tapstertastingroom.com/event/25377/2029-03-27/
LOCATION:Seattle: Bellevue\, 195 106TH AVE NE BELLEVUE\, WA 98004\, Bellevue\, WA\, 98004\, United States
CATEGORIES:Tapster Bellevue
ATTACH;FMTTYPE=image/webp:https://tapstertastingroom.com/wp-content/uploads/2024/06/BELLEVUE-trivia-night.webp
END:VEVENT
BEGIN:VEVENT
DTSTART;VALUE=DATE:20290328
DTEND;VALUE=DATE:20290329
DTSTAMP:20260422T220813
CREATED:20240606T163734Z
LAST-MODIFIED:20240606T163734Z
UID:10010532-1869350400-1869436799@tapstertastingroom.com
SUMMARY:Wine Wednesday Bellevue
DESCRIPTION:WINE WEDNESDAY @ Tapster Bellevue\nJust $1 an ounce for all wines on tap\nALL DAY!
URL:https://tapstertastingroom.com/event/wine-wednesday-bellevue/2029-03-28/
LOCATION:Seattle: Bellevue\, 195 106TH AVE NE BELLEVUE\, WA 98004\, Bellevue\, WA\, 98004\, United States
CATEGORIES:Tapster Bellevue
ATTACH;FMTTYPE=image/jpeg:https://tapstertastingroom.com/wp-content/uploads/2024/06/Tapster-Wine-Wednesday.jpg
END:VEVENT
BEGIN:VEVENT
DTSTART;TZID=UTC:20290328T070000
DTEND;TZID=UTC:20290328T210000
DTSTAMP:20260422T220813
CREATED:20240606T160145Z
LAST-MODIFIED:20240606T164201Z
UID:10009747-1869375600-1869426000@tapstertastingroom.com
SUMMARY:Tapster Bellevue Stir Up The Paint
DESCRIPTION:Stir Up The Paint\nTapster Bellevue\nWEDNESDAYS 7 – 9 pm\n21+ Event Only\nBook a Private Event with us
URL:https://tapstertastingroom.com/event/tapster-bellevue-stir-up-the-paint/2029-03-28/
LOCATION:Seattle: Bellevue\, 195 106TH AVE NE BELLEVUE\, WA 98004\, Bellevue\, WA\, 98004\, United States
CATEGORIES:Tapster Bellevue
ATTACH;FMTTYPE=image/jpeg:https://tapstertastingroom.com/wp-content/uploads/2024/06/Tapster-Painting-SipandPaint.jpg
END:VEVENT
END:VCALENDAR