BEGIN:VCALENDAR
VERSION:2.0
PRODID:-//Tapster - ECPv6.6.3//NONSGML v1.0//EN
CALSCALE:GREGORIAN
METHOD:PUBLISH
X-WR-CALNAME:Tapster
X-ORIGINAL-URL:https://tapstertastingroom.com
X-WR-CALDESC:Events for Tapster
REFRESH-INTERVAL;VALUE=DURATION:PT1H
X-Robots-Tag:noindex
X-PUBLISHED-TTL:PT1H
BEGIN:VTIMEZONE
TZID:UTC
BEGIN:STANDARD
TZOFFSETFROM:+0000
TZOFFSETTO:+0000
TZNAME:UTC
DTSTART:20240101T000000
END:STANDARD
END:VTIMEZONE
BEGIN:VEVENT
DTSTART;TZID=UTC:20241105T070000
DTEND;TZID=UTC:20241105T210000
DTSTAMP:20260419T191635
CREATED:20240603T164922Z
LAST-MODIFIED:20240606T155805Z
UID:10008995-1730790000-1730840400@tapstertastingroom.com
SUMMARY:Tapster Bellevue Trivia Night
DESCRIPTION:Tapster: TRIVIA NIGHT\n\nTAPSTER EVERY TUESDAY NIGHT\n7 – 9PM\nFREE TO PLAY\nTOP 3 TEAMS GET A PRIZE
URL:https://tapstertastingroom.com/event/25377/2024-11-05/
LOCATION:Seattle: Bellevue\, 195 106TH AVE NE BELLEVUE\, WA 98004\, Bellevue\, WA\, 98004\, United States
CATEGORIES:Tapster Bellevue
ATTACH;FMTTYPE=image/webp:https://tapstertastingroom.com/wp-content/uploads/2024/06/BELLEVUE-trivia-night.webp
END:VEVENT
BEGIN:VEVENT
DTSTART;VALUE=DATE:20241106
DTEND;VALUE=DATE:20241107
DTSTAMP:20260419T191635
CREATED:20240606T163734Z
LAST-MODIFIED:20240606T163734Z
UID:10010303-1730851200-1730937599@tapstertastingroom.com
SUMMARY:Wine Wednesday Bellevue
DESCRIPTION:WINE WEDNESDAY @ Tapster Bellevue\nJust $1 an ounce for all wines on tap\nALL DAY!
URL:https://tapstertastingroom.com/event/wine-wednesday-bellevue/2024-11-06/
LOCATION:Seattle: Bellevue\, 195 106TH AVE NE BELLEVUE\, WA 98004\, Bellevue\, WA\, 98004\, United States
CATEGORIES:Tapster Bellevue
ATTACH;FMTTYPE=image/jpeg:https://tapstertastingroom.com/wp-content/uploads/2024/06/Tapster-Wine-Wednesday.jpg
END:VEVENT
BEGIN:VEVENT
DTSTART;TZID=UTC:20241106T070000
DTEND;TZID=UTC:20241106T210000
DTSTAMP:20260419T191635
CREATED:20240606T160145Z
LAST-MODIFIED:20240606T164201Z
UID:10009518-1730876400-1730926800@tapstertastingroom.com
SUMMARY:Tapster Bellevue Stir Up The Paint
DESCRIPTION:Stir Up The Paint\nTapster Bellevue\nWEDNESDAYS 7 – 9 pm\n21+ Event Only\nBook a Private Event with us
URL:https://tapstertastingroom.com/event/tapster-bellevue-stir-up-the-paint/2024-11-06/
LOCATION:Seattle: Bellevue\, 195 106TH AVE NE BELLEVUE\, WA 98004\, Bellevue\, WA\, 98004\, United States
CATEGORIES:Tapster Bellevue
ATTACH;FMTTYPE=image/jpeg:https://tapstertastingroom.com/wp-content/uploads/2024/06/Tapster-Painting-SipandPaint.jpg
END:VEVENT
BEGIN:VEVENT
DTSTART;TZID=UTC:20241112T070000
DTEND;TZID=UTC:20241112T210000
DTSTAMP:20260419T191635
CREATED:20240603T164922Z
LAST-MODIFIED:20240606T155805Z
UID:10008996-1731394800-1731445200@tapstertastingroom.com
SUMMARY:Tapster Bellevue Trivia Night
DESCRIPTION:Tapster: TRIVIA NIGHT\n\nTAPSTER EVERY TUESDAY NIGHT\n7 – 9PM\nFREE TO PLAY\nTOP 3 TEAMS GET A PRIZE
URL:https://tapstertastingroom.com/event/25377/2024-11-12/
LOCATION:Seattle: Bellevue\, 195 106TH AVE NE BELLEVUE\, WA 98004\, Bellevue\, WA\, 98004\, United States
CATEGORIES:Tapster Bellevue
ATTACH;FMTTYPE=image/webp:https://tapstertastingroom.com/wp-content/uploads/2024/06/BELLEVUE-trivia-night.webp
END:VEVENT
BEGIN:VEVENT
DTSTART;VALUE=DATE:20241113
DTEND;VALUE=DATE:20241114
DTSTAMP:20260419T191635
CREATED:20240606T163734Z
LAST-MODIFIED:20240606T163734Z
UID:10010304-1731456000-1731542399@tapstertastingroom.com
SUMMARY:Wine Wednesday Bellevue
DESCRIPTION:WINE WEDNESDAY @ Tapster Bellevue\nJust $1 an ounce for all wines on tap\nALL DAY!
URL:https://tapstertastingroom.com/event/wine-wednesday-bellevue/2024-11-13/
LOCATION:Seattle: Bellevue\, 195 106TH AVE NE BELLEVUE\, WA 98004\, Bellevue\, WA\, 98004\, United States
CATEGORIES:Tapster Bellevue
ATTACH;FMTTYPE=image/jpeg:https://tapstertastingroom.com/wp-content/uploads/2024/06/Tapster-Wine-Wednesday.jpg
END:VEVENT
BEGIN:VEVENT
DTSTART;TZID=UTC:20241113T070000
DTEND;TZID=UTC:20241113T210000
DTSTAMP:20260419T191635
CREATED:20240606T160145Z
LAST-MODIFIED:20240606T164201Z
UID:10009519-1731481200-1731531600@tapstertastingroom.com
SUMMARY:Tapster Bellevue Stir Up The Paint
DESCRIPTION:Stir Up The Paint\nTapster Bellevue\nWEDNESDAYS 7 – 9 pm\n21+ Event Only\nBook a Private Event with us
URL:https://tapstertastingroom.com/event/tapster-bellevue-stir-up-the-paint/2024-11-13/
LOCATION:Seattle: Bellevue\, 195 106TH AVE NE BELLEVUE\, WA 98004\, Bellevue\, WA\, 98004\, United States
CATEGORIES:Tapster Bellevue
ATTACH;FMTTYPE=image/jpeg:https://tapstertastingroom.com/wp-content/uploads/2024/06/Tapster-Painting-SipandPaint.jpg
END:VEVENT
BEGIN:VEVENT
DTSTART;TZID=UTC:20241119T070000
DTEND;TZID=UTC:20241119T210000
DTSTAMP:20260419T191635
CREATED:20240603T164922Z
LAST-MODIFIED:20240606T155805Z
UID:10008997-1731999600-1732050000@tapstertastingroom.com
SUMMARY:Tapster Bellevue Trivia Night
DESCRIPTION:Tapster: TRIVIA NIGHT\n\nTAPSTER EVERY TUESDAY NIGHT\n7 – 9PM\nFREE TO PLAY\nTOP 3 TEAMS GET A PRIZE
URL:https://tapstertastingroom.com/event/25377/2024-11-19/
LOCATION:Seattle: Bellevue\, 195 106TH AVE NE BELLEVUE\, WA 98004\, Bellevue\, WA\, 98004\, United States
CATEGORIES:Tapster Bellevue
ATTACH;FMTTYPE=image/webp:https://tapstertastingroom.com/wp-content/uploads/2024/06/BELLEVUE-trivia-night.webp
END:VEVENT
BEGIN:VEVENT
DTSTART;VALUE=DATE:20241120
DTEND;VALUE=DATE:20241121
DTSTAMP:20260419T191635
CREATED:20240606T163734Z
LAST-MODIFIED:20240606T163734Z
UID:10010305-1732060800-1732147199@tapstertastingroom.com
SUMMARY:Wine Wednesday Bellevue
DESCRIPTION:WINE WEDNESDAY @ Tapster Bellevue\nJust $1 an ounce for all wines on tap\nALL DAY!
URL:https://tapstertastingroom.com/event/wine-wednesday-bellevue/2024-11-20/
LOCATION:Seattle: Bellevue\, 195 106TH AVE NE BELLEVUE\, WA 98004\, Bellevue\, WA\, 98004\, United States
CATEGORIES:Tapster Bellevue
ATTACH;FMTTYPE=image/jpeg:https://tapstertastingroom.com/wp-content/uploads/2024/06/Tapster-Wine-Wednesday.jpg
END:VEVENT
BEGIN:VEVENT
DTSTART;TZID=UTC:20241120T070000
DTEND;TZID=UTC:20241120T210000
DTSTAMP:20260419T191635
CREATED:20240606T160145Z
LAST-MODIFIED:20240606T164201Z
UID:10009520-1732086000-1732136400@tapstertastingroom.com
SUMMARY:Tapster Bellevue Stir Up The Paint
DESCRIPTION:Stir Up The Paint\nTapster Bellevue\nWEDNESDAYS 7 – 9 pm\n21+ Event Only\nBook a Private Event with us
URL:https://tapstertastingroom.com/event/tapster-bellevue-stir-up-the-paint/2024-11-20/
LOCATION:Seattle: Bellevue\, 195 106TH AVE NE BELLEVUE\, WA 98004\, Bellevue\, WA\, 98004\, United States
CATEGORIES:Tapster Bellevue
ATTACH;FMTTYPE=image/jpeg:https://tapstertastingroom.com/wp-content/uploads/2024/06/Tapster-Painting-SipandPaint.jpg
END:VEVENT
BEGIN:VEVENT
DTSTART;TZID=UTC:20241126T070000
DTEND;TZID=UTC:20241126T210000
DTSTAMP:20260419T191635
CREATED:20240603T164922Z
LAST-MODIFIED:20240606T155805Z
UID:10008998-1732604400-1732654800@tapstertastingroom.com
SUMMARY:Tapster Bellevue Trivia Night
DESCRIPTION:Tapster: TRIVIA NIGHT\n\nTAPSTER EVERY TUESDAY NIGHT\n7 – 9PM\nFREE TO PLAY\nTOP 3 TEAMS GET A PRIZE
URL:https://tapstertastingroom.com/event/25377/2024-11-26/
LOCATION:Seattle: Bellevue\, 195 106TH AVE NE BELLEVUE\, WA 98004\, Bellevue\, WA\, 98004\, United States
CATEGORIES:Tapster Bellevue
ATTACH;FMTTYPE=image/webp:https://tapstertastingroom.com/wp-content/uploads/2024/06/BELLEVUE-trivia-night.webp
END:VEVENT
BEGIN:VEVENT
DTSTART;VALUE=DATE:20241127
DTEND;VALUE=DATE:20241128
DTSTAMP:20260419T191635
CREATED:20240606T163734Z
LAST-MODIFIED:20240606T163734Z
UID:10010306-1732665600-1732751999@tapstertastingroom.com
SUMMARY:Wine Wednesday Bellevue
DESCRIPTION:WINE WEDNESDAY @ Tapster Bellevue\nJust $1 an ounce for all wines on tap\nALL DAY!
URL:https://tapstertastingroom.com/event/wine-wednesday-bellevue/2024-11-27/
LOCATION:Seattle: Bellevue\, 195 106TH AVE NE BELLEVUE\, WA 98004\, Bellevue\, WA\, 98004\, United States
CATEGORIES:Tapster Bellevue
ATTACH;FMTTYPE=image/jpeg:https://tapstertastingroom.com/wp-content/uploads/2024/06/Tapster-Wine-Wednesday.jpg
END:VEVENT
BEGIN:VEVENT
DTSTART;TZID=UTC:20241127T070000
DTEND;TZID=UTC:20241127T210000
DTSTAMP:20260419T191635
CREATED:20240606T160145Z
LAST-MODIFIED:20240606T164201Z
UID:10009521-1732690800-1732741200@tapstertastingroom.com
SUMMARY:Tapster Bellevue Stir Up The Paint
DESCRIPTION:Stir Up The Paint\nTapster Bellevue\nWEDNESDAYS 7 – 9 pm\n21+ Event Only\nBook a Private Event with us
URL:https://tapstertastingroom.com/event/tapster-bellevue-stir-up-the-paint/2024-11-27/
LOCATION:Seattle: Bellevue\, 195 106TH AVE NE BELLEVUE\, WA 98004\, Bellevue\, WA\, 98004\, United States
CATEGORIES:Tapster Bellevue
ATTACH;FMTTYPE=image/jpeg:https://tapstertastingroom.com/wp-content/uploads/2024/06/Tapster-Painting-SipandPaint.jpg
END:VEVENT
END:VCALENDAR