BEGIN:VCALENDAR
VERSION:2.0
PRODID:-//Tapster - ECPv6.6.3//NONSGML v1.0//EN
CALSCALE:GREGORIAN
METHOD:PUBLISH
X-ORIGINAL-URL:https://tapstertastingroom.com
X-WR-CALDESC:Events for Tapster
REFRESH-INTERVAL;VALUE=DURATION:PT1H
X-Robots-Tag:noindex
X-PUBLISHED-TTL:PT1H
BEGIN:VTIMEZONE
TZID:UTC
BEGIN:STANDARD
TZOFFSETFROM:+0000
TZOFFSETTO:+0000
TZNAME:UTC
DTSTART:20240101T000000
END:STANDARD
END:VTIMEZONE
BEGIN:VEVENT
DTSTART;TZID=UTC:20241001T070000
DTEND;TZID=UTC:20241001T210000
DTSTAMP:20260420T033727
CREATED:20240603T164922Z
LAST-MODIFIED:20240606T155805Z
UID:10008990-1727766000-1727816400@tapstertastingroom.com
SUMMARY:Tapster Bellevue Trivia Night
DESCRIPTION:Tapster: TRIVIA NIGHT\n\nTAPSTER EVERY TUESDAY NIGHT\n7 – 9PM\nFREE TO PLAY\nTOP 3 TEAMS GET A PRIZE
URL:https://tapstertastingroom.com/event/25377/2024-10-01/
LOCATION:Seattle: Bellevue\, 195 106TH AVE NE BELLEVUE\, WA 98004\, Bellevue\, WA\, 98004\, United States
CATEGORIES:Tapster Bellevue
ATTACH;FMTTYPE=image/webp:https://tapstertastingroom.com/wp-content/uploads/2024/06/BELLEVUE-trivia-night.webp
END:VEVENT
BEGIN:VEVENT
DTSTART;VALUE=DATE:20241002
DTEND;VALUE=DATE:20241003
DTSTAMP:20260420T033727
CREATED:20240606T163734Z
LAST-MODIFIED:20240606T163734Z
UID:10010298-1727827200-1727913599@tapstertastingroom.com
SUMMARY:Wine Wednesday Bellevue
DESCRIPTION:WINE WEDNESDAY @ Tapster Bellevue\nJust $1 an ounce for all wines on tap\nALL DAY!
URL:https://tapstertastingroom.com/event/wine-wednesday-bellevue/2024-10-02/
LOCATION:Seattle: Bellevue\, 195 106TH AVE NE BELLEVUE\, WA 98004\, Bellevue\, WA\, 98004\, United States
CATEGORIES:Tapster Bellevue
ATTACH;FMTTYPE=image/jpeg:https://tapstertastingroom.com/wp-content/uploads/2024/06/Tapster-Wine-Wednesday.jpg
END:VEVENT
BEGIN:VEVENT
DTSTART;TZID=UTC:20241002T070000
DTEND;TZID=UTC:20241002T210000
DTSTAMP:20260420T033727
CREATED:20240606T160145Z
LAST-MODIFIED:20240606T164201Z
UID:10009513-1727852400-1727902800@tapstertastingroom.com
SUMMARY:Tapster Bellevue Stir Up The Paint
DESCRIPTION:Stir Up The Paint\nTapster Bellevue\nWEDNESDAYS 7 – 9 pm\n21+ Event Only\nBook a Private Event with us
URL:https://tapstertastingroom.com/event/tapster-bellevue-stir-up-the-paint/2024-10-02/
LOCATION:Seattle: Bellevue\, 195 106TH AVE NE BELLEVUE\, WA 98004\, Bellevue\, WA\, 98004\, United States
CATEGORIES:Tapster Bellevue
ATTACH;FMTTYPE=image/jpeg:https://tapstertastingroom.com/wp-content/uploads/2024/06/Tapster-Painting-SipandPaint.jpg
END:VEVENT
BEGIN:VEVENT
DTSTART;TZID=UTC:20241008T070000
DTEND;TZID=UTC:20241008T210000
DTSTAMP:20260420T033727
CREATED:20240603T164922Z
LAST-MODIFIED:20240606T155805Z
UID:10008991-1728370800-1728421200@tapstertastingroom.com
SUMMARY:Tapster Bellevue Trivia Night
DESCRIPTION:Tapster: TRIVIA NIGHT\n\nTAPSTER EVERY TUESDAY NIGHT\n7 – 9PM\nFREE TO PLAY\nTOP 3 TEAMS GET A PRIZE
URL:https://tapstertastingroom.com/event/25377/2024-10-08/
LOCATION:Seattle: Bellevue\, 195 106TH AVE NE BELLEVUE\, WA 98004\, Bellevue\, WA\, 98004\, United States
CATEGORIES:Tapster Bellevue
ATTACH;FMTTYPE=image/webp:https://tapstertastingroom.com/wp-content/uploads/2024/06/BELLEVUE-trivia-night.webp
END:VEVENT
BEGIN:VEVENT
DTSTART;VALUE=DATE:20241009
DTEND;VALUE=DATE:20241010
DTSTAMP:20260420T033727
CREATED:20240606T163734Z
LAST-MODIFIED:20240606T163734Z
UID:10010299-1728432000-1728518399@tapstertastingroom.com
SUMMARY:Wine Wednesday Bellevue
DESCRIPTION:WINE WEDNESDAY @ Tapster Bellevue\nJust $1 an ounce for all wines on tap\nALL DAY!
URL:https://tapstertastingroom.com/event/wine-wednesday-bellevue/2024-10-09/
LOCATION:Seattle: Bellevue\, 195 106TH AVE NE BELLEVUE\, WA 98004\, Bellevue\, WA\, 98004\, United States
CATEGORIES:Tapster Bellevue
ATTACH;FMTTYPE=image/jpeg:https://tapstertastingroom.com/wp-content/uploads/2024/06/Tapster-Wine-Wednesday.jpg
END:VEVENT
BEGIN:VEVENT
DTSTART;TZID=UTC:20241009T070000
DTEND;TZID=UTC:20241009T210000
DTSTAMP:20260420T033727
CREATED:20240606T160145Z
LAST-MODIFIED:20240606T164201Z
UID:10009514-1728457200-1728507600@tapstertastingroom.com
SUMMARY:Tapster Bellevue Stir Up The Paint
DESCRIPTION:Stir Up The Paint\nTapster Bellevue\nWEDNESDAYS 7 – 9 pm\n21+ Event Only\nBook a Private Event with us
URL:https://tapstertastingroom.com/event/tapster-bellevue-stir-up-the-paint/2024-10-09/
LOCATION:Seattle: Bellevue\, 195 106TH AVE NE BELLEVUE\, WA 98004\, Bellevue\, WA\, 98004\, United States
CATEGORIES:Tapster Bellevue
ATTACH;FMTTYPE=image/jpeg:https://tapstertastingroom.com/wp-content/uploads/2024/06/Tapster-Painting-SipandPaint.jpg
END:VEVENT
BEGIN:VEVENT
DTSTART;TZID=UTC:20241015T070000
DTEND;TZID=UTC:20241015T210000
DTSTAMP:20260420T033727
CREATED:20240603T164922Z
LAST-MODIFIED:20240606T155805Z
UID:10008992-1728975600-1729026000@tapstertastingroom.com
SUMMARY:Tapster Bellevue Trivia Night
DESCRIPTION:Tapster: TRIVIA NIGHT\n\nTAPSTER EVERY TUESDAY NIGHT\n7 – 9PM\nFREE TO PLAY\nTOP 3 TEAMS GET A PRIZE
URL:https://tapstertastingroom.com/event/25377/2024-10-15/
LOCATION:Seattle: Bellevue\, 195 106TH AVE NE BELLEVUE\, WA 98004\, Bellevue\, WA\, 98004\, United States
CATEGORIES:Tapster Bellevue
ATTACH;FMTTYPE=image/webp:https://tapstertastingroom.com/wp-content/uploads/2024/06/BELLEVUE-trivia-night.webp
END:VEVENT
BEGIN:VEVENT
DTSTART;VALUE=DATE:20241016
DTEND;VALUE=DATE:20241017
DTSTAMP:20260420T033727
CREATED:20240606T163734Z
LAST-MODIFIED:20240606T163734Z
UID:10010300-1729036800-1729123199@tapstertastingroom.com
SUMMARY:Wine Wednesday Bellevue
DESCRIPTION:WINE WEDNESDAY @ Tapster Bellevue\nJust $1 an ounce for all wines on tap\nALL DAY!
URL:https://tapstertastingroom.com/event/wine-wednesday-bellevue/2024-10-16/
LOCATION:Seattle: Bellevue\, 195 106TH AVE NE BELLEVUE\, WA 98004\, Bellevue\, WA\, 98004\, United States
CATEGORIES:Tapster Bellevue
ATTACH;FMTTYPE=image/jpeg:https://tapstertastingroom.com/wp-content/uploads/2024/06/Tapster-Wine-Wednesday.jpg
END:VEVENT
BEGIN:VEVENT
DTSTART;TZID=UTC:20241016T070000
DTEND;TZID=UTC:20241016T210000
DTSTAMP:20260420T033727
CREATED:20240606T160145Z
LAST-MODIFIED:20240606T164201Z
UID:10009515-1729062000-1729112400@tapstertastingroom.com
SUMMARY:Tapster Bellevue Stir Up The Paint
DESCRIPTION:Stir Up The Paint\nTapster Bellevue\nWEDNESDAYS 7 – 9 pm\n21+ Event Only\nBook a Private Event with us
URL:https://tapstertastingroom.com/event/tapster-bellevue-stir-up-the-paint/2024-10-16/
LOCATION:Seattle: Bellevue\, 195 106TH AVE NE BELLEVUE\, WA 98004\, Bellevue\, WA\, 98004\, United States
CATEGORIES:Tapster Bellevue
ATTACH;FMTTYPE=image/jpeg:https://tapstertastingroom.com/wp-content/uploads/2024/06/Tapster-Painting-SipandPaint.jpg
END:VEVENT
BEGIN:VEVENT
DTSTART;TZID=UTC:20241022T070000
DTEND;TZID=UTC:20241022T210000
DTSTAMP:20260420T033727
CREATED:20240603T164922Z
LAST-MODIFIED:20240606T155805Z
UID:10008993-1729580400-1729630800@tapstertastingroom.com
SUMMARY:Tapster Bellevue Trivia Night
DESCRIPTION:Tapster: TRIVIA NIGHT\n\nTAPSTER EVERY TUESDAY NIGHT\n7 – 9PM\nFREE TO PLAY\nTOP 3 TEAMS GET A PRIZE
URL:https://tapstertastingroom.com/event/25377/2024-10-22/
LOCATION:Seattle: Bellevue\, 195 106TH AVE NE BELLEVUE\, WA 98004\, Bellevue\, WA\, 98004\, United States
CATEGORIES:Tapster Bellevue
ATTACH;FMTTYPE=image/webp:https://tapstertastingroom.com/wp-content/uploads/2024/06/BELLEVUE-trivia-night.webp
END:VEVENT
BEGIN:VEVENT
DTSTART;VALUE=DATE:20241023
DTEND;VALUE=DATE:20241024
DTSTAMP:20260420T033727
CREATED:20240606T163734Z
LAST-MODIFIED:20240606T163734Z
UID:10010301-1729641600-1729727999@tapstertastingroom.com
SUMMARY:Wine Wednesday Bellevue
DESCRIPTION:WINE WEDNESDAY @ Tapster Bellevue\nJust $1 an ounce for all wines on tap\nALL DAY!
URL:https://tapstertastingroom.com/event/wine-wednesday-bellevue/2024-10-23/
LOCATION:Seattle: Bellevue\, 195 106TH AVE NE BELLEVUE\, WA 98004\, Bellevue\, WA\, 98004\, United States
CATEGORIES:Tapster Bellevue
ATTACH;FMTTYPE=image/jpeg:https://tapstertastingroom.com/wp-content/uploads/2024/06/Tapster-Wine-Wednesday.jpg
END:VEVENT
BEGIN:VEVENT
DTSTART;TZID=UTC:20241023T070000
DTEND;TZID=UTC:20241023T210000
DTSTAMP:20260420T033727
CREATED:20240606T160145Z
LAST-MODIFIED:20240606T164201Z
UID:10009516-1729666800-1729717200@tapstertastingroom.com
SUMMARY:Tapster Bellevue Stir Up The Paint
DESCRIPTION:Stir Up The Paint\nTapster Bellevue\nWEDNESDAYS 7 – 9 pm\n21+ Event Only\nBook a Private Event with us
URL:https://tapstertastingroom.com/event/tapster-bellevue-stir-up-the-paint/2024-10-23/
LOCATION:Seattle: Bellevue\, 195 106TH AVE NE BELLEVUE\, WA 98004\, Bellevue\, WA\, 98004\, United States
CATEGORIES:Tapster Bellevue
ATTACH;FMTTYPE=image/jpeg:https://tapstertastingroom.com/wp-content/uploads/2024/06/Tapster-Painting-SipandPaint.jpg
END:VEVENT
BEGIN:VEVENT
DTSTART;TZID=UTC:20241029T070000
DTEND;TZID=UTC:20241029T210000
DTSTAMP:20260420T033727
CREATED:20240603T164922Z
LAST-MODIFIED:20240606T155805Z
UID:10008994-1730185200-1730235600@tapstertastingroom.com
SUMMARY:Tapster Bellevue Trivia Night
DESCRIPTION:Tapster: TRIVIA NIGHT\n\nTAPSTER EVERY TUESDAY NIGHT\n7 – 9PM\nFREE TO PLAY\nTOP 3 TEAMS GET A PRIZE
URL:https://tapstertastingroom.com/event/25377/2024-10-29/
LOCATION:Seattle: Bellevue\, 195 106TH AVE NE BELLEVUE\, WA 98004\, Bellevue\, WA\, 98004\, United States
CATEGORIES:Tapster Bellevue
ATTACH;FMTTYPE=image/webp:https://tapstertastingroom.com/wp-content/uploads/2024/06/BELLEVUE-trivia-night.webp
END:VEVENT
BEGIN:VEVENT
DTSTART;VALUE=DATE:20241030
DTEND;VALUE=DATE:20241031
DTSTAMP:20260420T033727
CREATED:20240606T163734Z
LAST-MODIFIED:20240606T163734Z
UID:10010302-1730246400-1730332799@tapstertastingroom.com
SUMMARY:Wine Wednesday Bellevue
DESCRIPTION:WINE WEDNESDAY @ Tapster Bellevue\nJust $1 an ounce for all wines on tap\nALL DAY!
URL:https://tapstertastingroom.com/event/wine-wednesday-bellevue/2024-10-30/
LOCATION:Seattle: Bellevue\, 195 106TH AVE NE BELLEVUE\, WA 98004\, Bellevue\, WA\, 98004\, United States
CATEGORIES:Tapster Bellevue
ATTACH;FMTTYPE=image/jpeg:https://tapstertastingroom.com/wp-content/uploads/2024/06/Tapster-Wine-Wednesday.jpg
END:VEVENT
BEGIN:VEVENT
DTSTART;TZID=UTC:20241030T070000
DTEND;TZID=UTC:20241030T210000
DTSTAMP:20260420T033727
CREATED:20240606T160145Z
LAST-MODIFIED:20240606T164201Z
UID:10009517-1730271600-1730322000@tapstertastingroom.com
SUMMARY:Tapster Bellevue Stir Up The Paint
DESCRIPTION:Stir Up The Paint\nTapster Bellevue\nWEDNESDAYS 7 – 9 pm\n21+ Event Only\nBook a Private Event with us
URL:https://tapstertastingroom.com/event/tapster-bellevue-stir-up-the-paint/2024-10-30/
LOCATION:Seattle: Bellevue\, 195 106TH AVE NE BELLEVUE\, WA 98004\, Bellevue\, WA\, 98004\, United States
CATEGORIES:Tapster Bellevue
ATTACH;FMTTYPE=image/jpeg:https://tapstertastingroom.com/wp-content/uploads/2024/06/Tapster-Painting-SipandPaint.jpg
END:VEVENT
END:VCALENDAR