BEGIN:VCALENDAR
VERSION:2.0
PRODID:-//Tapster - ECPv6.6.3//NONSGML v1.0//EN
CALSCALE:GREGORIAN
METHOD:PUBLISH
X-ORIGINAL-URL:https://tapstertastingroom.com
X-WR-CALDESC:Events for Tapster
REFRESH-INTERVAL;VALUE=DURATION:PT1H
X-Robots-Tag:noindex
X-PUBLISHED-TTL:PT1H
BEGIN:VTIMEZONE
TZID:UTC
BEGIN:STANDARD
TZOFFSETFROM:+0000
TZOFFSETTO:+0000
TZNAME:UTC
DTSTART:20240101T000000
END:STANDARD
END:VTIMEZONE
BEGIN:VEVENT
DTSTART;TZID=UTC:20240806T070000
DTEND;TZID=UTC:20240806T210000
DTSTAMP:20260420T162039
CREATED:20240603T164922Z
LAST-MODIFIED:20240606T155805Z
UID:10008982-1722927600-1722978000@tapstertastingroom.com
SUMMARY:Tapster Bellevue Trivia Night
DESCRIPTION:Tapster: TRIVIA NIGHT\n\nTAPSTER EVERY TUESDAY NIGHT\n7 – 9PM\nFREE TO PLAY\nTOP 3 TEAMS GET A PRIZE
URL:https://tapstertastingroom.com/event/25377/2024-08-06/
LOCATION:Seattle: Bellevue\, 195 106TH AVE NE BELLEVUE\, WA 98004\, Bellevue\, WA\, 98004\, United States
CATEGORIES:Tapster Bellevue
ATTACH;FMTTYPE=image/webp:https://tapstertastingroom.com/wp-content/uploads/2024/06/BELLEVUE-trivia-night.webp
END:VEVENT
BEGIN:VEVENT
DTSTART;VALUE=DATE:20240807
DTEND;VALUE=DATE:20240808
DTSTAMP:20260420T162039
CREATED:20240606T163734Z
LAST-MODIFIED:20240606T163734Z
UID:10010290-1722988800-1723075199@tapstertastingroom.com
SUMMARY:Wine Wednesday Bellevue
DESCRIPTION:WINE WEDNESDAY @ Tapster Bellevue\nJust $1 an ounce for all wines on tap\nALL DAY!
URL:https://tapstertastingroom.com/event/wine-wednesday-bellevue/2024-08-07/
LOCATION:Seattle: Bellevue\, 195 106TH AVE NE BELLEVUE\, WA 98004\, Bellevue\, WA\, 98004\, United States
CATEGORIES:Tapster Bellevue
ATTACH;FMTTYPE=image/jpeg:https://tapstertastingroom.com/wp-content/uploads/2024/06/Tapster-Wine-Wednesday.jpg
END:VEVENT
BEGIN:VEVENT
DTSTART;TZID=UTC:20240807T070000
DTEND;TZID=UTC:20240807T210000
DTSTAMP:20260420T162039
CREATED:20240606T160145Z
LAST-MODIFIED:20240606T164201Z
UID:10009505-1723014000-1723064400@tapstertastingroom.com
SUMMARY:Tapster Bellevue Stir Up The Paint
DESCRIPTION:Stir Up The Paint\nTapster Bellevue\nWEDNESDAYS 7 – 9 pm\n21+ Event Only\nBook a Private Event with us
URL:https://tapstertastingroom.com/event/tapster-bellevue-stir-up-the-paint/2024-08-07/
LOCATION:Seattle: Bellevue\, 195 106TH AVE NE BELLEVUE\, WA 98004\, Bellevue\, WA\, 98004\, United States
CATEGORIES:Tapster Bellevue
ATTACH;FMTTYPE=image/jpeg:https://tapstertastingroom.com/wp-content/uploads/2024/06/Tapster-Painting-SipandPaint.jpg
END:VEVENT
BEGIN:VEVENT
DTSTART;TZID=UTC:20240813T070000
DTEND;TZID=UTC:20240813T210000
DTSTAMP:20260420T162039
CREATED:20240603T164922Z
LAST-MODIFIED:20240606T155805Z
UID:10008983-1723532400-1723582800@tapstertastingroom.com
SUMMARY:Tapster Bellevue Trivia Night
DESCRIPTION:Tapster: TRIVIA NIGHT\n\nTAPSTER EVERY TUESDAY NIGHT\n7 – 9PM\nFREE TO PLAY\nTOP 3 TEAMS GET A PRIZE
URL:https://tapstertastingroom.com/event/25377/2024-08-13/
LOCATION:Seattle: Bellevue\, 195 106TH AVE NE BELLEVUE\, WA 98004\, Bellevue\, WA\, 98004\, United States
CATEGORIES:Tapster Bellevue
ATTACH;FMTTYPE=image/webp:https://tapstertastingroom.com/wp-content/uploads/2024/06/BELLEVUE-trivia-night.webp
END:VEVENT
BEGIN:VEVENT
DTSTART;VALUE=DATE:20240814
DTEND;VALUE=DATE:20240815
DTSTAMP:20260420T162039
CREATED:20240606T163734Z
LAST-MODIFIED:20240606T163734Z
UID:10010291-1723593600-1723679999@tapstertastingroom.com
SUMMARY:Wine Wednesday Bellevue
DESCRIPTION:WINE WEDNESDAY @ Tapster Bellevue\nJust $1 an ounce for all wines on tap\nALL DAY!
URL:https://tapstertastingroom.com/event/wine-wednesday-bellevue/2024-08-14/
LOCATION:Seattle: Bellevue\, 195 106TH AVE NE BELLEVUE\, WA 98004\, Bellevue\, WA\, 98004\, United States
CATEGORIES:Tapster Bellevue
ATTACH;FMTTYPE=image/jpeg:https://tapstertastingroom.com/wp-content/uploads/2024/06/Tapster-Wine-Wednesday.jpg
END:VEVENT
BEGIN:VEVENT
DTSTART;TZID=UTC:20240814T070000
DTEND;TZID=UTC:20240814T210000
DTSTAMP:20260420T162039
CREATED:20240606T160145Z
LAST-MODIFIED:20240606T164201Z
UID:10009506-1723618800-1723669200@tapstertastingroom.com
SUMMARY:Tapster Bellevue Stir Up The Paint
DESCRIPTION:Stir Up The Paint\nTapster Bellevue\nWEDNESDAYS 7 – 9 pm\n21+ Event Only\nBook a Private Event with us
URL:https://tapstertastingroom.com/event/tapster-bellevue-stir-up-the-paint/2024-08-14/
LOCATION:Seattle: Bellevue\, 195 106TH AVE NE BELLEVUE\, WA 98004\, Bellevue\, WA\, 98004\, United States
CATEGORIES:Tapster Bellevue
ATTACH;FMTTYPE=image/jpeg:https://tapstertastingroom.com/wp-content/uploads/2024/06/Tapster-Painting-SipandPaint.jpg
END:VEVENT
BEGIN:VEVENT
DTSTART;TZID=UTC:20240820T070000
DTEND;TZID=UTC:20240820T210000
DTSTAMP:20260420T162039
CREATED:20240603T164922Z
LAST-MODIFIED:20240606T155805Z
UID:10008984-1724137200-1724187600@tapstertastingroom.com
SUMMARY:Tapster Bellevue Trivia Night
DESCRIPTION:Tapster: TRIVIA NIGHT\n\nTAPSTER EVERY TUESDAY NIGHT\n7 – 9PM\nFREE TO PLAY\nTOP 3 TEAMS GET A PRIZE
URL:https://tapstertastingroom.com/event/25377/2024-08-20/
LOCATION:Seattle: Bellevue\, 195 106TH AVE NE BELLEVUE\, WA 98004\, Bellevue\, WA\, 98004\, United States
CATEGORIES:Tapster Bellevue
ATTACH;FMTTYPE=image/webp:https://tapstertastingroom.com/wp-content/uploads/2024/06/BELLEVUE-trivia-night.webp
END:VEVENT
BEGIN:VEVENT
DTSTART;VALUE=DATE:20240821
DTEND;VALUE=DATE:20240822
DTSTAMP:20260420T162039
CREATED:20240606T163734Z
LAST-MODIFIED:20240606T163734Z
UID:10010292-1724198400-1724284799@tapstertastingroom.com
SUMMARY:Wine Wednesday Bellevue
DESCRIPTION:WINE WEDNESDAY @ Tapster Bellevue\nJust $1 an ounce for all wines on tap\nALL DAY!
URL:https://tapstertastingroom.com/event/wine-wednesday-bellevue/2024-08-21/
LOCATION:Seattle: Bellevue\, 195 106TH AVE NE BELLEVUE\, WA 98004\, Bellevue\, WA\, 98004\, United States
CATEGORIES:Tapster Bellevue
ATTACH;FMTTYPE=image/jpeg:https://tapstertastingroom.com/wp-content/uploads/2024/06/Tapster-Wine-Wednesday.jpg
END:VEVENT
BEGIN:VEVENT
DTSTART;TZID=UTC:20240821T070000
DTEND;TZID=UTC:20240821T210000
DTSTAMP:20260420T162039
CREATED:20240606T160145Z
LAST-MODIFIED:20240606T164201Z
UID:10009507-1724223600-1724274000@tapstertastingroom.com
SUMMARY:Tapster Bellevue Stir Up The Paint
DESCRIPTION:Stir Up The Paint\nTapster Bellevue\nWEDNESDAYS 7 – 9 pm\n21+ Event Only\nBook a Private Event with us
URL:https://tapstertastingroom.com/event/tapster-bellevue-stir-up-the-paint/2024-08-21/
LOCATION:Seattle: Bellevue\, 195 106TH AVE NE BELLEVUE\, WA 98004\, Bellevue\, WA\, 98004\, United States
CATEGORIES:Tapster Bellevue
ATTACH;FMTTYPE=image/jpeg:https://tapstertastingroom.com/wp-content/uploads/2024/06/Tapster-Painting-SipandPaint.jpg
END:VEVENT
BEGIN:VEVENT
DTSTART;TZID=UTC:20240827T070000
DTEND;TZID=UTC:20240827T210000
DTSTAMP:20260420T162039
CREATED:20240603T164922Z
LAST-MODIFIED:20240606T155805Z
UID:10008985-1724742000-1724792400@tapstertastingroom.com
SUMMARY:Tapster Bellevue Trivia Night
DESCRIPTION:Tapster: TRIVIA NIGHT\n\nTAPSTER EVERY TUESDAY NIGHT\n7 – 9PM\nFREE TO PLAY\nTOP 3 TEAMS GET A PRIZE
URL:https://tapstertastingroom.com/event/25377/2024-08-27/
LOCATION:Seattle: Bellevue\, 195 106TH AVE NE BELLEVUE\, WA 98004\, Bellevue\, WA\, 98004\, United States
CATEGORIES:Tapster Bellevue
ATTACH;FMTTYPE=image/webp:https://tapstertastingroom.com/wp-content/uploads/2024/06/BELLEVUE-trivia-night.webp
END:VEVENT
BEGIN:VEVENT
DTSTART;VALUE=DATE:20240828
DTEND;VALUE=DATE:20240829
DTSTAMP:20260420T162039
CREATED:20240606T163734Z
LAST-MODIFIED:20240606T163734Z
UID:10010293-1724803200-1724889599@tapstertastingroom.com
SUMMARY:Wine Wednesday Bellevue
DESCRIPTION:WINE WEDNESDAY @ Tapster Bellevue\nJust $1 an ounce for all wines on tap\nALL DAY!
URL:https://tapstertastingroom.com/event/wine-wednesday-bellevue/2024-08-28/
LOCATION:Seattle: Bellevue\, 195 106TH AVE NE BELLEVUE\, WA 98004\, Bellevue\, WA\, 98004\, United States
CATEGORIES:Tapster Bellevue
ATTACH;FMTTYPE=image/jpeg:https://tapstertastingroom.com/wp-content/uploads/2024/06/Tapster-Wine-Wednesday.jpg
END:VEVENT
BEGIN:VEVENT
DTSTART;TZID=UTC:20240828T070000
DTEND;TZID=UTC:20240828T210000
DTSTAMP:20260420T162039
CREATED:20240606T160145Z
LAST-MODIFIED:20240606T164201Z
UID:10009508-1724828400-1724878800@tapstertastingroom.com
SUMMARY:Tapster Bellevue Stir Up The Paint
DESCRIPTION:Stir Up The Paint\nTapster Bellevue\nWEDNESDAYS 7 – 9 pm\n21+ Event Only\nBook a Private Event with us
URL:https://tapstertastingroom.com/event/tapster-bellevue-stir-up-the-paint/2024-08-28/
LOCATION:Seattle: Bellevue\, 195 106TH AVE NE BELLEVUE\, WA 98004\, Bellevue\, WA\, 98004\, United States
CATEGORIES:Tapster Bellevue
ATTACH;FMTTYPE=image/jpeg:https://tapstertastingroom.com/wp-content/uploads/2024/06/Tapster-Painting-SipandPaint.jpg
END:VEVENT
END:VCALENDAR