BEGIN:VCALENDAR
VERSION:2.0
PRODID:-//Tapster - ECPv6.6.3//NONSGML v1.0//EN
CALSCALE:GREGORIAN
METHOD:PUBLISH
X-WR-CALNAME:Tapster
X-ORIGINAL-URL:https://tapstertastingroom.com
X-WR-CALDESC:Events for Tapster
REFRESH-INTERVAL;VALUE=DURATION:PT1H
X-Robots-Tag:noindex
X-PUBLISHED-TTL:PT1H
BEGIN:VTIMEZONE
TZID:UTC
BEGIN:STANDARD
TZOFFSETFROM:+0000
TZOFFSETTO:+0000
TZNAME:UTC
DTSTART:20240101T000000
END:STANDARD
TZID:America/Los_Angeles
BEGIN:DAYLIGHT
TZOFFSETFROM:-0800
TZOFFSETTO:-0700
TZNAME:PDT
DTSTART:20240310T100000
END:DAYLIGHT
BEGIN:STANDARD
TZOFFSETFROM:-0700
TZOFFSETTO:-0800
TZNAME:PST
DTSTART:20241103T090000
END:STANDARD
END:VTIMEZONE
BEGIN:VEVENT
DTSTART;TZID=UTC:20240604T070000
DTEND;TZID=UTC:20240604T210000
DTSTAMP:20260421T022458
CREATED:20240603T164922Z
LAST-MODIFIED:20240606T155805Z
UID:10008973-1717484400-1717534800@tapstertastingroom.com
SUMMARY:Tapster Bellevue Trivia Night
DESCRIPTION:Tapster: TRIVIA NIGHT\n\nTAPSTER EVERY TUESDAY NIGHT\n7 – 9PM\nFREE TO PLAY\nTOP 3 TEAMS GET A PRIZE
URL:https://tapstertastingroom.com/event/25377/2024-06-04/
LOCATION:Seattle: Bellevue\, 195 106TH AVE NE BELLEVUE\, WA 98004\, Bellevue\, WA\, 98004\, United States
CATEGORIES:Tapster Bellevue
ATTACH;FMTTYPE=image/webp:https://tapstertastingroom.com/wp-content/uploads/2024/06/BELLEVUE-trivia-night.webp
END:VEVENT
BEGIN:VEVENT
DTSTART;TZID=America/Los_Angeles:20240608T050000
DTEND;TZID=America/Los_Angeles:20240608T083000
DTSTAMP:20260421T022458
CREATED:20240606T162909Z
LAST-MODIFIED:20240606T180329Z
UID:10010546-1717822800-1717835400@tapstertastingroom.com
SUMMARY:Tapster Bellevue DJ Party
DESCRIPTION:DJ PARTY\nTapster Bellevue\nFRIDAY and SATURDAY 10pm  – 1:30 Am\nDJ Doc The Lion
URL:https://tapstertastingroom.com/event/tapster-bellevue-dj-party/2024-06-08/1/
LOCATION:Seattle: Bellevue\, 195 106TH AVE NE BELLEVUE\, WA 98004\, Bellevue\, WA\, 98004\, United States
CATEGORIES:Tapster Bellevue
ATTACH;FMTTYPE=image/jpeg:https://tapstertastingroom.com/wp-content/uploads/2024/06/Tapster-Bellevue-DJParty.jpg
END:VEVENT
BEGIN:VEVENT
DTSTART;TZID=America/Los_Angeles:20240608T223000
DTEND;TZID=America/Los_Angeles:20240609T013000
DTSTAMP:20260421T022458
CREATED:20240606T162909Z
LAST-MODIFIED:20240606T180329Z
UID:10010547-1717885800-1717896600@tapstertastingroom.com
SUMMARY:Tapster Bellevue DJ Party
DESCRIPTION:DJ PARTY\nTapster Bellevue\nFRIDAY and SATURDAY 10pm  – 1:30 Am\nDJ Doc The Lion
URL:https://tapstertastingroom.com/event/tapster-bellevue-dj-party/2024-06-08/2/
LOCATION:Seattle: Bellevue\, 195 106TH AVE NE BELLEVUE\, WA 98004\, Bellevue\, WA\, 98004\, United States
CATEGORIES:Tapster Bellevue
ATTACH;FMTTYPE=image/jpeg:https://tapstertastingroom.com/wp-content/uploads/2024/06/Tapster-Bellevue-DJParty.jpg
END:VEVENT
BEGIN:VEVENT
DTSTART;TZID=UTC:20240611T070000
DTEND;TZID=UTC:20240611T210000
DTSTAMP:20260421T022458
CREATED:20240603T164922Z
LAST-MODIFIED:20240606T155805Z
UID:10008974-1718089200-1718139600@tapstertastingroom.com
SUMMARY:Tapster Bellevue Trivia Night
DESCRIPTION:Tapster: TRIVIA NIGHT\n\nTAPSTER EVERY TUESDAY NIGHT\n7 – 9PM\nFREE TO PLAY\nTOP 3 TEAMS GET A PRIZE
URL:https://tapstertastingroom.com/event/25377/2024-06-11/
LOCATION:Seattle: Bellevue\, 195 106TH AVE NE BELLEVUE\, WA 98004\, Bellevue\, WA\, 98004\, United States
CATEGORIES:Tapster Bellevue
ATTACH;FMTTYPE=image/webp:https://tapstertastingroom.com/wp-content/uploads/2024/06/BELLEVUE-trivia-night.webp
END:VEVENT
BEGIN:VEVENT
DTSTART;VALUE=DATE:20240612
DTEND;VALUE=DATE:20240613
DTSTAMP:20260421T022458
CREATED:20240606T163734Z
LAST-MODIFIED:20240606T163734Z
UID:10010282-1718150400-1718236799@tapstertastingroom.com
SUMMARY:Wine Wednesday Bellevue
DESCRIPTION:WINE WEDNESDAY @ Tapster Bellevue\nJust $1 an ounce for all wines on tap\nALL DAY!
URL:https://tapstertastingroom.com/event/wine-wednesday-bellevue/2024-06-12/
LOCATION:Seattle: Bellevue\, 195 106TH AVE NE BELLEVUE\, WA 98004\, Bellevue\, WA\, 98004\, United States
CATEGORIES:Tapster Bellevue
ATTACH;FMTTYPE=image/jpeg:https://tapstertastingroom.com/wp-content/uploads/2024/06/Tapster-Wine-Wednesday.jpg
END:VEVENT
BEGIN:VEVENT
DTSTART;TZID=UTC:20240612T070000
DTEND;TZID=UTC:20240612T210000
DTSTAMP:20260421T022458
CREATED:20240606T160145Z
LAST-MODIFIED:20240606T164201Z
UID:10009497-1718175600-1718226000@tapstertastingroom.com
SUMMARY:Tapster Bellevue Stir Up The Paint
DESCRIPTION:Stir Up The Paint\nTapster Bellevue\nWEDNESDAYS 7 – 9 pm\n21+ Event Only\nBook a Private Event with us
URL:https://tapstertastingroom.com/event/tapster-bellevue-stir-up-the-paint/2024-06-12/
LOCATION:Seattle: Bellevue\, 195 106TH AVE NE BELLEVUE\, WA 98004\, Bellevue\, WA\, 98004\, United States
CATEGORIES:Tapster Bellevue
ATTACH;FMTTYPE=image/jpeg:https://tapstertastingroom.com/wp-content/uploads/2024/06/Tapster-Painting-SipandPaint.jpg
END:VEVENT
BEGIN:VEVENT
DTSTART;TZID=America/Los_Angeles:20240614T050000
DTEND;TZID=America/Los_Angeles:20240614T083000
DTSTAMP:20260421T022458
CREATED:20240606T162909Z
LAST-MODIFIED:20240606T180329Z
UID:10010548-1718341200-1718353800@tapstertastingroom.com
SUMMARY:Tapster Bellevue DJ Party
DESCRIPTION:DJ PARTY\nTapster Bellevue\nFRIDAY and SATURDAY 10pm  – 1:30 Am\nDJ Doc The Lion
URL:https://tapstertastingroom.com/event/tapster-bellevue-dj-party/2024-06-14/
LOCATION:Seattle: Bellevue\, 195 106TH AVE NE BELLEVUE\, WA 98004\, Bellevue\, WA\, 98004\, United States
CATEGORIES:Tapster Bellevue
ATTACH;FMTTYPE=image/jpeg:https://tapstertastingroom.com/wp-content/uploads/2024/06/Tapster-Bellevue-DJParty.jpg
END:VEVENT
BEGIN:VEVENT
DTSTART;TZID=UTC:20240618T070000
DTEND;TZID=UTC:20240618T210000
DTSTAMP:20260421T022458
CREATED:20240603T164922Z
LAST-MODIFIED:20240606T155805Z
UID:10008975-1718694000-1718744400@tapstertastingroom.com
SUMMARY:Tapster Bellevue Trivia Night
DESCRIPTION:Tapster: TRIVIA NIGHT\n\nTAPSTER EVERY TUESDAY NIGHT\n7 – 9PM\nFREE TO PLAY\nTOP 3 TEAMS GET A PRIZE
URL:https://tapstertastingroom.com/event/25377/2024-06-18/
LOCATION:Seattle: Bellevue\, 195 106TH AVE NE BELLEVUE\, WA 98004\, Bellevue\, WA\, 98004\, United States
CATEGORIES:Tapster Bellevue
ATTACH;FMTTYPE=image/webp:https://tapstertastingroom.com/wp-content/uploads/2024/06/BELLEVUE-trivia-night.webp
END:VEVENT
BEGIN:VEVENT
DTSTART;VALUE=DATE:20240619
DTEND;VALUE=DATE:20240620
DTSTAMP:20260421T022458
CREATED:20240606T163734Z
LAST-MODIFIED:20240606T163734Z
UID:10010283-1718755200-1718841599@tapstertastingroom.com
SUMMARY:Wine Wednesday Bellevue
DESCRIPTION:WINE WEDNESDAY @ Tapster Bellevue\nJust $1 an ounce for all wines on tap\nALL DAY!
URL:https://tapstertastingroom.com/event/wine-wednesday-bellevue/2024-06-19/
LOCATION:Seattle: Bellevue\, 195 106TH AVE NE BELLEVUE\, WA 98004\, Bellevue\, WA\, 98004\, United States
CATEGORIES:Tapster Bellevue
ATTACH;FMTTYPE=image/jpeg:https://tapstertastingroom.com/wp-content/uploads/2024/06/Tapster-Wine-Wednesday.jpg
END:VEVENT
BEGIN:VEVENT
DTSTART;TZID=UTC:20240619T070000
DTEND;TZID=UTC:20240619T210000
DTSTAMP:20260421T022458
CREATED:20240606T160145Z
LAST-MODIFIED:20240606T164201Z
UID:10009498-1718780400-1718830800@tapstertastingroom.com
SUMMARY:Tapster Bellevue Stir Up The Paint
DESCRIPTION:Stir Up The Paint\nTapster Bellevue\nWEDNESDAYS 7 – 9 pm\n21+ Event Only\nBook a Private Event with us
URL:https://tapstertastingroom.com/event/tapster-bellevue-stir-up-the-paint/2024-06-19/
LOCATION:Seattle: Bellevue\, 195 106TH AVE NE BELLEVUE\, WA 98004\, Bellevue\, WA\, 98004\, United States
CATEGORIES:Tapster Bellevue
ATTACH;FMTTYPE=image/jpeg:https://tapstertastingroom.com/wp-content/uploads/2024/06/Tapster-Painting-SipandPaint.jpg
END:VEVENT
BEGIN:VEVENT
DTSTART;TZID=America/Los_Angeles:20240621T050000
DTEND;TZID=America/Los_Angeles:20240621T083000
DTSTAMP:20260421T022458
CREATED:20240606T162909Z
LAST-MODIFIED:20240606T180329Z
UID:10010549-1718946000-1718958600@tapstertastingroom.com
SUMMARY:Tapster Bellevue DJ Party
DESCRIPTION:DJ PARTY\nTapster Bellevue\nFRIDAY and SATURDAY 10pm  – 1:30 Am\nDJ Doc The Lion
URL:https://tapstertastingroom.com/event/tapster-bellevue-dj-party/2024-06-21/
LOCATION:Seattle: Bellevue\, 195 106TH AVE NE BELLEVUE\, WA 98004\, Bellevue\, WA\, 98004\, United States
CATEGORIES:Tapster Bellevue
ATTACH;FMTTYPE=image/jpeg:https://tapstertastingroom.com/wp-content/uploads/2024/06/Tapster-Bellevue-DJParty.jpg
END:VEVENT
BEGIN:VEVENT
DTSTART;TZID=UTC:20240625T070000
DTEND;TZID=UTC:20240625T210000
DTSTAMP:20260421T022458
CREATED:20240603T164922Z
LAST-MODIFIED:20240606T155805Z
UID:10008976-1719298800-1719349200@tapstertastingroom.com
SUMMARY:Tapster Bellevue Trivia Night
DESCRIPTION:Tapster: TRIVIA NIGHT\n\nTAPSTER EVERY TUESDAY NIGHT\n7 – 9PM\nFREE TO PLAY\nTOP 3 TEAMS GET A PRIZE
URL:https://tapstertastingroom.com/event/25377/2024-06-25/
LOCATION:Seattle: Bellevue\, 195 106TH AVE NE BELLEVUE\, WA 98004\, Bellevue\, WA\, 98004\, United States
CATEGORIES:Tapster Bellevue
ATTACH;FMTTYPE=image/webp:https://tapstertastingroom.com/wp-content/uploads/2024/06/BELLEVUE-trivia-night.webp
END:VEVENT
BEGIN:VEVENT
DTSTART;VALUE=DATE:20240626
DTEND;VALUE=DATE:20240627
DTSTAMP:20260421T022458
CREATED:20240606T163734Z
LAST-MODIFIED:20240606T163734Z
UID:10010284-1719360000-1719446399@tapstertastingroom.com
SUMMARY:Wine Wednesday Bellevue
DESCRIPTION:WINE WEDNESDAY @ Tapster Bellevue\nJust $1 an ounce for all wines on tap\nALL DAY!
URL:https://tapstertastingroom.com/event/wine-wednesday-bellevue/2024-06-26/
LOCATION:Seattle: Bellevue\, 195 106TH AVE NE BELLEVUE\, WA 98004\, Bellevue\, WA\, 98004\, United States
CATEGORIES:Tapster Bellevue
ATTACH;FMTTYPE=image/jpeg:https://tapstertastingroom.com/wp-content/uploads/2024/06/Tapster-Wine-Wednesday.jpg
END:VEVENT
BEGIN:VEVENT
DTSTART;TZID=UTC:20240626T070000
DTEND;TZID=UTC:20240626T210000
DTSTAMP:20260421T022458
CREATED:20240606T160145Z
LAST-MODIFIED:20240606T164201Z
UID:10009499-1719385200-1719435600@tapstertastingroom.com
SUMMARY:Tapster Bellevue Stir Up The Paint
DESCRIPTION:Stir Up The Paint\nTapster Bellevue\nWEDNESDAYS 7 – 9 pm\n21+ Event Only\nBook a Private Event with us
URL:https://tapstertastingroom.com/event/tapster-bellevue-stir-up-the-paint/2024-06-26/
LOCATION:Seattle: Bellevue\, 195 106TH AVE NE BELLEVUE\, WA 98004\, Bellevue\, WA\, 98004\, United States
CATEGORIES:Tapster Bellevue
ATTACH;FMTTYPE=image/jpeg:https://tapstertastingroom.com/wp-content/uploads/2024/06/Tapster-Painting-SipandPaint.jpg
END:VEVENT
BEGIN:VEVENT
DTSTART;TZID=America/Los_Angeles:20240628T050000
DTEND;TZID=America/Los_Angeles:20240628T083000
DTSTAMP:20260421T022458
CREATED:20240606T162909Z
LAST-MODIFIED:20240606T180329Z
UID:10010550-1719550800-1719563400@tapstertastingroom.com
SUMMARY:Tapster Bellevue DJ Party
DESCRIPTION:DJ PARTY\nTapster Bellevue\nFRIDAY and SATURDAY 10pm  – 1:30 Am\nDJ Doc The Lion
URL:https://tapstertastingroom.com/event/tapster-bellevue-dj-party/2024-06-28/
LOCATION:Seattle: Bellevue\, 195 106TH AVE NE BELLEVUE\, WA 98004\, Bellevue\, WA\, 98004\, United States
CATEGORIES:Tapster Bellevue
ATTACH;FMTTYPE=image/jpeg:https://tapstertastingroom.com/wp-content/uploads/2024/06/Tapster-Bellevue-DJParty.jpg
END:VEVENT
END:VCALENDAR